{"text_format":"1","workbook":"xlsx","n_sheets":9,"sheets":["Feuil1","Feuil2","Feuil3","Feuil4","دخـــــــــــول","Feuil6","Feuil7","Feuil8","Feuil9"],"not_rendered":{"charts":0,"images":10,"macros":1,"external_links":0,"defined_names":4,"comments":0,"pivot_tables":0},"unopened":[],"bounds":{"document_bytes":16777216,"sheet_cells":100000,"rows_first":2000,"rows_last":500,"rows_between":2000,"halvings":0,"cell_chars":16384,"cell_head_chars":4096},"cells_cut":0,"cells_raw":0,"read":"whole","date_system":"1900"}

{"sheet":"Feuil1","index":0,"n_rows":38,"n_cols":8,"rows_kept":38,"cut":false,"hidden":false,"merged":[[33,4,33,6],[33,0,33,2],[31,5,31,6],[21,1,21,2],[22,1,22,2],[23,1,23,2],[24,1,24,2],[25,1,25,2],[26,1,26,2],[27,1,27,2],[28,1,28,2],[29,1,29,2],[30,1,30,2],[31,1,31,2],[26,5,26,6],[27,5,27,6],[21,5,21,6],[22,5,22,6],[23,5,23,6],[24,5,24,6],[25,5,25,6],[0,0,0,6],[6,5,6,6],[7,5,7,6],[8,5,8,6],[6,1,6,2],[7,1,7,2],[4,0,4,6],[5,3,5,6],[5,0,5,2],[5,10,5,13],[1,0,1,6],[2,0,2,6],[3,0,3,6],[15,5,15,6],[10,5,10,6],[10,1,10,3],[12,5,12,6],[13,5,13,6],[14,5,14,6],[12,1,12,2],[13,1,13,2],[14,1,14,2],[15,1,15,2],[9,5,9,6],[9,1,9,2],[35,5,35,6],[36,5,36,6],[37,1,37,2],[16,5,16,6],[17,5,17,6],[18,5,18,6],[19,5,19,6],[20,5,20,6],[17,1,17,2],[18,1,18,2],[19,1,19,2],[20,1,20,2],[16,1,16,2],[28,5,28,6],[29,5,29,6],[30,5,30,6]]}
["الجمهورية الجزائرية الديمقراطية الشعبية"]
[{"$f":"Feuil2!J2","v":"وزارة التربية الوطنية "}]
[{"$f":"Feuil2!H2","v":"مديرية التربية "}]
[{"$f":"Feuil2!G2","v":"مديرية التربية "}]
["كشف الراتب لشهر:"]
[{"$f":"VLOOKUP(A10,Feuil4!J2:AM200,30,FALSE)","v":2014},null,null,{"$f":"VLOOKUP(A10,Feuil4!J2:AL200,29,FALSE)","v":"فيفري"}]
[{"$f":"VLOOKUP(A10,Feuil4!B2:H200,7,FALSE)","v":"أعزب"},"الحالة العائلية",null,null,{"$f":"VLOOKUP(A10,Feuil4!B2:C200,2,FALSE)","v":"شريف"},"الاســـــــــــــــــم"]
[{"$f":"VLOOKUP(A10,Feuil4!B2:I200,8,FALSE)","v":12},"الدرجـــــــــة",null,null,{"$f":"VLOOKUP(A10,Feuil4!B2:D200,3,FALSE)","v":"عرابة"},"اللقــــــــــــــــــب"]
[null,null,null,null,{"$f":"VLOOKUP(A10,Feuil4!B2:E200,4,FALSE)","v":13},"الصـــــــــــــــنف"]
[{"$f":"دخـــــــــــول!D19","v":1020},"رقم الحساب",null,null,{"$f":"VLOOKUP(A10,Feuil4!B2:F200,5,FALSE)","v":"طب"},"الإطــــــــــــــــــار"]
[null,null,null,null,{"$f":"VLOOKUP(A10,Feuil4!B2:G200,6,FALSE)","v":14},"القســــــــــــــــــم"]
[]
["المبالغ","الاقتطاعات",null,null,"المبالغ","المنح",null,"/"]
[{"$f":"VLOOKUP(A10,Feuil4!J2:AC200,20,FALSE)","v":1000},{"$f":"IF(A14<>0,Feuil2!E2,H13)","v":"yynynynyn"},null,null,{"$f":"VLOOKUP(A10,Feuil4!J2:K200,2,FALSE)","v":12000},{"$f":"IF(E14<>0,Feuil2!B2,H13)","v":"ujujuj"},null,"/"]
[{"$f":"VLOOKUP(A10,Feuil4!J2:AD200,21,FALSE)","v":2000},{"$f":"IF(A15<>0,Feuil2!E3,H14)","v":"nununu"},null,null,{"$f":"VLOOKUP(A10,Feuil4!J2:L200,3,FALSE)","v":20000},{"$f":"IF(E15<>0,Feuil2!B3,H14)","v":"uj-uju-j"},null,"/"]
[{"$f":"VLOOKUP(A10,Feuil4!J2:AE200,22,FALSE)","v":0},{"$f":"IF(A16<>0,Feuil2!E4,H15)","v":"/"},null,null,{"$f":"VLOOKUP(A10,Feuil4!J2:M11,4,FALSE)","v":25000},{"$f":"IF(E16<>0,Feuil2!B4,H15)","v":"-jrtgth"},null,"/"]
[{"$f":"VLOOKUP(A10,Feuil4!J2:AF200,23,FALSE)","v":0},{"$f":"IF(A17<>0,Feuil2!E5,H16)","v":"/"},null,null,{"$f":"VLOOKUP(A10,Feuil4!J2:N200,5,FALSE)","v":0},{"$f":"IF(E17<>0,Feuil2!B5,H16)","v":"/"},null,"/"]
[{"$f":"VLOOKUP(A10,Feuil4!J2:AG200,24,FALSE)","v":0},{"$f":"IF(A18<>0,Feuil2!E6,H17)","v":"/"},null,null,{"$f":"VLOOKUP(A10,Feuil4!J2:O200,6,FALSE)","v":0},{"$f":"IF(E18<>0,Feuil2!B6,H17)","v":"/"},null,"/"]
[{"$f":"VLOOKUP(A10,Feuil4!J2:AH200,25,FALSE)","v":0},{"$f":"IF(A19<>0,Feuil2!E7,H18)","v":"/"},null,null,{"$f":"VLOOKUP(A10,Feuil4!J2:P200,7,FALSE)","v":0},{"$f":"IF(E19<>0,Feuil2!B7,H18)","v":"/"},null,"/"]
[{"$f":"VLOOKUP(A10,Feuil4!J2:AI200,26,FALSE)","v":0},{"$f":"IF(A20<>0,Feuil2!E8,H19)","v":"/"},null,null,{"$f":"VLOOKUP(A10,Feuil4!J2:Q200,8,FALSE)","v":0},{"$f":"IF(E20<>0,Feuil2!B8,H19)","v":"/"},null,"/"]
[{"$f":"VLOOKUP(A10,Feuil4!J2:AJ200,27,FALSE)","v":0},{"$f":"IF(A21<>0,Feuil2!E9,H20)","v":"/"},null,null,{"$f":"VLOOKUP(A10,Feuil4!J2:R202,9,FALSE)","v":0},{"$f":"IF(E21<>0,Feuil2!B9,H20)","v":"/"},null,"/"]
[null,null,null,null,{"$f":"VLOOKUP(A10,Feuil4!J2:S200,10,FALSE)","v":0},{"$f":"IF(E22<>0,Feuil2!B10,H21)","v":"/"},null,"/"]
[null,null,null,null,{"$f":"VLOOKUP(A10,Feuil4!J2:T200,11,FALSE)","v":0},{"$f":"IF(E23<>0,Feuil2!B11,H22)","v":"/"},null,"/"]
[null,null,null,null,{"$f":"VLOOKUP(A10,Feuil4!J2:U200,12,FALSE)","v":30000},{"$f":"IF(E24<>0,Feuil2!B12,H23)","v":0},null,"/"]
[null,null,null,null,{"$f":"VLOOKUP(A10,Feuil4!J2:V200,13,FALSE)","v":40000},{"$f":"IF(E25<>0,Feuil2!B13,H24)","v":0},null,"/"]
[null,null,null,null,{"$f":"VLOOKUP(A10,Feuil4!J2:W200,14,FALSE)","v":30000},{"$f":"IF(E26<>0,Feuil2!B14,H25)","v":0},null,"/"]
[null,null,null,null,{"$f":"VLOOKUP(A10,Feuil4!J2:X200,15,FALSE)","v":30000},{"$f":"IF(E27<>0,Feuil2!B15,H26)","v":0},null,"/"]
[null,null,null,null,{"$f":"VLOOKUP(A10,Feuil4!J2:Y200,16,FALSE)","v":0},{"$f":"IF(E28<>0,Feuil2!B16,H27)","v":"/"},null,"/"]
[null,null,null,null,{"$f":"VLOOKUP(A10,Feuil4!J2:Z200,17,FALSE)","v":0},{"$f":"IF(E29<>0,Feuil2!B17,H28)","v":"/"},null,"/"]
[null,null,null,null,{"$f":"VLOOKUP(A10,Feuil4!J2:AA200,18,FALSE)","v":0},{"$f":"IF(E30<>0,Feuil2!B18,H29)","v":"/"},null,"/"]
[null,null,null,null,{"$f":"VLOOKUP(A10,Feuil4!J2:AB200,19,FALSE)","v":0},{"$f":"IF(E31<>0,Feuil2!B19,H30)","v":"/"}]
[{"$f":"SUM(A14:A31)","v":3000},"مجمل الاقتطاعات",null,null,{"$f":"SUM(E14:E31)","v":187000},"المجموع الخام"]
[]
[{"$f":"E32-A32","v":184000},null,null,null,"الراتب الشهري الصافي"]
[]
[null,null,null,null,null,"المقتصد"]
[null,null,null,null,null,{"$f":"Feuil2!I2","v":"عرابة شريف"}]
[null,{"$f":"VLOOKUP(A10,Feuil4!J2:AN200,31,FALSE)","v":"2013-01-11"}]

{"sheet":"Feuil2","index":1,"n_rows":33,"n_cols":10,"rows_kept":33,"cut":false,"hidden":false,"merged":[]}
["الرقم","المنحة",null,"الرقم ","الاقتطاع",null,"المؤسسة","الجهة الوصية","المقتصد","الوزارة"]
[1,"ujujuj",null,1,"yynynynyn",null,"مديرية التربية ","مديرية التربية ","عرابة شريف","وزارة التربية الوطنية "]
[2,"uj-uju-j",null,2,"nununu"]
[3,"-jrtgth",null,3]
[4]
[]
[]
[]
[]
[]
[]
[null,null,null,null,null,null,{"$f":"MAX(A2:A19)","v":4},{"$f":"MAX(D2:D11)","v":3}]
[null,null,null,null,"لا تتجاوز الحد الاسود"]
[]
[]
[]
[]
[]
[]
[]
[]
[]
[]
[]
[]
[]
[]
[]
[]
[]
[]
[]
[{"$f":"MAX(A2:A17)","v":4},null,null,{"$f":"MAX(D2:D32)","v":3}]

{"sheet":"Feuil3","index":2,"n_rows":12,"n_cols":11,"rows_kept":12,"cut":false,"hidden":false,"merged":[]}
["الرقم","الاسم","اللقب","الصنف","الاطار","القسم","الحالة العائلية","الدرجة","رقم الحساب"]
[1,"شريف","عرابة",13,"طب",14,"أعزب",12,1020]
[2,"خالد","اقتلقل",6,"لاىتات",2,"متزوج",12,1000]
[3,"تجريب","البرنامج",12,"استاذ",12,"متزوج",2,1230]
[4]
[]
[]
[]
[]
[]
[]
[null,null,null,null,null,null,null,null,null,null,{"$f":"MAX(Tableau1[الرقم])","v":4}]

{"sheet":"Feuil4","index":3,"n_rows":211,"n_cols":66,"rows_kept":211,"cut":false,"hidden":false,"merged":[]}
["الرقم","رقم الحساب",{"$f":"Feuil3!B1","v":"الاسم"},{"$f":"Feuil3!C1","v":"اللقب"},{"$f":"Feuil3!D1","v":"الصنف"},{"$f":"Feuil3!E1","v":"الاطار"},{"$f":"Feuil3!F1","v":"القسم"},{"$f":"Feuil3!G1","v":"الحالة العائلية"},{"$f":"Feuil3!H1","v":"الدرجة"},{"$f":"Feuil3!I1","v":"رقم الحساب"},20100,1500,2000,{"$f":"Feuil2!B5","v":0},{"$f":"Feuil2!B6","v":0},{"$f":"Feuil2!B7","v":0},{"$f":"Feuil2!B8","v":0},{"$f":"Feuil2!B9","v":0},{"$f":"Feuil2!B10","v":0},{"$f":"Feuil2!B11","v":0},{"$f":"Feuil2!B12","v":0},{"$f":"Feuil2!B13","v":0},{"$f":"Feuil2!B14","v":0},{"$f":"Feuil2!B15","v":0},{"$f":"Feuil2!B16","v":0},{"$f":"Feuil2!B17","v":0},{"$f":"Feuil2!B18","v":0},{"$f":"Feuil2!B19","v":0},1500,350,{"$f":"Feuil2!E4","v":0},{"$f":"Feuil2!E5","v":0},{"$f":"Feuil2!E6","v":0},{"$f":"Feuil2!E7","v":0},{"$f":"Feuil2!E8","v":0},{"$f":"Feuil2!E9","v":0},{"$f":"Feuil2!E10","v":0},"اكتوبر",2013,"27/10/2013","رقم الموظف المدخل","val_resul","val_cher","Max"]
[{"$f":"Feuil3!A2","v":1},{"$f":"Tableau1[[#This Row],[رقم الحساب]]","v":1020},{"$f":"Feuil3!B2","v":"شريف"},{"$f":"Feuil3!C2","v":"عرابة"},{"$f":"Feuil3!D2","v":13},{"$f":"Feuil3!E2","v":"طب"},{"$f":"Feuil3!F2","v":14},{"$f":"Feuil3!G2","v":"أعزب"},{"$f":"Feuil3!H2","v":12},{"$f":"Feuil3!I2","v":1020},12000,20000,25000,null,null,null,null,null,null,null,30000,40000,30000,30000,null,null,null,null,1000,2000,null,null,null,null,null,null,null,"فيفري",2014,"2013-01-11",{"$f":"A2","v":1},{"$f":"VLOOKUP(AQ2,Feuil4!J2:AO200,32,FALSE)","v":4},null,{"$f":"MAX(A2:A210)","v":4},null,null,null,null,null,null,null,null,null,null,null,null,null,null,null,null,null,null,"الاسم","رقم الموظف","اللقب","الاسم واللقب"]
[{"$f":"Feuil3!A3","v":2},{"$f":"Tableau1[[#This Row],[رقم الحساب]]","v":1000},{"$f":"Feuil3!B3","v":"خالد"},{"$f":"Feuil3!C3","v":"اقتلقل"},{"$f":"Feuil3!D3","v":6},{"$f":"Feuil3!E3","v":"لاىتات"},{"$f":"Feuil3!F3","v":2},{"$f":"Feuil3!G3","v":"متزوج"},{"$f":"Feuil3!H3","v":12},{"$f":"Feuil3!I3","v":1000},1,2,3,4,5,6,7,8,9,10,11,12,13,14,null,null,null,null,15,16,17,18,null,null,null,null,null,"مارس",2016,null,{"$f":"A3","v":2},null,null,null,null,null,null,null,null,null,null,null,null,null,null,null,null,null,null,null,null,null,{"$f":"VLOOKUP(BL3,Feuil4!A2:C200,3,FALSE)","v":"شريف"},1,{"$f":"VLOOKUP(BL3,Feuil4!A2:D200,4,FALSE)","v":"عرابة"},{"$f":"Feuil4!BM3&\"  \"&Feuil4!BK3","v":"عرابة  شريف"}]
[3,{"$f":"Tableau1[[#This Row],[رقم الحساب]]","v":1230},{"$f":"Feuil3!B4","v":"تجريب"},{"$f":"Feuil3!C4","v":"البرنامج"},{"$f":"Feuil3!D4","v":12},{"$f":"Feuil3!E4","v":"استاذ"},{"$f":"Feuil3!F4","v":12},{"$f":"Feuil3!G4","v":"متزوج"},{"$f":"Feuil3!H4","v":2},{"$f":"Feuil3!I4","v":1230},12000,14000,16000,18000,20000,22000,24000,26000,28000,30000,32000,34000,36000,38000,null,null,null,null,40000,42000,44000,46000,48000,50000,52000,54000,56000,"جويلية",2017,"14/11/2013",3,null,null,null,null,null,null,null,null,null,null,null,null,null,null,null,null,null,null,2,1,4]
[{"$f":"Feuil3!A5","v":4},{"$f":"Tableau1[[#This Row],[رقم الحساب]]","v":0},{"$f":"Feuil3!B5","v":0},{"$f":"Feuil3!C5","v":0},{"$f":"Feuil3!D5","v":0},{"$f":"Feuil3!E5","v":0},{"$f":"Feuil3!F5","v":0},{"$f":"Feuil3!G5","v":0},{"$f":"Feuil3!H5","v":0},{"$f":"Feuil3!I5","v":0},null,null,null,null,null,null,null,null,null,null,null,null,null,null,null,null,null,null,null,null,null,null,null,null,null,null,null,"جانفي","Label30","2013-11-12",4]
[{"$f":"Feuil3!A6","v":0},{"$f":"Tableau1[[#This Row],[رقم الحساب]]","v":{"$error":"#VALUE!"}},{"$f":"Feuil3!B6","v":0},{"$f":"Feuil3!C6","v":0},{"$f":"Feuil3!D6","v":0},{"$f":"Feuil3!E6","v":0},{"$f":"Feuil3!F6","v":0},{"$f":"Feuil3!G6","v":0},{"$f":"Feuil3!H6","v":0},{"$f":"Feuil3!I6","v":0},1,2,3,null,5,6,7,8,9,10,11,12,13,14,null,null,null,null,null,null,null,null,null,null,null,null,null,null,"Label30","2013-01-11",0]
[{"$f":"Feuil3!A7","v":0},{"$f":"Tableau1[[#This Row],[رقم الحساب]]","v":{"$error":"#VALUE!"}},{"$f":"Feuil3!B7","v":0},{"$f":"Feuil3!C7","v":0},{"$f":"Feuil3!D7","v":0},{"$f":"Feuil3!E7","v":0},{"$f":"Feuil3!F7","v":0},{"$f":"Feuil3!G7","v":0},{"$f":"Feuil3!H7","v":0},{"$f":"Feuil3!I7","v":0},null,null,null,null,null,null,null,null,null,null,null,null,null,null,null,null,null,null,null,null,null,null,null,null,null,null,null,null,"Label30","2013-05-11",0]
[{"$f":"Feuil3!A8","v":0},{"$f":"Tableau1[[#This Row],[رقم الحساب]]","v":{"$error":"#VALUE!"}},{"$f":"Feuil3!B8","v":0},{"$f":"Feuil3!C8","v":0},{"$f":"Feuil3!D8","v":0},{"$f":"Feuil3!E8","v":0},{"$f":"Feuil3!F8","v":0},{"$f":"Feuil3!G8","v":0},{"$f":"Feuil3!H8","v":0},{"$f":"Feuil3!I8","v":0},null,null,null,null,null,null,null,null,null,null,null,null,null,null,null,null,null,null,null,null,null,null,null,null,null,null,null,null,"Label30","2013-05-11",0]
[{"$f":"Feuil3!A9","v":0},{"$f":"Tableau1[[#This Row],[رقم الحساب]]","v":{"$error":"#VALUE!"}},{"$f":"Feuil3!B9","v":0},{"$f":"Feuil3!C9","v":0},{"$f":"Feuil3!D9","v":0},{"$f":"Feuil3!E9","v":0},{"$f":"Feuil3!F9","v":0},{"$f":"Feuil3!G9","v":0},{"$f":"Feuil3!H9","v":0},{"$f":"Feuil3!I9","v":0},null,null,null,null,null,null,null,null,null,null,null,null,null,null,null,null,null,null,null,null,null,null,null,null,null,null,null,null,null,null,0]
[{"$f":"Feuil3!A10","v":0},{"$f":"Tableau1[[#This Row],[رقم الحساب]]","v":{"$error":"#VALUE!"}},{"$f":"Feuil3!B10","v":0},{"$f":"Feuil3!C10","v":0},{"$f":"Feuil3!D10","v":0},{"$f":"Feuil3!E10","v":0},{"$f":"Feuil3!F10","v":0},{"$f":"Feuil3!G10","v":0},{"$f":"Feuil3!H10","v":0},{"$f":"Feuil3!I10","v":0},null,null,null,null,null,null,null,null,null,null,null,null,null,null,null,null,null,null,null,null,null,null,null,null,null,null,null,null,null,null,0]
[{"$f":"Feuil3!A11","v":0},{"$f":"Tableau1[[#This Row],[رقم الحساب]]","v":{"$error":"#VALUE!"}},{"$f":"Feuil3!B11","v":0},{"$f":"Feuil3!C11","v":0},{"$f":"Feuil3!D11","v":0},{"$f":"Feuil3!E11","v":0},{"$f":"Feuil3!F11","v":0},{"$f":"Feuil3!G11","v":0},{"$f":"Feuil3!H11","v":0},{"$f":"Feuil3!I11","v":0},null,null,null,null,null,null,null,null,null,null,null,null,null,null,null,null,null,null,null,null,null,null,null,null,null,null,null,null,null,null,0]
[{"$f":"Feuil3!A12","v":0},{"$f":"Tableau1[[#This Row],[رقم الحساب]]","v":{"$error":"#VALUE!"}},{"$f":"Feuil3!B12","v":0},{"$f":"Feuil3!C12","v":0},{"$f":"Feuil3!D12","v":0},{"$f":"Feuil3!E12","v":0},{"$f":"Feuil3!F12","v":0},{"$f":"Feuil3!G12","v":0},{"$f":"Feuil3!H12","v":0},{"$f":"Feuil3!I12","v":0},null,null,null,null,null,null,null,null,null,null,null,null,null,null,null,null,null,null,null,null,null,null,null,null,null,null,null,null,null,null,0]
[{"$f":"Feuil3!A13","v":0},{"$f":"Tableau1[[#This Row],[رقم الحساب]]","v":{"$error":"#VALUE!"}},{"$f":"Feuil3!B13","v":0},{"$f":"Feuil3!C13","v":0},{"$f":"Feuil3!D13","v":0},{"$f":"Feuil3!E13","v":0},{"$f":"Feuil3!F13","v":0},{"$f":"Feuil3!G13","v":0},{"$f":"Feuil3!H13","v":0},{"$f":"Feuil3!I13","v":0},null,null,null,null,null,null,null,null,null,null,null,null,null,null,null,null,null,null,null,null,null,null,null,null,null,null,null,null,null,null,0]
[{"$f":"Feuil3!A14","v":0},{"$f":"Tableau1[[#This Row],[رقم الحساب]]","v":{"$error":"#VALUE!"}},{"$f":"Feuil3!B14","v":0},{"$f":"Feuil3!C14","v":0},{"$f":"Feuil3!D14","v":0},{"$f":"Feuil3!E14","v":0},{"$f":"Feuil3!F14","v":0},{"$f":"Feuil3!G14","v":0},{"$f":"Feuil3!H14","v":0},{"$f":"Feuil3!I14","v":0},null,null,null,null,null,null,null,null,null,null,null,null,null,null,null,null,null,null,null,null,null,null,null,null,null,null,null,null,null,null,0]
[{"$f":"Feuil3!A15","v":0},{"$f":"Tableau1[[#This Row],[رقم الحساب]]","v":{"$error":"#VALUE!"}},{"$f":"Feuil3!B15","v":0},{"$f":"Feuil3!C15","v":0},{"$f":"Feuil3!D15","v":0},{"$f":"Feuil3!E15","v":0},{"$f":"Feuil3!F15","v":0},{"$f":"Feuil3!G15","v":0},{"$f":"Feuil3!H15","v":0},{"$f":"Feuil3!I15","v":0},null,null,null,null,null,null,null,null,null,null,null,null,null,null,null,null,null,null,null,null,null,null,null,null,null,null,null,null,null,null,0]
[{"$f":"Feuil3!A16","v":0},{"$f":"Tableau1[[#This Row],[رقم الحساب]]","v":{"$error":"#VALUE!"}},{"$f":"Feuil3!B16","v":0},{"$f":"Feuil3!C16","v":0},{"$f":"Feuil3!D16","v":0},{"$f":"Feuil3!E16","v":0},{"$f":"Feuil3!F16","v":0},{"$f":"Feuil3!G16","v":0},{"$f":"Feuil3!H16","v":0},{"$f":"Feuil3!I16","v":0},null,null,null,null,null,null,null,null,null,null,null,null,null,null,null,null,null,null,null,null,null,null,null,null,null,null,null,null,null,null,0]
[{"$f":"Feuil3!A17","v":0},{"$f":"Tableau1[[#This Row],[رقم الحساب]]","v":{"$error":"#VALUE!"}},{"$f":"Feuil3!B17","v":0},{"$f":"Feuil3!C17","v":0},{"$f":"Feuil3!D17","v":0},{"$f":"Feuil3!E17","v":0},{"$f":"Feuil3!F17","v":0},{"$f":"Feuil3!G17","v":0},{"$f":"Feuil3!H17","v":0},{"$f":"Feuil3!I17","v":0},null,null,null,null,null,null,null,null,null,null,null,null,null,null,null,null,null,null,null,null,null,null,null,null,null,null,null,null,null,null,0]
[{"$f":"Feuil3!A18","v":0},{"$f":"Tableau1[[#This Row],[رقم الحساب]]","v":{"$error":"#VALUE!"}},{"$f":"Feuil3!B18","v":0},{"$f":"Feuil3!C18","v":0},{"$f":"Feuil3!D18","v":0},{"$f":"Feuil3!E18","v":0},{"$f":"Feuil3!F18","v":0},{"$f":"Feuil3!G18","v":0},{"$f":"Feuil3!H18","v":0},{"$f":"Feuil3!I18","v":0},null,null,null,null,null,null,null,null,null,null,null,null,null,null,null,null,null,null,null,null,null,null,null,null,null,null,null,null,null,null,0]
[{"$f":"Feuil3!A19","v":0},{"$f":"Tableau1[[#This Row],[رقم الحساب]]","v":{"$error":"#VALUE!"}},{"$f":"Feuil3!B19","v":0},{"$f":"Feuil3!C19","v":0},{"$f":"Feuil3!D19","v":0},{"$f":"Feuil3!E19","v":0},{"$f":"Feuil3!F19","v":0},{"$f":"Feuil3!G19","v":0},{"$f":"Feuil3!H19","v":0},{"$f":"Feuil3!I19","v":0},null,null,null,null,null,null,null,null,null,null,null,null,null,null,null,null,null,null,null,null,null,null,null,null,null,null,null,null,null,null,0]
[{"$f":"Feuil3!A20","v":0},{"$f":"Tableau1[[#This Row],[رقم الحساب]]","v":{"$error":"#VALUE!"}},{"$f":"Feuil3!B20","v":0},{"$f":"Feuil3!C20","v":0},{"$f":"Feuil3!D20","v":0},{"$f":"Feuil3!E20","v":0},{"$f":"Feuil3!F20","v":0},{"$f":"Feuil3!G20","v":0},{"$f":"Feuil3!H20","v":0},{"$f":"Feuil3!I20","v":0},null,null,null,null,null,null,null,null,null,null,null,null,null,null,null,null,null,null,null,null,null,null,null,null,null,null,null,null,null,null,0]
[{"$f":"Feuil3!A21","v":0},{"$f":"Tableau1[[#This Row],[رقم الحساب]]","v":{"$error":"#VALUE!"}},{"$f":"Feuil3!B21","v":0},{"$f":"Feuil3!C21","v":0},{"$f":"Feuil3!D21","v":0},{"$f":"Feuil3!E21","v":0},{"$f":"Feuil3!F21","v":0},{"$f":"Feuil3!G21","v":0},{"$f":"Feuil3!H21","v":0},{"$f":"Feuil3!I21","v":0},null,null,null,null,null,null,null,null,null,null,null,null,null,null,null,null,null,null,null,null,null,null,null,null,null,null,null,null,null,null,0]
[{"$f":"Feuil3!A22","v":0},{"$f":"Tableau1[[#This Row],[رقم الحساب]]","v":{"$error":"#VALUE!"}},{"$f":"Feuil3!B22","v":0},{"$f":"Feuil3!C22","v":0},{"$f":"Feuil3!D22","v":0},{"$f":"Feuil3!E22","v":0},{"$f":"Feuil3!F22","v":0},{"$f":"Feuil3!G22","v":0},{"$f":"Feuil3!H22","v":0},{"$f":"Feuil3!I22","v":0},null,null,null,null,null,null,null,null,null,null,null,null,null,null,null,null,null,null,null,null,null,null,null,null,null,null,null,null,null,null,0]
[{"$f":"Feuil3!A23","v":0},{"$f":"Tableau1[[#This Row],[رقم الحساب]]","v":{"$error":"#VALUE!"}},{"$f":"Feuil3!B23","v":0},{"$f":"Feuil3!C23","v":0},{"$f":"Feuil3!D23","v":0},{"$f":"Feuil3!E23","v":0},{"$f":"Feuil3!F23","v":0},{"$f":"Feuil3!G23","v":0},{"$f":"Feuil3!H23","v":0},{"$f":"Feuil3!I23","v":0},null,null,null,null,null,null,null,null,null,null,null,null,null,null,null,null,null,null,null,null,null,null,null,null,null,null,null,null,null,null,0]
[{"$f":"Feuil3!A24","v":0},{"$f":"Tableau1[[#This Row],[رقم الحساب]]","v":{"$error":"#VALUE!"}},{"$f":"Feuil3!B24","v":0},{"$f":"Feuil3!C24","v":0},{"$f":"Feuil3!D24","v":0},{"$f":"Feuil3!E24","v":0},{"$f":"Feuil3!F24","v":0},{"$f":"Feuil3!G24","v":0},{"$f":"Feuil3!H24","v":0},{"$f":"Feuil3!I24","v":0},null,null,null,null,null,null,null,null,null,null,null,null,null,null,null,null,null,null,null,null,null,null,null,null,null,null,null,null,null,null,0]
[{"$f":"Feuil3!A25","v":0},{"$f":"Tableau1[[#This Row],[رقم الحساب]]","v":{"$error":"#VALUE!"}},{"$f":"Feuil3!B25","v":0},{"$f":"Feuil3!C25","v":0},{"$f":"Feuil3!D25","v":0},{"$f":"Feuil3!E25","v":0},{"$f":"Feuil3!F25","v":0},{"$f":"Feuil3!G25","v":0},{"$f":"Feuil3!H25","v":0},{"$f":"Feuil3!I25","v":0},null,null,null,null,null,null,null,null,null,null,null,null,null,null,null,null,null,null,null,null,null,null,null,null,null,null,null,null,null,null,0]
[{"$f":"Feuil3!A26","v":0},{"$f":"Tableau1[[#This Row],[رقم الحساب]]","v":{"$error":"#VALUE!"}},{"$f":"Feuil3!B26","v":0},{"$f":"Feuil3!C26","v":0},{"$f":"Feuil3!D26","v":0},{"$f":"Feuil3!E26","v":0},{"$f":"Feuil3!F26","v":0},{"$f":"Feuil3!G26","v":0},{"$f":"Feuil3!H26","v":0},{"$f":"Feuil3!I26","v":0},null,null,null,null,null,null,null,null,null,null,null,null,null,null,null,null,null,null,null,null,null,null,null,null,null,null,null,null,null,null,0]
[{"$f":"Feuil3!A27","v":0},{"$f":"Tableau1[[#This Row],[رقم الحساب]]","v":{"$error":"#VALUE!"}},{"$f":"Feuil3!B27","v":0},{"$f":"Feuil3!C27","v":0},{"$f":"Feuil3!D27","v":0},{"$f":"Feuil3!E27","v":0},{"$f":"Feuil3!F27","v":0},{"$f":"Feuil3!G27","v":0},{"$f":"Feuil3!H27","v":0},{"$f":"Feuil3!I27","v":0},null,null,null,null,null,null,null,null,null,null,null,null,null,null,null,null,null,null,null,null,null,null,null,null,null,null,null,null,null,null,0]
[{"$f":"Feuil3!A28","v":0},{"$f":"Tableau1[[#This Row],[رقم الحساب]]","v":{"$error":"#VALUE!"}},{"$f":"Feuil3!B28","v":0},{"$f":"Feuil3!C28","v":0},{"$f":"Feuil3!D28","v":0},{"$f":"Feuil3!E28","v":0},{"$f":"Feuil3!F28","v":0},{"$f":"Feuil3!G28","v":0},{"$f":"Feuil3!H28","v":0},{"$f":"Feuil3!I28","v":0},null,null,null,null,null,null,null,null,null,null,null,null,null,null,null,null,null,null,null,null,null,null,null,null,null,null,null,null,null,null,0]
[{"$f":"Feuil3!A29","v":0},{"$f":"Tableau1[[#This Row],[رقم الحساب]]","v":{"$error":"#VALUE!"}},{"$f":"Feuil3!B29","v":0},{"$f":"Feuil3!C29","v":0},{"$f":"Feuil3!D29","v":0},{"$f":"Feuil3!E29","v":0},{"$f":"Feuil3!F29","v":0},{"$f":"Feuil3!G29","v":0},{"$f":"Feuil3!H29","v":0},{"$f":"Feuil3!I29","v":0},null,null,null,null,null,null,null,null,null,null,null,null,null,null,null,null,null,null,null,null,null,null,null,null,null,null,null,null,null,null,0]
[{"$f":"Feuil3!A30","v":0},{"$f":"Tableau1[[#This Row],[رقم الحساب]]","v":{"$error":"#VALUE!"}},{"$f":"Feuil3!B30","v":0},{"$f":"Feuil3!C30","v":0},{"$f":"Feuil3!D30","v":0},{"$f":"Feuil3!E30","v":0},{"$f":"Feuil3!F30","v":0},{"$f":"Feuil3!G30","v":0},{"$f":"Feuil3!H30","v":0},{"$f":"Feuil3!I30","v":0},null,null,null,null,null,null,null,null,null,null,null,null,null,null,null,null,null,null,null,null,null,null,null,null,null,null,null,null,null,null,0]
[{"$f":"Feuil3!A31","v":0},{"$f":"Tableau1[[#This Row],[رقم الحساب]]","v":{"$error":"#VALUE!"}},{"$f":"Feuil3!B31","v":0},{"$f":"Feuil3!C31","v":0},{"$f":"Feuil3!D31","v":0},{"$f":"Feuil3!E31","v":0},{"$f":"Feuil3!F31","v":0},{"$f":"Feuil3!G31","v":0},{"$f":"Feuil3!H31","v":0},{"$f":"Feuil3!I31","v":0},null,null,null,null,null,null,null,null,null,null,null,null,null,null,null,null,null,null,null,null,null,null,null,null,null,null,null,null,null,null,0]
[{"$f":"Feuil3!A32","v":0},{"$f":"Tableau1[[#This Row],[رقم الحساب]]","v":{"$error":"#VALUE!"}},{"$f":"Feuil3!B32","v":0},{"$f":"Feuil3!C32","v":0},{"$f":"Feuil3!D32","v":0},{"$f":"Feuil3!E32","v":0},{"$f":"Feuil3!F32","v":0},{"$f":"Feuil3!G32","v":0},{"$f":"Feuil3!H32","v":0},{"$f":"Feuil3!I32","v":0},null,null,null,null,null,null,null,null,null,null,null,null,null,null,null,null,null,null,null,null,null,null,null,null,null,null,null,null,null,null,0]
[{"$f":"Feuil3!A33","v":0},{"$f":"Tableau1[[#This Row],[رقم الحساب]]","v":{"$error":"#VALUE!"}},{"$f":"Feuil3!B33","v":0},{"$f":"Feuil3!C33","v":0},{"$f":"Feuil3!D33","v":0},{"$f":"Feuil3!E33","v":0},{"$f":"Feuil3!F33","v":0},{"$f":"Feuil3!G33","v":0},{"$f":"Feuil3!H33","v":0},{"$f":"Feuil3!I33","v":0},null,null,null,null,null,null,null,null,null,null,null,null,null,null,null,null,null,null,null,null,null,null,null,null,null,null,null,null,null,null,0]
[{"$f":"Feuil3!A34","v":0},{"$f":"Tableau1[[#This Row],[رقم الحساب]]","v":{"$error":"#VALUE!"}},{"$f":"Feuil3!B34","v":0},{"$f":"Feuil3!C34","v":0},{"$f":"Feuil3!D34","v":0},{"$f":"Feuil3!E34","v":0},{"$f":"Feuil3!F34","v":0},{"$f":"Feuil3!G34","v":0},{"$f":"Feuil3!H34","v":0},{"$f":"Feuil3!I34","v":0},null,null,null,null,null,null,null,null,null,null,null,null,null,null,null,null,null,null,null,null,null,null,null,null,null,null,null,null,null,null,0]
[{"$f":"Feuil3!A35","v":0},{"$f":"Tableau1[[#This Row],[رقم الحساب]]","v":{"$error":"#VALUE!"}},{"$f":"Feuil3!B35","v":0},{"$f":"Feuil3!C35","v":0},{"$f":"Feuil3!D35","v":0},{"$f":"Feuil3!E35","v":0},{"$f":"Feuil3!F35","v":0},{"$f":"Feuil3!G35","v":0},{"$f":"Feuil3!H35","v":0},{"$f":"Feuil3!I35","v":0},null,null,null,null,null,null,null,null,null,null,null,null,null,null,null,null,null,null,null,null,null,null,null,null,null,null,null,null,null,null,0]
[{"$f":"Feuil3!A36","v":0},{"$f":"Tableau1[[#This Row],[رقم الحساب]]","v":{"$error":"#VALUE!"}},{"$f":"Feuil3!B36","v":0},{"$f":"Feuil3!C36","v":0},{"$f":"Feuil3!D36","v":0},{"$f":"Feuil3!E36","v":0},{"$f":"Feuil3!F36","v":0},{"$f":"Feuil3!G36","v":0},{"$f":"Feuil3!H36","v":0},{"$f":"Feuil3!I36","v":0},null,null,null,null,null,null,null,null,null,null,null,null,null,null,null,null,null,null,null,null,null,null,null,null,null,null,null,null,null,null,0]
[{"$f":"Feuil3!A37","v":0},{"$f":"Tableau1[[#This Row],[رقم الحساب]]","v":{"$error":"#VALUE!"}},{"$f":"Feuil3!B37","v":0},{"$f":"Feuil3!C37","v":0},{"$f":"Feuil3!D37","v":0},{"$f":"Feuil3!E37","v":0},{"$f":"Feuil3!F37","v":0},{"$f":"Feuil3!G37","v":0},{"$f":"Feuil3!H37","v":0},{"$f":"Feuil3!I37","v":0},null,null,null,null,null,null,null,null,null,null,null,null,null,null,null,null,null,null,null,null,null,null,null,null,null,null,null,null,null,null,0]
[{"$f":"Feuil3!A38","v":0},{"$f":"Tableau1[[#This Row],[رقم الحساب]]","v":{"$error":"#VALUE!"}},{"$f":"Feuil3!B38","v":0},{"$f":"Feuil3!C38","v":0},{"$f":"Feuil3!D38","v":0},{"$f":"Feuil3!E38","v":0},{"$f":"Feuil3!F38","v":0},{"$f":"Feuil3!G38","v":0},{"$f":"Feuil3!H38","v":0},{"$f":"Feuil3!I38","v":0},null,null,null,null,null,null,null,null,null,null,null,null,null,null,null,null,null,null,null,null,null,null,null,null,null,null,null,null,null,null,0]
[{"$f":"Feuil3!A39","v":0},{"$f":"Tableau1[[#This Row],[رقم الحساب]]","v":{"$error":"#VALUE!"}},{"$f":"Feuil3!B39","v":0},{"$f":"Feuil3!C39","v":0},{"$f":"Feuil3!D39","v":0},{"$f":"Feuil3!E39","v":0},{"$f":"Feuil3!F39","v":0},{"$f":"Feuil3!G39","v":0},{"$f":"Feuil3!H39","v":0},{"$f":"Feuil3!I39","v":0},null,null,null,null,null,null,null,null,null,null,null,null,null,null,null,null,null,null,null,null,null,null,null,null,null,null,null,null,null,null,0]
[{"$f":"Feuil3!A40","v":0},{"$f":"Tableau1[[#This Row],[رقم الحساب]]","v":{"$error":"#VALUE!"}},{"$f":"Feuil3!B40","v":0},{"$f":"Feuil3!C40","v":0},{"$f":"Feuil3!D40","v":0},{"$f":"Feuil3!E40","v":0},{"$f":"Feuil3!F40","v":0},{"$f":"Feuil3!G40","v":0},{"$f":"Feuil3!H40","v":0},{"$f":"Feuil3!I40","v":0},null,null,null,null,null,null,null,null,null,null,null,null,null,null,null,null,null,null,null,null,null,null,null,null,null,null,null,null,null,null,0]
[{"$f":"Feuil3!A41","v":0},{"$f":"Tableau1[[#This Row],[رقم الحساب]]","v":{"$error":"#VALUE!"}},{"$f":"Feuil3!B41","v":0},{"$f":"Feuil3!C41","v":0},{"$f":"Feuil3!D41","v":0},{"$f":"Feuil3!E41","v":0},{"$f":"Feuil3!F41","v":0},{"$f":"Feuil3!G41","v":0},{"$f":"Feuil3!H41","v":0},{"$f":"Feuil3!I41","v":0},null,null,null,null,null,null,null,null,null,null,null,null,null,null,null,null,null,null,null,null,null,null,null,null,null,null,null,null,null,null,0]
[{"$f":"Feuil3!A42","v":0},{"$f":"Tableau1[[#This Row],[رقم الحساب]]","v":{"$error":"#VALUE!"}},{"$f":"Feuil3!B42","v":0},{"$f":"Feuil3!C42","v":0},{"$f":"Feuil3!D42","v":0},{"$f":"Feuil3!E42","v":0},{"$f":"Feuil3!F42","v":0},{"$f":"Feuil3!G42","v":0},{"$f":"Feuil3!H42","v":0},{"$f":"Feuil3!I42","v":0},null,null,null,null,null,null,null,null,null,null,null,null,null,null,null,null,null,null,null,null,null,null,null,null,null,null,null,null,null,null,0]
[{"$f":"Feuil3!A43","v":0},{"$f":"Tableau1[[#This Row],[رقم الحساب]]","v":{"$error":"#VALUE!"}},{"$f":"Feuil3!B43","v":0},{"$f":"Feuil3!C43","v":0},{"$f":"Feuil3!D43","v":0},{"$f":"Feuil3!E43","v":0},{"$f":"Feuil3!F43","v":0},{"$f":"Feuil3!G43","v":0},{"$f":"Feuil3!H43","v":0},{"$f":"Feuil3!I43","v":0},null,null,null,null,null,null,null,null,null,null,null,null,null,null,null,null,null,null,null,null,null,null,null,null,null,null,null,null,null,null,0]
[{"$f":"Feuil3!A44","v":0},{"$f":"Tableau1[[#This Row],[رقم الحساب]]","v":{"$error":"#VALUE!"}},{"$f":"Feuil3!B44","v":0},{"$f":"Feuil3!C44","v":0},{"$f":"Feuil3!D44","v":0},{"$f":"Feuil3!E44","v":0},{"$f":"Feuil3!F44","v":0},{"$f":"Feuil3!G44","v":0},{"$f":"Feuil3!H44","v":0},{"$f":"Feuil3!I44","v":0},null,null,null,null,null,null,null,null,null,null,null,null,null,null,null,null,null,null,null,null,null,null,null,null,null,null,null,null,null,null,0]
[{"$f":"Feuil3!A45","v":0},{"$f":"Tableau1[[#This Row],[رقم الحساب]]","v":{"$error":"#VALUE!"}},{"$f":"Feuil3!B45","v":0},{"$f":"Feuil3!C45","v":0},{"$f":"Feuil3!D45","v":0},{"$f":"Feuil3!E45","v":0},{"$f":"Feuil3!F45","v":0},{"$f":"Feuil3!G45","v":0},{"$f":"Feuil3!H45","v":0},{"$f":"Feuil3!I45","v":0},null,null,null,null,null,null,null,null,null,null,null,null,null,null,null,null,null,null,null,null,null,null,null,null,null,null,null,null,null,null,0]
[{"$f":"Feuil3!A46","v":0},{"$f":"Tableau1[[#This Row],[رقم الحساب]]","v":{"$error":"#VALUE!"}},{"$f":"Feuil3!B46","v":0},{"$f":"Feuil3!C46","v":0},{"$f":"Feuil3!D46","v":0},{"$f":"Feuil3!E46","v":0},{"$f":"Feuil3!F46","v":0},{"$f":"Feuil3!G46","v":0},{"$f":"Feuil3!H46","v":0},{"$f":"Feuil3!I46","v":0},null,null,null,null,null,null,null,null,null,null,null,null,null,null,null,null,null,null,null,null,null,null,null,null,null,null,null,null,null,null,0]
[{"$f":"Feuil3!A47","v":0},{"$f":"Tableau1[[#This Row],[رقم الحساب]]","v":{"$error":"#VALUE!"}},{"$f":"Feuil3!B47","v":0},{"$f":"Feuil3!C47","v":0},{"$f":"Feuil3!D47","v":0},{"$f":"Feuil3!E47","v":0},{"$f":"Feuil3!F47","v":0},{"$f":"Feuil3!G47","v":0},{"$f":"Feuil3!H47","v":0},{"$f":"Feuil3!I47","v":0},null,null,null,null,null,null,null,null,null,null,null,null,null,null,null,null,null,null,null,null,null,null,null,null,null,null,null,null,null,null,0]
[{"$f":"Feuil3!A48","v":0},{"$f":"Tableau1[[#This Row],[رقم الحساب]]","v":{"$error":"#VALUE!"}},{"$f":"Feuil3!B48","v":0},{"$f":"Feuil3!C48","v":0},{"$f":"Feuil3!D48","v":0},{"$f":"Feuil3!E48","v":0},{"$f":"Feuil3!F48","v":0},{"$f":"Feuil3!G48","v":0},{"$f":"Feuil3!H48","v":0},{"$f":"Feuil3!I48","v":0},null,null,null,null,null,null,null,null,null,null,null,null,null,null,null,null,null,null,null,null,null,null,null,null,null,null,null,null,null,null,0]
[{"$f":"Feuil3!A49","v":0},{"$f":"Tableau1[[#This Row],[رقم الحساب]]","v":{"$error":"#VALUE!"}},{"$f":"Feuil3!B49","v":0},{"$f":"Feuil3!C49","v":0},{"$f":"Feuil3!D49","v":0},{"$f":"Feuil3!E49","v":0},{"$f":"Feuil3!F49","v":0},{"$f":"Feuil3!G49","v":0},{"$f":"Feuil3!H49","v":0},{"$f":"Feuil3!I49","v":0},null,null,null,null,null,null,null,null,null,null,null,null,null,null,null,null,null,null,null,null,null,null,null,null,null,null,null,null,null,null,0]
[{"$f":"Feuil3!A50","v":0},{"$f":"Tableau1[[#This Row],[رقم الحساب]]","v":{"$error":"#VALUE!"}},{"$f":"Feuil3!B50","v":0},{"$f":"Feuil3!C50","v":0},{"$f":"Feuil3!D50","v":0},{"$f":"Feuil3!E50","v":0},{"$f":"Feuil3!F50","v":0},{"$f":"Feuil3!G50","v":0},{"$f":"Feuil3!H50","v":0},{"$f":"Feuil3!I50","v":0},null,null,null,null,null,null,null,null,null,null,null,null,null,null,null,null,null,null,null,null,null,null,null,null,null,null,null,null,null,null,0]
[{"$f":"Feuil3!A51","v":0},{"$f":"Tableau1[[#This Row],[رقم الحساب]]","v":{"$error":"#VALUE!"}},{"$f":"Feuil3!B51","v":0},{"$f":"Feuil3!C51","v":0},{"$f":"Feuil3!D51","v":0},{"$f":"Feuil3!E51","v":0},{"$f":"Feuil3!F51","v":0},{"$f":"Feuil3!G51","v":0},{"$f":"Feuil3!H51","v":0},{"$f":"Feuil3!I51","v":0},null,null,null,null,null,null,null,null,null,null,null,null,null,null,null,null,null,null,null,null,null,null,null,null,null,null,null,null,null,null,0]
[{"$f":"Feuil3!A52","v":0},{"$f":"Tableau1[[#This Row],[رقم الحساب]]","v":{"$error":"#VALUE!"}},{"$f":"Feuil3!B52","v":0},{"$f":"Feuil3!C52","v":0},{"$f":"Feuil3!D52","v":0},{"$f":"Feuil3!E52","v":0},{"$f":"Feuil3!F52","v":0},{"$f":"Feuil3!G52","v":0},{"$f":"Feuil3!H52","v":0},{"$f":"Feuil3!I52","v":0},null,null,null,null,null,null,null,null,null,null,null,null,null,null,null,null,null,null,null,null,null,null,null,null,null,null,null,null,null,null,0]
[{"$f":"Feuil3!A53","v":0},{"$f":"Tableau1[[#This Row],[رقم الحساب]]","v":{"$error":"#VALUE!"}},{"$f":"Feuil3!B53","v":0},{"$f":"Feuil3!C53","v":0},{"$f":"Feuil3!D53","v":0},{"$f":"Feuil3!E53","v":0},{"$f":"Feuil3!F53","v":0},{"$f":"Feuil3!G53","v":0},{"$f":"Feuil3!H53","v":0},{"$f":"Feuil3!I53","v":0},null,null,null,null,null,null,null,null,null,null,null,null,null,null,null,null,null,null,null,null,null,null,null,null,null,null,null,null,null,null,0]
[{"$f":"Feuil3!A54","v":0},{"$f":"Tableau1[[#This Row],[رقم الحساب]]","v":{"$error":"#VALUE!"}},{"$f":"Feuil3!B54","v":0},{"$f":"Feuil3!C54","v":0},{"$f":"Feuil3!D54","v":0},{"$f":"Feuil3!E54","v":0},{"$f":"Feuil3!F54","v":0},{"$f":"Feuil3!G54","v":0},{"$f":"Feuil3!H54","v":0},{"$f":"Feuil3!I54","v":0},null,null,null,null,null,null,null,null,null,null,null,null,null,null,null,null,null,null,null,null,null,null,null,null,null,null,null,null,null,null,0]
[{"$f":"Feuil3!A55","v":0},{"$f":"Tableau1[[#This Row],[رقم الحساب]]","v":{"$error":"#VALUE!"}},{"$f":"Feuil3!B55","v":0},{"$f":"Feuil3!C55","v":0},{"$f":"Feuil3!D55","v":0},{"$f":"Feuil3!E55","v":0},{"$f":"Feuil3!F55","v":0},{"$f":"Feuil3!G55","v":0},{"$f":"Feuil3!H55","v":0},{"$f":"Feuil3!I55","v":0},null,null,null,null,null,null,null,null,null,null,null,null,null,null,null,null,null,null,null,null,null,null,null,null,null,null,null,null,null,null,0]
[{"$f":"Feuil3!A56","v":0},{"$f":"Tableau1[[#This Row],[رقم الحساب]]","v":{"$error":"#VALUE!"}},{"$f":"Feuil3!B56","v":0},{"$f":"Feuil3!C56","v":0},{"$f":"Feuil3!D56","v":0},{"$f":"Feuil3!E56","v":0},{"$f":"Feuil3!F56","v":0},{"$f":"Feuil3!G56","v":0},{"$f":"Feuil3!H56","v":0},{"$f":"Feuil3!I56","v":0},null,null,null,null,null,null,null,null,null,null,null,null,null,null,null,null,null,null,null,null,null,null,null,null,null,null,null,null,null,null,0]
[{"$f":"Feuil3!A57","v":0},{"$f":"Tableau1[[#This Row],[رقم الحساب]]","v":{"$error":"#VALUE!"}},{"$f":"Feuil3!B57","v":0},{"$f":"Feuil3!C57","v":0},{"$f":"Feuil3!D57","v":0},{"$f":"Feuil3!E57","v":0},{"$f":"Feuil3!F57","v":0},{"$f":"Feuil3!G57","v":0},{"$f":"Feuil3!H57","v":0},{"$f":"Feuil3!I57","v":0},null,null,null,null,null,null,null,null,null,null,null,null,null,null,null,null,null,null,null,null,null,null,null,null,null,null,null,null,null,null,0]
[{"$f":"Feuil3!A58","v":0},{"$f":"Tableau1[[#This Row],[رقم الحساب]]","v":{"$error":"#VALUE!"}},{"$f":"Feuil3!B58","v":0},{"$f":"Feuil3!C58","v":0},{"$f":"Feuil3!D58","v":0},{"$f":"Feuil3!E58","v":0},{"$f":"Feuil3!F58","v":0},{"$f":"Feuil3!G58","v":0},{"$f":"Feuil3!H58","v":0},{"$f":"Feuil3!I58","v":0},null,null,null,null,null,null,null,null,null,null,null,null,null,null,null,null,null,null,null,null,null,null,null,null,null,null,null,null,null,null,0]
[{"$f":"Feuil3!A59","v":0},{"$f":"Tableau1[[#This Row],[رقم الحساب]]","v":{"$error":"#VALUE!"}},{"$f":"Feuil3!B59","v":0},{"$f":"Feuil3!C59","v":0},{"$f":"Feuil3!D59","v":0},{"$f":"Feuil3!E59","v":0},{"$f":"Feuil3!F59","v":0},{"$f":"Feuil3!G59","v":0},{"$f":"Feuil3!H59","v":0},{"$f":"Feuil3!I59","v":0},null,null,null,null,null,null,null,null,null,null,null,null,null,null,null,null,null,null,null,null,null,null,null,null,null,null,null,null,null,null,0]
[{"$f":"Feuil3!A60","v":0},{"$f":"Tableau1[[#This Row],[رقم الحساب]]","v":{"$error":"#VALUE!"}},{"$f":"Feuil3!B60","v":0},{"$f":"Feuil3!C60","v":0},{"$f":"Feuil3!D60","v":0},{"$f":"Feuil3!E60","v":0},{"$f":"Feuil3!F60","v":0},{"$f":"Feuil3!G60","v":0},{"$f":"Feuil3!H60","v":0},{"$f":"Feuil3!I60","v":0},null,null,null,null,null,null,null,null,null,null,null,null,null,null,null,null,null,null,null,null,null,null,null,null,null,null,null,null,null,null,0]
[{"$f":"Feuil3!A61","v":0},{"$f":"Tableau1[[#This Row],[رقم الحساب]]","v":{"$error":"#VALUE!"}},{"$f":"Feuil3!B61","v":0},{"$f":"Feuil3!C61","v":0},{"$f":"Feuil3!D61","v":0},{"$f":"Feuil3!E61","v":0},{"$f":"Feuil3!F61","v":0},{"$f":"Feuil3!G61","v":0},{"$f":"Feuil3!H61","v":0},{"$f":"Feuil3!I61","v":0},null,null,null,null,null,null,null,null,null,null,null,null,null,null,null,null,null,null,null,null,null,null,null,null,null,null,null,null,null,null,0]
[{"$f":"Feuil3!A62","v":0},{"$f":"Tableau1[[#This Row],[رقم الحساب]]","v":{"$error":"#VALUE!"}},{"$f":"Feuil3!B62","v":0},{"$f":"Feuil3!C62","v":0},{"$f":"Feuil3!D62","v":0},{"$f":"Feuil3!E62","v":0},{"$f":"Feuil3!F62","v":0},{"$f":"Feuil3!G62","v":0},{"$f":"Feuil3!H62","v":0},{"$f":"Feuil3!I62","v":0},null,null,null,null,null,null,null,null,null,null,null,null,null,null,null,null,null,null,null,null,null,null,null,null,null,null,null,null,null,null,0]
[{"$f":"Feuil3!A63","v":0},{"$f":"Tableau1[[#This Row],[رقم الحساب]]","v":{"$error":"#VALUE!"}},{"$f":"Feuil3!B63","v":0},{"$f":"Feuil3!C63","v":0},{"$f":"Feuil3!D63","v":0},{"$f":"Feuil3!E63","v":0},{"$f":"Feuil3!F63","v":0},{"$f":"Feuil3!G63","v":0},{"$f":"Feuil3!H63","v":0},{"$f":"Feuil3!I63","v":0},null,null,null,null,null,null,null,null,null,null,null,null,null,null,null,null,null,null,null,null,null,null,null,null,null,null,null,null,null,null,0]
[{"$f":"Feuil3!A64","v":0},{"$f":"Tableau1[[#This Row],[رقم الحساب]]","v":{"$error":"#VALUE!"}},{"$f":"Feuil3!B64","v":0},{"$f":"Feuil3!C64","v":0},{"$f":"Feuil3!D64","v":0},{"$f":"Feuil3!E64","v":0},{"$f":"Feuil3!F64","v":0},{"$f":"Feuil3!G64","v":0},{"$f":"Feuil3!H64","v":0},{"$f":"Feuil3!I64","v":0},null,null,null,null,null,null,null,null,null,null,null,null,null,null,null,null,null,null,null,null,null,null,null,null,null,null,null,null,null,null,0]
[{"$f":"Feuil3!A65","v":0},{"$f":"Tableau1[[#This Row],[رقم الحساب]]","v":{"$error":"#VALUE!"}},{"$f":"Feuil3!B65","v":0},{"$f":"Feuil3!C65","v":0},{"$f":"Feuil3!D65","v":0},{"$f":"Feuil3!E65","v":0},{"$f":"Feuil3!F65","v":0},{"$f":"Feuil3!G65","v":0},{"$f":"Feuil3!H65","v":0},{"$f":"Feuil3!I65","v":0},null,null,null,null,null,null,null,null,null,null,null,null,null,null,null,null,null,null,null,null,null,null,null,null,null,null,null,null,null,null,0]
[{"$f":"Feuil3!A66","v":0},{"$f":"Tableau1[[#This Row],[رقم الحساب]]","v":{"$error":"#VALUE!"}},{"$f":"Feuil3!B66","v":0},{"$f":"Feuil3!C66","v":0},{"$f":"Feuil3!D66","v":0},{"$f":"Feuil3!E66","v":0},{"$f":"Feuil3!F66","v":0},{"$f":"Feuil3!G66","v":0},{"$f":"Feuil3!H66","v":0},{"$f":"Feuil3!I66","v":0},null,null,null,null,null,null,null,null,null,null,null,null,null,null,null,null,null,null,null,null,null,null,null,null,null,null,null,null,null,null,0]
[{"$f":"Feuil3!A67","v":0},{"$f":"Tableau1[[#This Row],[رقم الحساب]]","v":{"$error":"#VALUE!"}},{"$f":"Feuil3!B67","v":0},{"$f":"Feuil3!C67","v":0},{"$f":"Feuil3!D67","v":0},{"$f":"Feuil3!E67","v":0},{"$f":"Feuil3!F67","v":0},{"$f":"Feuil3!G67","v":0},{"$f":"Feuil3!H67","v":0},{"$f":"Feuil3!I67","v":0},null,null,null,null,null,null,null,null,null,null,null,null,null,null,null,null,null,null,null,null,null,null,null,null,null,null,null,null,null,null,{"$f":"A67","v":0}]
[{"$f":"Feuil3!A68","v":0},{"$f":"Tableau1[[#This Row],[رقم الحساب]]","v":{"$error":"#VALUE!"}},{"$f":"Feuil3!B68","v":0},{"$f":"Feuil3!C68","v":0},{"$f":"Feuil3!D68","v":0},{"$f":"Feuil3!E68","v":0},{"$f":"Feuil3!F68","v":0},{"$f":"Feuil3!G68","v":0},{"$f":"Feuil3!H68","v":0},{"$f":"Feuil3!I68","v":0},null,null,null,null,null,null,null,null,null,null,null,null,null,null,null,null,null,null,null,null,null,null,null,null,null,null,null,null,null,null,0]
[{"$f":"Feuil3!A69","v":0},{"$f":"Tableau1[[#This Row],[رقم الحساب]]","v":{"$error":"#VALUE!"}},{"$f":"Feuil3!B69","v":0},{"$f":"Feuil3!C69","v":0},{"$f":"Feuil3!D69","v":0},{"$f":"Feuil3!E69","v":0},{"$f":"Feuil3!F69","v":0},{"$f":"Feuil3!G69","v":0},{"$f":"Feuil3!H69","v":0},{"$f":"Feuil3!I69","v":0},null,null,null,null,null,null,null,null,null,null,null,null,null,null,null,null,null,null,null,null,null,null,null,null,null,null,null,null,null,null,0]
[{"$f":"Feuil3!A70","v":0},{"$f":"Tableau1[[#This Row],[رقم الحساب]]","v":{"$error":"#VALUE!"}},{"$f":"Feuil3!B70","v":0},{"$f":"Feuil3!C70","v":0},{"$f":"Feuil3!D70","v":0},{"$f":"Feuil3!E70","v":0},{"$f":"Feuil3!F70","v":0},{"$f":"Feuil3!G70","v":0},{"$f":"Feuil3!H70","v":0},{"$f":"Feuil3!I70","v":0},null,null,null,null,null,null,null,null,null,null,null,null,null,null,null,null,null,null,null,null,null,null,null,null,null,null,null,null,null,null,0]
[{"$f":"Feuil3!A71","v":0},{"$f":"Tableau1[[#This Row],[رقم الحساب]]","v":{"$error":"#VALUE!"}},{"$f":"Feuil3!B71","v":0},{"$f":"Feuil3!C71","v":0},{"$f":"Feuil3!D71","v":0},{"$f":"Feuil3!E71","v":0},{"$f":"Feuil3!F71","v":0},{"$f":"Feuil3!G71","v":0},{"$f":"Feuil3!H71","v":0},{"$f":"Feuil3!I71","v":0},null,null,null,null,null,null,null,null,null,null,null,null,null,null,null,null,null,null,null,null,null,null,null,null,null,null,null,null,null,null,0]
[{"$f":"Feuil3!A72","v":0},{"$f":"Tableau1[[#This Row],[رقم الحساب]]","v":{"$error":"#VALUE!"}},{"$f":"Feuil3!B72","v":0},{"$f":"Feuil3!C72","v":0},{"$f":"Feuil3!D72","v":0},{"$f":"Feuil3!E72","v":0},{"$f":"Feuil3!F72","v":0},{"$f":"Feuil3!G72","v":0},{"$f":"Feuil3!H72","v":0},{"$f":"Feuil3!I72","v":0},null,null,null,null,null,null,null,null,null,null,null,null,null,null,null,null,null,null,null,null,null,null,null,null,null,null,null,null,null,null,0]
[{"$f":"Feuil3!A73","v":0},{"$f":"Tableau1[[#This Row],[رقم الحساب]]","v":{"$error":"#VALUE!"}},{"$f":"Feuil3!B73","v":0},{"$f":"Feuil3!C73","v":0},{"$f":"Feuil3!D73","v":0},{"$f":"Feuil3!E73","v":0},{"$f":"Feuil3!F73","v":0},{"$f":"Feuil3!G73","v":0},{"$f":"Feuil3!H73","v":0},{"$f":"Feuil3!I73","v":0},null,null,null,null,null,null,null,null,null,null,null,null,null,null,null,null,null,null,null,null,null,null,null,null,null,null,null,null,null,null,0]
[{"$f":"Feuil3!A74","v":0},{"$f":"Tableau1[[#This Row],[رقم الحساب]]","v":{"$error":"#VALUE!"}},{"$f":"Feuil3!B74","v":0},{"$f":"Feuil3!C74","v":0},{"$f":"Feuil3!D74","v":0},{"$f":"Feuil3!E74","v":0},{"$f":"Feuil3!F74","v":0},{"$f":"Feuil3!G74","v":0},{"$f":"Feuil3!H74","v":0},{"$f":"Feuil3!I74","v":0},null,null,null,null,null,null,null,null,null,null,null,null,null,null,null,null,null,null,null,null,null,null,null,null,null,null,null,null,null,null,0]
[{"$f":"Feuil3!A75","v":0},{"$f":"Tableau1[[#This Row],[رقم الحساب]]","v":{"$error":"#VALUE!"}},{"$f":"Feuil3!B75","v":0},{"$f":"Feuil3!C75","v":0},{"$f":"Feuil3!D75","v":0},{"$f":"Feuil3!E75","v":0},{"$f":"Feuil3!F75","v":0},{"$f":"Feuil3!G75","v":0},{"$f":"Feuil3!H75","v":0},{"$f":"Feuil3!I75","v":0},null,null,null,null,null,null,null,null,null,null,null,null,null,null,null,null,null,null,null,null,null,null,null,null,null,null,null,null,null,null,0]
[{"$f":"Feuil3!A76","v":0},{"$f":"Tableau1[[#This Row],[رقم الحساب]]","v":{"$error":"#VALUE!"}},{"$f":"Feuil3!B76","v":0},{"$f":"Feuil3!C76","v":0},{"$f":"Feuil3!D76","v":0},{"$f":"Feuil3!E76","v":0},{"$f":"Feuil3!F76","v":0},{"$f":"Feuil3!G76","v":0},{"$f":"Feuil3!H76","v":0},{"$f":"Feuil3!I76","v":0},null,null,null,null,null,null,null,null,null,null,null,null,null,null,null,null,null,null,null,null,null,null,null,null,null,null,null,null,null,null,0]
[{"$f":"Feuil3!A77","v":0},{"$f":"Tableau1[[#This Row],[رقم الحساب]]","v":{"$error":"#VALUE!"}},{"$f":"Feuil3!B77","v":0},{"$f":"Feuil3!C77","v":0},{"$f":"Feuil3!D77","v":0},{"$f":"Feuil3!E77","v":0},{"$f":"Feuil3!F77","v":0},{"$f":"Feuil3!G77","v":0},{"$f":"Feuil3!H77","v":0},{"$f":"Feuil3!I77","v":0},null,null,null,null,null,null,null,null,null,null,null,null,null,null,null,null,null,null,null,null,null,null,null,null,null,null,null,null,null,null,0]
[{"$f":"Feuil3!A78","v":0},{"$f":"Tableau1[[#This Row],[رقم الحساب]]","v":{"$error":"#VALUE!"}},{"$f":"Feuil3!B78","v":0},{"$f":"Feuil3!C78","v":0},{"$f":"Feuil3!D78","v":0},{"$f":"Feuil3!E78","v":0},{"$f":"Feuil3!F78","v":0},{"$f":"Feuil3!G78","v":0},{"$f":"Feuil3!H78","v":0},{"$f":"Feuil3!I78","v":0},null,null,null,null,null,null,null,null,null,null,null,null,null,null,null,null,null,null,null,null,null,null,null,null,null,null,null,null,null,null,0]
[{"$f":"Feuil3!A79","v":0},{"$f":"Tableau1[[#This Row],[رقم الحساب]]","v":{"$error":"#VALUE!"}},{"$f":"Feuil3!B79","v":0},{"$f":"Feuil3!C79","v":0},{"$f":"Feuil3!D79","v":0},{"$f":"Feuil3!E79","v":0},{"$f":"Feuil3!F79","v":0},{"$f":"Feuil3!G79","v":0},{"$f":"Feuil3!H79","v":0},{"$f":"Feuil3!I79","v":0},null,null,null,null,null,null,null,null,null,null,null,null,null,null,null,null,null,null,null,null,null,null,null,null,null,null,null,null,null,null,0]
[{"$f":"Feuil3!A80","v":0},{"$f":"Tableau1[[#This Row],[رقم الحساب]]","v":{"$error":"#VALUE!"}},{"$f":"Feuil3!B80","v":0},{"$f":"Feuil3!C80","v":0},{"$f":"Feuil3!D80","v":0},{"$f":"Feuil3!E80","v":0},{"$f":"Feuil3!F80","v":0},{"$f":"Feuil3!G80","v":0},{"$f":"Feuil3!H80","v":0},{"$f":"Feuil3!I80","v":0},null,null,null,null,null,null,null,null,null,null,null,null,null,null,null,null,null,null,null,null,null,null,null,null,null,null,null,null,null,null,0]
[{"$f":"Feuil3!A81","v":0},{"$f":"Tableau1[[#This Row],[رقم الحساب]]","v":{"$error":"#VALUE!"}},{"$f":"Feuil3!B81","v":0},{"$f":"Feuil3!C81","v":0},{"$f":"Feuil3!D81","v":0},{"$f":"Feuil3!E81","v":0},{"$f":"Feuil3!F81","v":0},{"$f":"Feuil3!G81","v":0},{"$f":"Feuil3!H81","v":0},{"$f":"Feuil3!I81","v":0},null,null,null,null,null,null,null,null,null,null,null,null,null,null,null,null,null,null,null,null,null,null,null,null,null,null,null,null,null,null,0]
[{"$f":"Feuil3!A82","v":0},{"$f":"Tableau1[[#This Row],[رقم الحساب]]","v":{"$error":"#VALUE!"}},{"$f":"Feuil3!B82","v":0},{"$f":"Feuil3!C82","v":0},{"$f":"Feuil3!D82","v":0},{"$f":"Feuil3!E82","v":0},{"$f":"Feuil3!F82","v":0},{"$f":"Feuil3!G82","v":0},{"$f":"Feuil3!H82","v":0},{"$f":"Feuil3!I82","v":0},null,null,null,null,null,null,null,null,null,null,null,null,null,null,null,null,null,null,null,null,null,null,null,null,null,null,null,null,null,null,0]
[{"$f":"Feuil3!A83","v":0},{"$f":"Tableau1[[#This Row],[رقم الحساب]]","v":{"$error":"#VALUE!"}},{"$f":"Feuil3!B83","v":0},{"$f":"Feuil3!C83","v":0},{"$f":"Feuil3!D83","v":0},{"$f":"Feuil3!E83","v":0},{"$f":"Feuil3!F83","v":0},{"$f":"Feuil3!G83","v":0},{"$f":"Feuil3!H83","v":0},{"$f":"Feuil3!I83","v":0},null,null,null,null,null,null,null,null,null,null,null,null,null,null,null,null,null,null,null,null,null,null,null,null,null,null,null,null,null,null,0]
[{"$f":"Feuil3!A84","v":0},{"$f":"Tableau1[[#This Row],[رقم الحساب]]","v":{"$error":"#VALUE!"}},{"$f":"Feuil3!B84","v":0},{"$f":"Feuil3!C84","v":0},{"$f":"Feuil3!D84","v":0},{"$f":"Feuil3!E84","v":0},{"$f":"Feuil3!F84","v":0},{"$f":"Feuil3!G84","v":0},{"$f":"Feuil3!H84","v":0},{"$f":"Feuil3!I84","v":0},null,null,null,null,null,null,null,null,null,null,null,null,null,null,null,null,null,null,null,null,null,null,null,null,null,null,null,null,null,null,0]
[{"$f":"Feuil3!A85","v":0},{"$f":"Tableau1[[#This Row],[رقم الحساب]]","v":{"$error":"#VALUE!"}},{"$f":"Feuil3!B85","v":0},{"$f":"Feuil3!C85","v":0},{"$f":"Feuil3!D85","v":0},{"$f":"Feuil3!E85","v":0},{"$f":"Feuil3!F85","v":0},{"$f":"Feuil3!G85","v":0},{"$f":"Feuil3!H85","v":0},{"$f":"Feuil3!I85","v":0},null,null,null,null,null,null,null,null,null,null,null,null,null,null,null,null,null,null,null,null,null,null,null,null,null,null,null,null,null,null,0]
[{"$f":"Feuil3!A86","v":0},{"$f":"Tableau1[[#This Row],[رقم الحساب]]","v":{"$error":"#VALUE!"}},{"$f":"Feuil3!B86","v":0},{"$f":"Feuil3!C86","v":0},{"$f":"Feuil3!D86","v":0},{"$f":"Feuil3!E86","v":0},{"$f":"Feuil3!F86","v":0},{"$f":"Feuil3!G86","v":0},{"$f":"Feuil3!H86","v":0},{"$f":"Feuil3!I86","v":0},null,null,null,null,null,null,null,null,null,null,null,null,null,null,null,null,null,null,null,null,null,null,null,null,null,null,null,null,null,null,0]
[{"$f":"Feuil3!A87","v":0},{"$f":"Tableau1[[#This Row],[رقم الحساب]]","v":{"$error":"#VALUE!"}},{"$f":"Feuil3!B87","v":0},{"$f":"Feuil3!C87","v":0},{"$f":"Feuil3!D87","v":0},{"$f":"Feuil3!E87","v":0},{"$f":"Feuil3!F87","v":0},{"$f":"Feuil3!G87","v":0},{"$f":"Feuil3!H87","v":0},{"$f":"Feuil3!I87","v":0},null,null,null,null,null,null,null,null,null,null,null,null,null,null,null,null,null,null,null,null,null,null,null,null,null,null,null,null,null,null,0]
[{"$f":"Feuil3!A88","v":0},{"$f":"Tableau1[[#This Row],[رقم الحساب]]","v":{"$error":"#VALUE!"}},{"$f":"Feuil3!B88","v":0},{"$f":"Feuil3!C88","v":0},{"$f":"Feuil3!D88","v":0},{"$f":"Feuil3!E88","v":0},{"$f":"Feuil3!F88","v":0},{"$f":"Feuil3!G88","v":0},{"$f":"Feuil3!H88","v":0},{"$f":"Feuil3!I88","v":0},null,null,null,null,null,null,null,null,null,null,null,null,null,null,null,null,null,null,null,null,null,null,null,null,null,null,null,null,null,null,0]
[{"$f":"Feuil3!A89","v":0},{"$f":"Tableau1[[#This Row],[رقم الحساب]]","v":{"$error":"#VALUE!"}},{"$f":"Feuil3!B89","v":0},{"$f":"Feuil3!C89","v":0},{"$f":"Feuil3!D89","v":0},{"$f":"Feuil3!E89","v":0},{"$f":"Feuil3!F89","v":0},{"$f":"Feuil3!G89","v":0},{"$f":"Feuil3!H89","v":0},{"$f":"Feuil3!I89","v":0},null,null,null,null,null,null,null,null,null,null,null,null,null,null,null,null,null,null,null,null,null,null,null,null,null,null,null,null,null,null,0]
[{"$f":"Feuil3!A90","v":0},{"$f":"Tableau1[[#This Row],[رقم الحساب]]","v":{"$error":"#VALUE!"}},{"$f":"Feuil3!B90","v":0},{"$f":"Feuil3!C90","v":0},{"$f":"Feuil3!D90","v":0},{"$f":"Feuil3!E90","v":0},{"$f":"Feuil3!F90","v":0},{"$f":"Feuil3!G90","v":0},{"$f":"Feuil3!H90","v":0},{"$f":"Feuil3!I90","v":0},null,null,null,null,null,null,null,null,null,null,null,null,null,null,null,null,null,null,null,null,null,null,null,null,null,null,null,null,null,null,0]
[{"$f":"Feuil3!A91","v":0},{"$f":"Tableau1[[#This Row],[رقم الحساب]]","v":{"$error":"#VALUE!"}},{"$f":"Feuil3!B91","v":0},{"$f":"Feuil3!C91","v":0},{"$f":"Feuil3!D91","v":0},{"$f":"Feuil3!E91","v":0},{"$f":"Feuil3!F91","v":0},{"$f":"Feuil3!G91","v":0},{"$f":"Feuil3!H91","v":0},{"$f":"Feuil3!I91","v":0},null,null,null,null,null,null,null,null,null,null,null,null,null,null,null,null,null,null,null,null,null,null,null,null,null,null,null,null,null,null,0]
[{"$f":"Feuil3!A92","v":0},{"$f":"Tableau1[[#This Row],[رقم الحساب]]","v":{"$error":"#VALUE!"}},{"$f":"Feuil3!B92","v":0},{"$f":"Feuil3!C92","v":0},{"$f":"Feuil3!D92","v":0},{"$f":"Feuil3!E92","v":0},{"$f":"Feuil3!F92","v":0},{"$f":"Feuil3!G92","v":0},{"$f":"Feuil3!H92","v":0},{"$f":"Feuil3!I92","v":0},null,null,null,null,null,null,null,null,null,null,null,null,null,null,null,null,null,null,null,null,null,null,null,null,null,null,null,null,null,null,0]
[{"$f":"Feuil3!A93","v":0},{"$f":"Tableau1[[#This Row],[رقم الحساب]]","v":{"$error":"#VALUE!"}},{"$f":"Feuil3!B93","v":0},{"$f":"Feuil3!C93","v":0},{"$f":"Feuil3!D93","v":0},{"$f":"Feuil3!E93","v":0},{"$f":"Feuil3!F93","v":0},{"$f":"Feuil3!G93","v":0},{"$f":"Feuil3!H93","v":0},{"$f":"Feuil3!I93","v":0},null,null,null,null,null,null,null,null,null,null,null,null,null,null,null,null,null,null,null,null,null,null,null,null,null,null,null,null,null,null,0]
[{"$f":"Feuil3!A94","v":0},{"$f":"Tableau1[[#This Row],[رقم الحساب]]","v":{"$error":"#VALUE!"}},{"$f":"Feuil3!B94","v":0},{"$f":"Feuil3!C94","v":0},{"$f":"Feuil3!D94","v":0},{"$f":"Feuil3!E94","v":0},{"$f":"Feuil3!F94","v":0},{"$f":"Feuil3!G94","v":0},{"$f":"Feuil3!H94","v":0},{"$f":"Feuil3!I94","v":0},null,null,null,null,null,null,null,null,null,null,null,null,null,null,null,null,null,null,null,null,null,null,null,null,null,null,null,null,null,null,0]
[{"$f":"Feuil3!A95","v":0},{"$f":"Tableau1[[#This Row],[رقم الحساب]]","v":{"$error":"#VALUE!"}},{"$f":"Feuil3!B95","v":0},{"$f":"Feuil3!C95","v":0},{"$f":"Feuil3!D95","v":0},{"$f":"Feuil3!E95","v":0},{"$f":"Feuil3!F95","v":0},{"$f":"Feuil3!G95","v":0},{"$f":"Feuil3!H95","v":0},{"$f":"Feuil3!I95","v":0},null,null,null,null,null,null,null,null,null,null,null,null,null,null,null,null,null,null,null,null,null,null,null,null,null,null,null,null,null,null,0]
[{"$f":"Feuil3!A96","v":0},{"$f":"Tableau1[[#This Row],[رقم الحساب]]","v":{"$error":"#VALUE!"}},{"$f":"Feuil3!B96","v":0},{"$f":"Feuil3!C96","v":0},{"$f":"Feuil3!D96","v":0},{"$f":"Feuil3!E96","v":0},{"$f":"Feuil3!F96","v":0},{"$f":"Feuil3!G96","v":0},{"$f":"Feuil3!H96","v":0},{"$f":"Feuil3!I96","v":0},null,null,null,null,null,null,null,null,null,null,null,null,null,null,null,null,null,null,null,null,null,null,null,null,null,null,null,null,null,null,0]
[{"$f":"Feuil3!A97","v":0},{"$f":"Tableau1[[#This Row],[رقم الحساب]]","v":{"$error":"#VALUE!"}},{"$f":"Feuil3!B97","v":0},{"$f":"Feuil3!C97","v":0},{"$f":"Feuil3!D97","v":0},{"$f":"Feuil3!E97","v":0},{"$f":"Feuil3!F97","v":0},{"$f":"Feuil3!G97","v":0},{"$f":"Feuil3!H97","v":0},{"$f":"Feuil3!I97","v":0},null,null,null,null,null,null,null,null,null,null,null,null,null,null,null,null,null,null,null,null,null,null,null,null,null,null,null,null,null,null,0]
[{"$f":"Feuil3!A98","v":0},{"$f":"Tableau1[[#This Row],[رقم الحساب]]","v":{"$error":"#VALUE!"}},{"$f":"Feuil3!B98","v":0},{"$f":"Feuil3!C98","v":0},{"$f":"Feuil3!D98","v":0},{"$f":"Feuil3!E98","v":0},{"$f":"Feuil3!F98","v":0},{"$f":"Feuil3!G98","v":0},{"$f":"Feuil3!H98","v":0},{"$f":"Feuil3!I98","v":0},null,null,null,null,null,null,null,null,null,null,null,null,null,null,null,null,null,null,null,null,null,null,null,null,null,null,null,null,null,null,0]
[{"$f":"Feuil3!A99","v":0},{"$f":"Tableau1[[#This Row],[رقم الحساب]]","v":{"$error":"#VALUE!"}},{"$f":"Feuil3!B99","v":0},{"$f":"Feuil3!C99","v":0},{"$f":"Feuil3!D99","v":0},{"$f":"Feuil3!E99","v":0},{"$f":"Feuil3!F99","v":0},{"$f":"Feuil3!G99","v":0},{"$f":"Feuil3!H99","v":0},{"$f":"Feuil3!I99","v":0},null,null,null,null,null,null,null,null,null,null,null,null,null,null,null,null,null,null,null,null,null,null,null,null,null,null,null,null,null,null,0]
[{"$f":"Feuil3!A100","v":0},{"$f":"Tableau1[[#This Row],[رقم الحساب]]","v":{"$error":"#VALUE!"}},{"$f":"Feuil3!B100","v":0},{"$f":"Feuil3!C100","v":0},{"$f":"Feuil3!D100","v":0},{"$f":"Feuil3!E100","v":0},{"$f":"Feuil3!F100","v":0},{"$f":"Feuil3!G100","v":0},{"$f":"Feuil3!H100","v":0},{"$f":"Feuil3!I100","v":0},null,null,null,null,null,null,null,null,null,null,null,null,null,null,null,null,null,null,null,null,null,null,null,null,null,null,null,null,null,null,0]
[{"$f":"Feuil3!A101","v":0},{"$f":"Tableau1[[#This Row],[رقم الحساب]]","v":{"$error":"#VALUE!"}},{"$f":"Feuil3!B101","v":0},{"$f":"Feuil3!C101","v":0},{"$f":"Feuil3!D101","v":0},{"$f":"Feuil3!E101","v":0},{"$f":"Feuil3!F101","v":0},{"$f":"Feuil3!G101","v":0},{"$f":"Feuil3!H101","v":0},{"$f":"Feuil3!I101","v":0},null,null,null,null,null,null,null,null,null,null,null,null,null,null,null,null,null,null,null,null,null,null,null,null,null,null,null,null,null,null,0]
[{"$f":"Feuil3!A102","v":0},{"$f":"Tableau1[[#This Row],[رقم الحساب]]","v":{"$error":"#VALUE!"}},{"$f":"Feuil3!B102","v":0},{"$f":"Feuil3!C102","v":0},{"$f":"Feuil3!D102","v":0},{"$f":"Feuil3!E102","v":0},{"$f":"Feuil3!F102","v":0},{"$f":"Feuil3!G102","v":0},{"$f":"Feuil3!H102","v":0},{"$f":"Feuil3!I102","v":0},null,null,null,null,null,null,null,null,null,null,null,null,null,null,null,null,null,null,null,null,null,null,null,null,null,null,null,null,null,null,0]
[{"$f":"Feuil3!A103","v":0},{"$f":"Tableau1[[#This Row],[رقم الحساب]]","v":{"$error":"#VALUE!"}},{"$f":"Feuil3!B103","v":0},{"$f":"Feuil3!C103","v":0},{"$f":"Feuil3!D103","v":0},{"$f":"Feuil3!E103","v":0},{"$f":"Feuil3!F103","v":0},{"$f":"Feuil3!G103","v":0},{"$f":"Feuil3!H103","v":0},{"$f":"Feuil3!I103","v":0},null,null,null,null,null,null,null,null,null,null,null,null,null,null,null,null,null,null,null,null,null,null,null,null,null,null,null,null,null,null,0]
[{"$f":"Feuil3!A104","v":0},{"$f":"Tableau1[[#This Row],[رقم الحساب]]","v":{"$error":"#VALUE!"}},{"$f":"Feuil3!B104","v":0},{"$f":"Feuil3!C104","v":0},{"$f":"Feuil3!D104","v":0},{"$f":"Feuil3!E104","v":0},{"$f":"Feuil3!F104","v":0},{"$f":"Feuil3!G104","v":0},{"$f":"Feuil3!H104","v":0},{"$f":"Feuil3!I104","v":0},null,null,null,null,null,null,null,null,null,null,null,null,null,null,null,null,null,null,null,null,null,null,null,null,null,null,null,null,null,null,0]
[{"$f":"Feuil3!A105","v":0},{"$f":"Tableau1[[#This Row],[رقم الحساب]]","v":{"$error":"#VALUE!"}},{"$f":"Feuil3!B105","v":0},{"$f":"Feuil3!C105","v":0},{"$f":"Feuil3!D105","v":0},{"$f":"Feuil3!E105","v":0},{"$f":"Feuil3!F105","v":0},{"$f":"Feuil3!G105","v":0},{"$f":"Feuil3!H105","v":0},{"$f":"Feuil3!I105","v":0},null,null,null,null,null,null,null,null,null,null,null,null,null,null,null,null,null,null,null,null,null,null,null,null,null,null,null,null,null,null,0]
[{"$f":"Feuil3!A106","v":0},{"$f":"Tableau1[[#This Row],[رقم الحساب]]","v":{"$error":"#VALUE!"}},{"$f":"Feuil3!B106","v":0},{"$f":"Feuil3!C106","v":0},{"$f":"Feuil3!D106","v":0},{"$f":"Feuil3!E106","v":0},{"$f":"Feuil3!F106","v":0},{"$f":"Feuil3!G106","v":0},{"$f":"Feuil3!H106","v":0},{"$f":"Feuil3!I106","v":0},null,null,null,null,null,null,null,null,null,null,null,null,null,null,null,null,null,null,null,null,null,null,null,null,null,null,null,null,null,null,0]
[{"$f":"Feuil3!A107","v":0},{"$f":"Tableau1[[#This Row],[رقم الحساب]]","v":{"$error":"#VALUE!"}},{"$f":"Feuil3!B107","v":0},{"$f":"Feuil3!C107","v":0},{"$f":"Feuil3!D107","v":0},{"$f":"Feuil3!E107","v":0},{"$f":"Feuil3!F107","v":0},{"$f":"Feuil3!G107","v":0},{"$f":"Feuil3!H107","v":0},{"$f":"Feuil3!I107","v":0},null,null,null,null,null,null,null,null,null,null,null,null,null,null,null,null,null,null,null,null,null,null,null,null,null,null,null,null,null,null,0]
[{"$f":"Feuil3!A108","v":0},{"$f":"Tableau1[[#This Row],[رقم الحساب]]","v":{"$error":"#VALUE!"}},{"$f":"Feuil3!B108","v":0},{"$f":"Feuil3!C108","v":0},{"$f":"Feuil3!D108","v":0},{"$f":"Feuil3!E108","v":0},{"$f":"Feuil3!F108","v":0},{"$f":"Feuil3!G108","v":0},{"$f":"Feuil3!H108","v":0},{"$f":"Feuil3!I108","v":0},null,null,null,null,null,null,null,null,null,null,null,null,null,null,null,null,null,null,null,null,null,null,null,null,null,null,null,null,null,null,0]
[{"$f":"Feuil3!A109","v":0},{"$f":"Tableau1[[#This Row],[رقم الحساب]]","v":{"$error":"#VALUE!"}},{"$f":"Feuil3!B109","v":0},{"$f":"Feuil3!C109","v":0},{"$f":"Feuil3!D109","v":0},{"$f":"Feuil3!E109","v":0},{"$f":"Feuil3!F109","v":0},{"$f":"Feuil3!G109","v":0},{"$f":"Feuil3!H109","v":0},{"$f":"Feuil3!I109","v":0},null,null,null,null,null,null,null,null,null,null,null,null,null,null,null,null,null,null,null,null,null,null,null,null,null,null,null,null,null,null,0]
[{"$f":"Feuil3!A110","v":0},{"$f":"Tableau1[[#This Row],[رقم الحساب]]","v":{"$error":"#VALUE!"}},{"$f":"Feuil3!B110","v":0},{"$f":"Feuil3!C110","v":0},{"$f":"Feuil3!D110","v":0},{"$f":"Feuil3!E110","v":0},{"$f":"Feuil3!F110","v":0},{"$f":"Feuil3!G110","v":0},{"$f":"Feuil3!H110","v":0},{"$f":"Feuil3!I110","v":0},null,null,null,null,null,null,null,null,null,null,null,null,null,null,null,null,null,null,null,null,null,null,null,null,null,null,null,null,null,null,0]
[{"$f":"Feuil3!A111","v":0},{"$f":"Tableau1[[#This Row],[رقم الحساب]]","v":{"$error":"#VALUE!"}},{"$f":"Feuil3!B111","v":0},{"$f":"Feuil3!C111","v":0},{"$f":"Feuil3!D111","v":0},{"$f":"Feuil3!E111","v":0},{"$f":"Feuil3!F111","v":0},{"$f":"Feuil3!G111","v":0},{"$f":"Feuil3!H111","v":0},{"$f":"Feuil3!I111","v":0},null,null,null,null,null,null,null,null,null,null,null,null,null,null,null,null,null,null,null,null,null,null,null,null,null,null,null,null,null,null,0]
[{"$f":"Feuil3!A112","v":0},{"$f":"Tableau1[[#This Row],[رقم الحساب]]","v":{"$error":"#VALUE!"}},{"$f":"Feuil3!B112","v":0},{"$f":"Feuil3!C112","v":0},{"$f":"Feuil3!D112","v":0},{"$f":"Feuil3!E112","v":0},{"$f":"Feuil3!F112","v":0},{"$f":"Feuil3!G112","v":0},{"$f":"Feuil3!H112","v":0},{"$f":"Feuil3!I112","v":0},null,null,null,null,null,null,null,null,null,null,null,null,null,null,null,null,null,null,null,null,null,null,null,null,null,null,null,null,null,null,0]
[{"$f":"Feuil3!A113","v":0},{"$f":"Tableau1[[#This Row],[رقم الحساب]]","v":{"$error":"#VALUE!"}},{"$f":"Feuil3!B113","v":0},{"$f":"Feuil3!C113","v":0},{"$f":"Feuil3!D113","v":0},{"$f":"Feuil3!E113","v":0},{"$f":"Feuil3!F113","v":0},{"$f":"Feuil3!G113","v":0},{"$f":"Feuil3!H113","v":0},{"$f":"Feuil3!I113","v":0},null,null,null,null,null,null,null,null,null,null,null,null,null,null,null,null,null,null,null,null,null,null,null,null,null,null,null,null,null,null,0]
[{"$f":"Feuil3!A114","v":0},{"$f":"Tableau1[[#This Row],[رقم الحساب]]","v":{"$error":"#VALUE!"}},{"$f":"Feuil3!B114","v":0},{"$f":"Feuil3!C114","v":0},{"$f":"Feuil3!D114","v":0},{"$f":"Feuil3!E114","v":0},{"$f":"Feuil3!F114","v":0},{"$f":"Feuil3!G114","v":0},{"$f":"Feuil3!H114","v":0},{"$f":"Feuil3!I114","v":0},null,null,null,null,null,null,null,null,null,null,null,null,null,null,null,null,null,null,null,null,null,null,null,null,null,null,null,null,null,null,0]
[{"$f":"Feuil3!A115","v":0},{"$f":"Tableau1[[#This Row],[رقم الحساب]]","v":{"$error":"#VALUE!"}},{"$f":"Feuil3!B115","v":0},{"$f":"Feuil3!C115","v":0},{"$f":"Feuil3!D115","v":0},{"$f":"Feuil3!E115","v":0},{"$f":"Feuil3!F115","v":0},{"$f":"Feuil3!G115","v":0},{"$f":"Feuil3!H115","v":0},{"$f":"Feuil3!I115","v":0},null,null,null,null,null,null,null,null,null,null,null,null,null,null,null,null,null,null,null,null,null,null,null,null,null,null,null,null,null,null,0]
[{"$f":"Feuil3!A116","v":0},{"$f":"Tableau1[[#This Row],[رقم الحساب]]","v":{"$error":"#VALUE!"}},{"$f":"Feuil3!B116","v":0},{"$f":"Feuil3!C116","v":0},{"$f":"Feuil3!D116","v":0},{"$f":"Feuil3!E116","v":0},{"$f":"Feuil3!F116","v":0},{"$f":"Feuil3!G116","v":0},{"$f":"Feuil3!H116","v":0},{"$f":"Feuil3!I116","v":0},null,null,null,null,null,null,null,null,null,null,null,null,null,null,null,null,null,null,null,null,null,null,null,null,null,null,null,null,null,null,0]
[{"$f":"Feuil3!A117","v":0},{"$f":"Tableau1[[#This Row],[رقم الحساب]]","v":{"$error":"#VALUE!"}},{"$f":"Feuil3!B117","v":0},{"$f":"Feuil3!C117","v":0},{"$f":"Feuil3!D117","v":0},{"$f":"Feuil3!E117","v":0},{"$f":"Feuil3!F117","v":0},{"$f":"Feuil3!G117","v":0},{"$f":"Feuil3!H117","v":0},{"$f":"Feuil3!I117","v":0},null,null,null,null,null,null,null,null,null,null,null,null,null,null,null,null,null,null,null,null,null,null,null,null,null,null,null,null,null,null,0]
[{"$f":"Feuil3!A118","v":0},{"$f":"Tableau1[[#This Row],[رقم الحساب]]","v":{"$error":"#VALUE!"}},{"$f":"Feuil3!B118","v":0},{"$f":"Feuil3!C118","v":0},{"$f":"Feuil3!D118","v":0},{"$f":"Feuil3!E118","v":0},{"$f":"Feuil3!F118","v":0},{"$f":"Feuil3!G118","v":0},{"$f":"Feuil3!H118","v":0},{"$f":"Feuil3!I118","v":0},null,null,null,null,null,null,null,null,null,null,null,null,null,null,null,null,null,null,null,null,null,null,null,null,null,null,null,null,null,null,0]
[{"$f":"Feuil3!A119","v":0},{"$f":"Tableau1[[#This Row],[رقم الحساب]]","v":{"$error":"#VALUE!"}},{"$f":"Feuil3!B119","v":0},{"$f":"Feuil3!C119","v":0},{"$f":"Feuil3!D119","v":0},{"$f":"Feuil3!E119","v":0},{"$f":"Feuil3!F119","v":0},{"$f":"Feuil3!G119","v":0},{"$f":"Feuil3!H119","v":0},{"$f":"Feuil3!I119","v":0},null,null,null,null,null,null,null,null,null,null,null,null,null,null,null,null,null,null,null,null,null,null,null,null,null,null,null,null,null,null,0]
[{"$f":"Feuil3!A120","v":0},{"$f":"Tableau1[[#This Row],[رقم الحساب]]","v":{"$error":"#VALUE!"}},{"$f":"Feuil3!B120","v":0},{"$f":"Feuil3!C120","v":0},{"$f":"Feuil3!D120","v":0},{"$f":"Feuil3!E120","v":0},{"$f":"Feuil3!F120","v":0},{"$f":"Feuil3!G120","v":0},{"$f":"Feuil3!H120","v":0},{"$f":"Feuil3!I120","v":0},null,null,null,null,null,null,null,null,null,null,null,null,null,null,null,null,null,null,null,null,null,null,null,null,null,null,null,null,null,null,0]
[{"$f":"Feuil3!A121","v":0},{"$f":"Tableau1[[#This Row],[رقم الحساب]]","v":{"$error":"#VALUE!"}},{"$f":"Feuil3!B121","v":0},{"$f":"Feuil3!C121","v":0},{"$f":"Feuil3!D121","v":0},{"$f":"Feuil3!E121","v":0},{"$f":"Feuil3!F121","v":0},{"$f":"Feuil3!G121","v":0},{"$f":"Feuil3!H121","v":0},{"$f":"Feuil3!I121","v":0},null,null,null,null,null,null,null,null,null,null,null,null,null,null,null,null,null,null,null,null,null,null,null,null,null,null,null,null,null,null,0]
[{"$f":"Feuil3!A122","v":0},{"$f":"Tableau1[[#This Row],[رقم الحساب]]","v":{"$error":"#VALUE!"}},{"$f":"Feuil3!B122","v":0},{"$f":"Feuil3!C122","v":0},{"$f":"Feuil3!D122","v":0},{"$f":"Feuil3!E122","v":0},{"$f":"Feuil3!F122","v":0},{"$f":"Feuil3!G122","v":0},{"$f":"Feuil3!H122","v":0},{"$f":"Feuil3!I122","v":0},null,null,null,null,null,null,null,null,null,null,null,null,null,null,null,null,null,null,null,null,null,null,null,null,null,null,null,null,null,null,0]
[{"$f":"Feuil3!A123","v":0},{"$f":"Tableau1[[#This Row],[رقم الحساب]]","v":{"$error":"#VALUE!"}},{"$f":"Feuil3!B123","v":0},{"$f":"Feuil3!C123","v":0},{"$f":"Feuil3!D123","v":0},{"$f":"Feuil3!E123","v":0},{"$f":"Feuil3!F123","v":0},{"$f":"Feuil3!G123","v":0},{"$f":"Feuil3!H123","v":0},{"$f":"Feuil3!I123","v":0},null,null,null,null,null,null,null,null,null,null,null,null,null,null,null,null,null,null,null,null,null,null,null,null,null,null,null,null,null,null,0]
[{"$f":"Feuil3!A124","v":0},{"$f":"Tableau1[[#This Row],[رقم الحساب]]","v":{"$error":"#VALUE!"}},{"$f":"Feuil3!B124","v":0},{"$f":"Feuil3!C124","v":0},{"$f":"Feuil3!D124","v":0},{"$f":"Feuil3!E124","v":0},{"$f":"Feuil3!F124","v":0},{"$f":"Feuil3!G124","v":0},{"$f":"Feuil3!H124","v":0},{"$f":"Feuil3!I124","v":0},null,null,null,null,null,null,null,null,null,null,null,null,null,null,null,null,null,null,null,null,null,null,null,null,null,null,null,null,null,null,0]
[{"$f":"Feuil3!A125","v":0},{"$f":"Tableau1[[#This Row],[رقم الحساب]]","v":{"$error":"#VALUE!"}},{"$f":"Feuil3!B125","v":0},{"$f":"Feuil3!C125","v":0},{"$f":"Feuil3!D125","v":0},{"$f":"Feuil3!E125","v":0},{"$f":"Feuil3!F125","v":0},{"$f":"Feuil3!G125","v":0},{"$f":"Feuil3!H125","v":0},{"$f":"Feuil3!I125","v":0},null,null,null,null,null,null,null,null,null,null,null,null,null,null,null,null,null,null,null,null,null,null,null,null,null,null,null,null,null,null,0]
[{"$f":"Feuil3!A126","v":0},{"$f":"Tableau1[[#This Row],[رقم الحساب]]","v":{"$error":"#VALUE!"}},{"$f":"Feuil3!B126","v":0},{"$f":"Feuil3!C126","v":0},{"$f":"Feuil3!D126","v":0},{"$f":"Feuil3!E126","v":0},{"$f":"Feuil3!F126","v":0},{"$f":"Feuil3!G126","v":0},{"$f":"Feuil3!H126","v":0},{"$f":"Feuil3!I126","v":0},null,null,null,null,null,null,null,null,null,null,null,null,null,null,null,null,null,null,null,null,null,null,null,null,null,null,null,null,null,null,0]
[{"$f":"Feuil3!A127","v":0},{"$f":"Tableau1[[#This Row],[رقم الحساب]]","v":{"$error":"#VALUE!"}},{"$f":"Feuil3!B127","v":0},{"$f":"Feuil3!C127","v":0},{"$f":"Feuil3!D127","v":0},{"$f":"Feuil3!E127","v":0},{"$f":"Feuil3!F127","v":0},{"$f":"Feuil3!G127","v":0},{"$f":"Feuil3!H127","v":0},{"$f":"Feuil3!I127","v":0},null,null,null,null,null,null,null,null,null,null,null,null,null,null,null,null,null,null,null,null,null,null,null,null,null,null,null,null,null,null,0]
[{"$f":"Feuil3!A128","v":0},{"$f":"Tableau1[[#This Row],[رقم الحساب]]","v":{"$error":"#VALUE!"}},{"$f":"Feuil3!B128","v":0},{"$f":"Feuil3!C128","v":0},{"$f":"Feuil3!D128","v":0},{"$f":"Feuil3!E128","v":0},{"$f":"Feuil3!F128","v":0},{"$f":"Feuil3!G128","v":0},{"$f":"Feuil3!H128","v":0},{"$f":"Feuil3!I128","v":0},null,null,null,null,null,null,null,null,null,null,null,null,null,null,null,null,null,null,null,null,null,null,null,null,null,null,null,null,null,null,0]
[{"$f":"Feuil3!A129","v":0},{"$f":"Tableau1[[#This Row],[رقم الحساب]]","v":{"$error":"#VALUE!"}},{"$f":"Feuil3!B129","v":0},{"$f":"Feuil3!C129","v":0},{"$f":"Feuil3!D129","v":0},{"$f":"Feuil3!E129","v":0},{"$f":"Feuil3!F129","v":0},{"$f":"Feuil3!G129","v":0},{"$f":"Feuil3!H129","v":0},{"$f":"Feuil3!I129","v":0},null,null,null,null,null,null,null,null,null,null,null,null,null,null,null,null,null,null,null,null,null,null,null,null,null,null,null,null,null,null,0]
[{"$f":"Feuil3!A130","v":0},{"$f":"Tableau1[[#This Row],[رقم الحساب]]","v":{"$error":"#VALUE!"}},{"$f":"Feuil3!B130","v":0},{"$f":"Feuil3!C130","v":0},{"$f":"Feuil3!D130","v":0},{"$f":"Feuil3!E130","v":0},{"$f":"Feuil3!F130","v":0},{"$f":"Feuil3!G130","v":0},{"$f":"Feuil3!H130","v":0},{"$f":"Feuil3!I130","v":0},null,null,null,null,null,null,null,null,null,null,null,null,null,null,null,null,null,null,null,null,null,null,null,null,null,null,null,null,null,null,0]
[{"$f":"Feuil3!A131","v":0},{"$f":"Tableau1[[#This Row],[رقم الحساب]]","v":{"$error":"#VALUE!"}},{"$f":"Feuil3!B131","v":0},{"$f":"Feuil3!C131","v":0},{"$f":"Feuil3!D131","v":0},{"$f":"Feuil3!E131","v":0},{"$f":"Feuil3!F131","v":0},{"$f":"Feuil3!G131","v":0},{"$f":"Feuil3!H131","v":0},{"$f":"Feuil3!I131","v":0},null,null,null,null,null,null,null,null,null,null,null,null,null,null,null,null,null,null,null,null,null,null,null,null,null,null,null,null,null,null,{"$f":"A131","v":0}]
[{"$f":"Feuil3!A132","v":0},{"$f":"Tableau1[[#This Row],[رقم الحساب]]","v":{"$error":"#VALUE!"}},{"$f":"Feuil3!B132","v":0},{"$f":"Feuil3!C132","v":0},{"$f":"Feuil3!D132","v":0},{"$f":"Feuil3!E132","v":0},{"$f":"Feuil3!F132","v":0},{"$f":"Feuil3!G132","v":0},{"$f":"Feuil3!H132","v":0},{"$f":"Feuil3!I132","v":0},null,null,null,null,null,null,null,null,null,null,null,null,null,null,null,null,null,null,null,null,null,null,null,null,null,null,null,null,null,null,0]
[{"$f":"Feuil3!A133","v":0},{"$f":"Tableau1[[#This Row],[رقم الحساب]]","v":{"$error":"#VALUE!"}},{"$f":"Feuil3!B133","v":0},{"$f":"Feuil3!C133","v":0},{"$f":"Feuil3!D133","v":0},{"$f":"Feuil3!E133","v":0},{"$f":"Feuil3!F133","v":0},{"$f":"Feuil3!G133","v":0},{"$f":"Feuil3!H133","v":0},{"$f":"Feuil3!I133","v":0},null,null,null,null,null,null,null,null,null,null,null,null,null,null,null,null,null,null,null,null,null,null,null,null,null,null,null,null,null,null,0]
[{"$f":"Feuil3!A134","v":0},{"$f":"Tableau1[[#This Row],[رقم الحساب]]","v":{"$error":"#VALUE!"}},{"$f":"Feuil3!B134","v":0},{"$f":"Feuil3!C134","v":0},{"$f":"Feuil3!D134","v":0},{"$f":"Feuil3!E134","v":0},{"$f":"Feuil3!F134","v":0},{"$f":"Feuil3!G134","v":0},{"$f":"Feuil3!H134","v":0},{"$f":"Feuil3!I134","v":0},null,null,null,null,null,null,null,null,null,null,null,null,null,null,null,null,null,null,null,null,null,null,null,null,null,null,null,null,null,null,0]
[{"$f":"Feuil3!A135","v":0},{"$f":"Tableau1[[#This Row],[رقم الحساب]]","v":{"$error":"#VALUE!"}},{"$f":"Feuil3!B135","v":0},{"$f":"Feuil3!C135","v":0},{"$f":"Feuil3!D135","v":0},{"$f":"Feuil3!E135","v":0},{"$f":"Feuil3!F135","v":0},{"$f":"Feuil3!G135","v":0},{"$f":"Feuil3!H135","v":0},{"$f":"Feuil3!I135","v":0},null,null,null,null,null,null,null,null,null,null,null,null,null,null,null,null,null,null,null,null,null,null,null,null,null,null,null,null,null,null,0]
[{"$f":"Feuil3!A136","v":0},{"$f":"Tableau1[[#This Row],[رقم الحساب]]","v":{"$error":"#VALUE!"}},{"$f":"Feuil3!B136","v":0},{"$f":"Feuil3!C136","v":0},{"$f":"Feuil3!D136","v":0},{"$f":"Feuil3!E136","v":0},{"$f":"Feuil3!F136","v":0},{"$f":"Feuil3!G136","v":0},{"$f":"Feuil3!H136","v":0},{"$f":"Feuil3!I136","v":0},null,null,null,null,null,null,null,null,null,null,null,null,null,null,null,null,null,null,null,null,null,null,null,null,null,null,null,null,null,null,0]
[{"$f":"Feuil3!A137","v":0},{"$f":"Tableau1[[#This Row],[رقم الحساب]]","v":{"$error":"#VALUE!"}},{"$f":"Feuil3!B137","v":0},{"$f":"Feuil3!C137","v":0},{"$f":"Feuil3!D137","v":0},{"$f":"Feuil3!E137","v":0},{"$f":"Feuil3!F137","v":0},{"$f":"Feuil3!G137","v":0},{"$f":"Feuil3!H137","v":0},{"$f":"Feuil3!I137","v":0},null,null,null,null,null,null,null,null,null,null,null,null,null,null,null,null,null,null,null,null,null,null,null,null,null,null,null,null,null,null,0]
[{"$f":"Feuil3!A138","v":0},{"$f":"Tableau1[[#This Row],[رقم الحساب]]","v":{"$error":"#VALUE!"}},{"$f":"Feuil3!B138","v":0},{"$f":"Feuil3!C138","v":0},{"$f":"Feuil3!D138","v":0},{"$f":"Feuil3!E138","v":0},{"$f":"Feuil3!F138","v":0},{"$f":"Feuil3!G138","v":0},{"$f":"Feuil3!H138","v":0},{"$f":"Feuil3!I138","v":0},null,null,null,null,null,null,null,null,null,null,null,null,null,null,null,null,null,null,null,null,null,null,null,null,null,null,null,null,null,null,0]
[{"$f":"Feuil3!A139","v":0},{"$f":"Tableau1[[#This Row],[رقم الحساب]]","v":{"$error":"#VALUE!"}},{"$f":"Feuil3!B139","v":0},{"$f":"Feuil3!C139","v":0},{"$f":"Feuil3!D139","v":0},{"$f":"Feuil3!E139","v":0},{"$f":"Feuil3!F139","v":0},{"$f":"Feuil3!G139","v":0},{"$f":"Feuil3!H139","v":0},{"$f":"Feuil3!I139","v":0},null,null,null,null,null,null,null,null,null,null,null,null,null,null,null,null,null,null,null,null,null,null,null,null,null,null,null,null,null,null,0]
[{"$f":"Feuil3!A140","v":0},{"$f":"Tableau1[[#This Row],[رقم الحساب]]","v":{"$error":"#VALUE!"}},{"$f":"Feuil3!B140","v":0},{"$f":"Feuil3!C140","v":0},{"$f":"Feuil3!D140","v":0},{"$f":"Feuil3!E140","v":0},{"$f":"Feuil3!F140","v":0},{"$f":"Feuil3!G140","v":0},{"$f":"Feuil3!H140","v":0},{"$f":"Feuil3!I140","v":0},null,null,null,null,null,null,null,null,null,null,null,null,null,null,null,null,null,null,null,null,null,null,null,null,null,null,null,null,null,null,0]
[{"$f":"Feuil3!A141","v":0},{"$f":"Tableau1[[#This Row],[رقم الحساب]]","v":{"$error":"#VALUE!"}},{"$f":"Feuil3!B141","v":0},{"$f":"Feuil3!C141","v":0},{"$f":"Feuil3!D141","v":0},{"$f":"Feuil3!E141","v":0},{"$f":"Feuil3!F141","v":0},{"$f":"Feuil3!G141","v":0},{"$f":"Feuil3!H141","v":0},{"$f":"Feuil3!I141","v":0},null,null,null,null,null,null,null,null,null,null,null,null,null,null,null,null,null,null,null,null,null,null,null,null,null,null,null,null,null,null,0]
[{"$f":"Feuil3!A142","v":0},{"$f":"Tableau1[[#This Row],[رقم الحساب]]","v":{"$error":"#VALUE!"}},{"$f":"Feuil3!B142","v":0},{"$f":"Feuil3!C142","v":0},{"$f":"Feuil3!D142","v":0},{"$f":"Feuil3!E142","v":0},{"$f":"Feuil3!F142","v":0},{"$f":"Feuil3!G142","v":0},{"$f":"Feuil3!H142","v":0},{"$f":"Feuil3!I142","v":0},null,null,null,null,null,null,null,null,null,null,null,null,null,null,null,null,null,null,null,null,null,null,null,null,null,null,null,null,null,null,0]
[{"$f":"Feuil3!A143","v":0},{"$f":"Tableau1[[#This Row],[رقم الحساب]]","v":{"$error":"#VALUE!"}},{"$f":"Feuil3!B143","v":0},{"$f":"Feuil3!C143","v":0},{"$f":"Feuil3!D143","v":0},{"$f":"Feuil3!E143","v":0},{"$f":"Feuil3!F143","v":0},{"$f":"Feuil3!G143","v":0},{"$f":"Feuil3!H143","v":0},{"$f":"Feuil3!I143","v":0},null,null,null,null,null,null,null,null,null,null,null,null,null,null,null,null,null,null,null,null,null,null,null,null,null,null,null,null,null,null,0]
[{"$f":"Feuil3!A144","v":0},{"$f":"Tableau1[[#This Row],[رقم الحساب]]","v":{"$error":"#VALUE!"}},{"$f":"Feuil3!B144","v":0},{"$f":"Feuil3!C144","v":0},{"$f":"Feuil3!D144","v":0},{"$f":"Feuil3!E144","v":0},{"$f":"Feuil3!F144","v":0},{"$f":"Feuil3!G144","v":0},{"$f":"Feuil3!H144","v":0},{"$f":"Feuil3!I144","v":0},null,null,null,null,null,null,null,null,null,null,null,null,null,null,null,null,null,null,null,null,null,null,null,null,null,null,null,null,null,null,0]
[{"$f":"Feuil3!A145","v":0},{"$f":"Tableau1[[#This Row],[رقم الحساب]]","v":{"$error":"#VALUE!"}},{"$f":"Feuil3!B145","v":0},{"$f":"Feuil3!C145","v":0},{"$f":"Feuil3!D145","v":0},{"$f":"Feuil3!E145","v":0},{"$f":"Feuil3!F145","v":0},{"$f":"Feuil3!G145","v":0},{"$f":"Feuil3!H145","v":0},{"$f":"Feuil3!I145","v":0},null,null,null,null,null,null,null,null,null,null,null,null,null,null,null,null,null,null,null,null,null,null,null,null,null,null,null,null,null,null,0]
[{"$f":"Feuil3!A146","v":0},{"$f":"Tableau1[[#This Row],[رقم الحساب]]","v":{"$error":"#VALUE!"}},{"$f":"Feuil3!B146","v":0},{"$f":"Feuil3!C146","v":0},{"$f":"Feuil3!D146","v":0},{"$f":"Feuil3!E146","v":0},{"$f":"Feuil3!F146","v":0},{"$f":"Feuil3!G146","v":0},{"$f":"Feuil3!H146","v":0},{"$f":"Feuil3!I146","v":0},null,null,null,null,null,null,null,null,null,null,null,null,null,null,null,null,null,null,null,null,null,null,null,null,null,null,null,null,null,null,0]
[{"$f":"Feuil3!A147","v":0},{"$f":"Tableau1[[#This Row],[رقم الحساب]]","v":{"$error":"#VALUE!"}},{"$f":"Feuil3!B147","v":0},{"$f":"Feuil3!C147","v":0},{"$f":"Feuil3!D147","v":0},{"$f":"Feuil3!E147","v":0},{"$f":"Feuil3!F147","v":0},{"$f":"Feuil3!G147","v":0},{"$f":"Feuil3!H147","v":0},{"$f":"Feuil3!I147","v":0},null,null,null,null,null,null,null,null,null,null,null,null,null,null,null,null,null,null,null,null,null,null,null,null,null,null,null,null,null,null,0]
[{"$f":"Feuil3!A148","v":0},{"$f":"Tableau1[[#This Row],[رقم الحساب]]","v":{"$error":"#VALUE!"}},{"$f":"Feuil3!B148","v":0},{"$f":"Feuil3!C148","v":0},{"$f":"Feuil3!D148","v":0},{"$f":"Feuil3!E148","v":0},{"$f":"Feuil3!F148","v":0},{"$f":"Feuil3!G148","v":0},{"$f":"Feuil3!H148","v":0},{"$f":"Feuil3!I148","v":0},null,null,null,null,null,null,null,null,null,null,null,null,null,null,null,null,null,null,null,null,null,null,null,null,null,null,null,null,null,null,0]
[{"$f":"Feuil3!A149","v":0},{"$f":"Tableau1[[#This Row],[رقم الحساب]]","v":{"$error":"#VALUE!"}},{"$f":"Feuil3!B149","v":0},{"$f":"Feuil3!C149","v":0},{"$f":"Feuil3!D149","v":0},{"$f":"Feuil3!E149","v":0},{"$f":"Feuil3!F149","v":0},{"$f":"Feuil3!G149","v":0},{"$f":"Feuil3!H149","v":0},{"$f":"Feuil3!I149","v":0},null,null,null,null,null,null,null,null,null,null,null,null,null,null,null,null,null,null,null,null,null,null,null,null,null,null,null,null,null,null,0]
[{"$f":"Feuil3!A150","v":0},{"$f":"Tableau1[[#This Row],[رقم الحساب]]","v":{"$error":"#VALUE!"}},{"$f":"Feuil3!B150","v":0},{"$f":"Feuil3!C150","v":0},{"$f":"Feuil3!D150","v":0},{"$f":"Feuil3!E150","v":0},{"$f":"Feuil3!F150","v":0},{"$f":"Feuil3!G150","v":0},{"$f":"Feuil3!H150","v":0},{"$f":"Feuil3!I150","v":0},null,null,null,null,null,null,null,null,null,null,null,null,null,null,null,null,null,null,null,null,null,null,null,null,null,null,null,null,null,null,0]
[{"$f":"Feuil3!A151","v":0},{"$f":"Tableau1[[#This Row],[رقم الحساب]]","v":{"$error":"#VALUE!"}},{"$f":"Feuil3!B151","v":0},{"$f":"Feuil3!C151","v":0},{"$f":"Feuil3!D151","v":0},{"$f":"Feuil3!E151","v":0},{"$f":"Feuil3!F151","v":0},{"$f":"Feuil3!G151","v":0},{"$f":"Feuil3!H151","v":0},{"$f":"Feuil3!I151","v":0},null,null,null,null,null,null,null,null,null,null,null,null,null,null,null,null,null,null,null,null,null,null,null,null,null,null,null,null,null,null,0]
[{"$f":"Feuil3!A152","v":0},{"$f":"Tableau1[[#This Row],[رقم الحساب]]","v":{"$error":"#VALUE!"}},{"$f":"Feuil3!B152","v":0},{"$f":"Feuil3!C152","v":0},{"$f":"Feuil3!D152","v":0},{"$f":"Feuil3!E152","v":0},{"$f":"Feuil3!F152","v":0},{"$f":"Feuil3!G152","v":0},{"$f":"Feuil3!H152","v":0},{"$f":"Feuil3!I152","v":0},null,null,null,null,null,null,null,null,null,null,null,null,null,null,null,null,null,null,null,null,null,null,null,null,null,null,null,null,null,null,0]
[{"$f":"Feuil3!A153","v":0},{"$f":"Tableau1[[#This Row],[رقم الحساب]]","v":{"$error":"#VALUE!"}},{"$f":"Feuil3!B153","v":0},{"$f":"Feuil3!C153","v":0},{"$f":"Feuil3!D153","v":0},{"$f":"Feuil3!E153","v":0},{"$f":"Feuil3!F153","v":0},{"$f":"Feuil3!G153","v":0},{"$f":"Feuil3!H153","v":0},{"$f":"Feuil3!I153","v":0},null,null,null,null,null,null,null,null,null,null,null,null,null,null,null,null,null,null,null,null,null,null,null,null,null,null,null,null,null,null,0]
[{"$f":"Feuil3!A154","v":0},{"$f":"Tableau1[[#This Row],[رقم الحساب]]","v":{"$error":"#VALUE!"}},{"$f":"Feuil3!B154","v":0},{"$f":"Feuil3!C154","v":0},{"$f":"Feuil3!D154","v":0},{"$f":"Feuil3!E154","v":0},{"$f":"Feuil3!F154","v":0},{"$f":"Feuil3!G154","v":0},{"$f":"Feuil3!H154","v":0},{"$f":"Feuil3!I154","v":0},null,null,null,null,null,null,null,null,null,null,null,null,null,null,null,null,null,null,null,null,null,null,null,null,null,null,null,null,null,null,0]
[{"$f":"Feuil3!A155","v":0},{"$f":"Tableau1[[#This Row],[رقم الحساب]]","v":{"$error":"#VALUE!"}},{"$f":"Feuil3!B155","v":0},{"$f":"Feuil3!C155","v":0},{"$f":"Feuil3!D155","v":0},{"$f":"Feuil3!E155","v":0},{"$f":"Feuil3!F155","v":0},{"$f":"Feuil3!G155","v":0},{"$f":"Feuil3!H155","v":0},{"$f":"Feuil3!I155","v":0},null,null,null,null,null,null,null,null,null,null,null,null,null,null,null,null,null,null,null,null,null,null,null,null,null,null,null,null,null,null,0]
[{"$f":"Feuil3!A156","v":0},{"$f":"Tableau1[[#This Row],[رقم الحساب]]","v":{"$error":"#VALUE!"}},{"$f":"Feuil3!B156","v":0},{"$f":"Feuil3!C156","v":0},{"$f":"Feuil3!D156","v":0},{"$f":"Feuil3!E156","v":0},{"$f":"Feuil3!F156","v":0},{"$f":"Feuil3!G156","v":0},{"$f":"Feuil3!H156","v":0},{"$f":"Feuil3!I156","v":0},null,null,null,null,null,null,null,null,null,null,null,null,null,null,null,null,null,null,null,null,null,null,null,null,null,null,null,null,null,null,0]
[{"$f":"Feuil3!A157","v":0},{"$f":"Tableau1[[#This Row],[رقم الحساب]]","v":{"$error":"#VALUE!"}},{"$f":"Feuil3!B157","v":0},{"$f":"Feuil3!C157","v":0},{"$f":"Feuil3!D157","v":0},{"$f":"Feuil3!E157","v":0},{"$f":"Feuil3!F157","v":0},{"$f":"Feuil3!G157","v":0},{"$f":"Feuil3!H157","v":0},{"$f":"Feuil3!I157","v":0},null,null,null,null,null,null,null,null,null,null,null,null,null,null,null,null,null,null,null,null,null,null,null,null,null,null,null,null,null,null,0]
[{"$f":"Feuil3!A158","v":0},{"$f":"Tableau1[[#This Row],[رقم الحساب]]","v":{"$error":"#VALUE!"}},{"$f":"Feuil3!B158","v":0},{"$f":"Feuil3!C158","v":0},{"$f":"Feuil3!D158","v":0},{"$f":"Feuil3!E158","v":0},{"$f":"Feuil3!F158","v":0},{"$f":"Feuil3!G158","v":0},{"$f":"Feuil3!H158","v":0},{"$f":"Feuil3!I158","v":0},null,null,null,null,null,null,null,null,null,null,null,null,null,null,null,null,null,null,null,null,null,null,null,null,null,null,null,null,null,null,0]
[{"$f":"Feuil3!A159","v":0},{"$f":"Tableau1[[#This Row],[رقم الحساب]]","v":{"$error":"#VALUE!"}},{"$f":"Feuil3!B159","v":0},{"$f":"Feuil3!C159","v":0},{"$f":"Feuil3!D159","v":0},{"$f":"Feuil3!E159","v":0},{"$f":"Feuil3!F159","v":0},{"$f":"Feuil3!G159","v":0},{"$f":"Feuil3!H159","v":0},{"$f":"Feuil3!I159","v":0},null,null,null,null,null,null,null,null,null,null,null,null,null,null,null,null,null,null,null,null,null,null,null,null,null,null,null,null,null,null,0]
[{"$f":"Feuil3!A160","v":0},{"$f":"Tableau1[[#This Row],[رقم الحساب]]","v":{"$error":"#VALUE!"}},{"$f":"Feuil3!B160","v":0},{"$f":"Feuil3!C160","v":0},{"$f":"Feuil3!D160","v":0},{"$f":"Feuil3!E160","v":0},{"$f":"Feuil3!F160","v":0},{"$f":"Feuil3!G160","v":0},{"$f":"Feuil3!H160","v":0},{"$f":"Feuil3!I160","v":0},null,null,null,null,null,null,null,null,null,null,null,null,null,null,null,null,null,null,null,null,null,null,null,null,null,null,null,null,null,null,0]
[{"$f":"Feuil3!A161","v":0},{"$f":"Tableau1[[#This Row],[رقم الحساب]]","v":{"$error":"#VALUE!"}},{"$f":"Feuil3!B161","v":0},{"$f":"Feuil3!C161","v":0},{"$f":"Feuil3!D161","v":0},{"$f":"Feuil3!E161","v":0},{"$f":"Feuil3!F161","v":0},{"$f":"Feuil3!G161","v":0},{"$f":"Feuil3!H161","v":0},{"$f":"Feuil3!I161","v":0},null,null,null,null,null,null,null,null,null,null,null,null,null,null,null,null,null,null,null,null,null,null,null,null,null,null,null,null,null,null,0]
[{"$f":"Feuil3!A162","v":0},{"$f":"Tableau1[[#This Row],[رقم الحساب]]","v":{"$error":"#VALUE!"}},{"$f":"Feuil3!B162","v":0},{"$f":"Feuil3!C162","v":0},{"$f":"Feuil3!D162","v":0},{"$f":"Feuil3!E162","v":0},{"$f":"Feuil3!F162","v":0},{"$f":"Feuil3!G162","v":0},{"$f":"Feuil3!H162","v":0},{"$f":"Feuil3!I162","v":0},null,null,null,null,null,null,null,null,null,null,null,null,null,null,null,null,null,null,null,null,null,null,null,null,null,null,null,null,null,null,0]
[{"$f":"Feuil3!A163","v":0},{"$f":"Tableau1[[#This Row],[رقم الحساب]]","v":{"$error":"#VALUE!"}},{"$f":"Feuil3!B163","v":0},{"$f":"Feuil3!C163","v":0},{"$f":"Feuil3!D163","v":0},{"$f":"Feuil3!E163","v":0},{"$f":"Feuil3!F163","v":0},{"$f":"Feuil3!G163","v":0},{"$f":"Feuil3!H163","v":0},{"$f":"Feuil3!I163","v":0},null,null,null,null,null,null,null,null,null,null,null,null,null,null,null,null,null,null,null,null,null,null,null,null,null,null,null,null,null,null,0]
[{"$f":"Feuil3!A164","v":0},{"$f":"Tableau1[[#This Row],[رقم الحساب]]","v":{"$error":"#VALUE!"}},{"$f":"Feuil3!B164","v":0},{"$f":"Feuil3!C164","v":0},{"$f":"Feuil3!D164","v":0},{"$f":"Feuil3!E164","v":0},{"$f":"Feuil3!F164","v":0},{"$f":"Feuil3!G164","v":0},{"$f":"Feuil3!H164","v":0},{"$f":"Feuil3!I164","v":0},null,null,null,null,null,null,null,null,null,null,null,null,null,null,null,null,null,null,null,null,null,null,null,null,null,null,null,null,null,null,0]
[{"$f":"Feuil3!A165","v":0},{"$f":"Tableau1[[#This Row],[رقم الحساب]]","v":{"$error":"#VALUE!"}},{"$f":"Feuil3!B165","v":0},{"$f":"Feuil3!C165","v":0},{"$f":"Feuil3!D165","v":0},{"$f":"Feuil3!E165","v":0},{"$f":"Feuil3!F165","v":0},{"$f":"Feuil3!G165","v":0},{"$f":"Feuil3!H165","v":0},{"$f":"Feuil3!I165","v":0},null,null,null,null,null,null,null,null,null,null,null,null,null,null,null,null,null,null,null,null,null,null,null,null,null,null,null,null,null,null,0]
[{"$f":"Feuil3!A166","v":0},{"$f":"Tableau1[[#This Row],[رقم الحساب]]","v":{"$error":"#VALUE!"}},{"$f":"Feuil3!B166","v":0},{"$f":"Feuil3!C166","v":0},{"$f":"Feuil3!D166","v":0},{"$f":"Feuil3!E166","v":0},{"$f":"Feuil3!F166","v":0},{"$f":"Feuil3!G166","v":0},{"$f":"Feuil3!H166","v":0},{"$f":"Feuil3!I166","v":0},null,null,null,null,null,null,null,null,null,null,null,null,null,null,null,null,null,null,null,null,null,null,null,null,null,null,null,null,null,null,0]
[{"$f":"Feuil3!A167","v":0},{"$f":"Tableau1[[#This Row],[رقم الحساب]]","v":{"$error":"#VALUE!"}},{"$f":"Feuil3!B167","v":0},{"$f":"Feuil3!C167","v":0},{"$f":"Feuil3!D167","v":0},{"$f":"Feuil3!E167","v":0},{"$f":"Feuil3!F167","v":0},{"$f":"Feuil3!G167","v":0},{"$f":"Feuil3!H167","v":0},{"$f":"Feuil3!I167","v":0},null,null,null,null,null,null,null,null,null,null,null,null,null,null,null,null,null,null,null,null,null,null,null,null,null,null,null,null,null,null,0]
[{"$f":"Feuil3!A168","v":0},{"$f":"Tableau1[[#This Row],[رقم الحساب]]","v":{"$error":"#VALUE!"}},{"$f":"Feuil3!B168","v":0},{"$f":"Feuil3!C168","v":0},{"$f":"Feuil3!D168","v":0},{"$f":"Feuil3!E168","v":0},{"$f":"Feuil3!F168","v":0},{"$f":"Feuil3!G168","v":0},{"$f":"Feuil3!H168","v":0},{"$f":"Feuil3!I168","v":0},null,null,null,null,null,null,null,null,null,null,null,null,null,null,null,null,null,null,null,null,null,null,null,null,null,null,null,null,null,null,0]
[{"$f":"Feuil3!A169","v":0},{"$f":"Tableau1[[#This Row],[رقم الحساب]]","v":{"$error":"#VALUE!"}},{"$f":"Feuil3!B169","v":0},{"$f":"Feuil3!C169","v":0},{"$f":"Feuil3!D169","v":0},{"$f":"Feuil3!E169","v":0},{"$f":"Feuil3!F169","v":0},{"$f":"Feuil3!G169","v":0},{"$f":"Feuil3!H169","v":0},{"$f":"Feuil3!I169","v":0},null,null,null,null,null,null,null,null,null,null,null,null,null,null,null,null,null,null,null,null,null,null,null,null,null,null,null,null,null,null,0]
[{"$f":"Feuil3!A170","v":0},{"$f":"Tableau1[[#This Row],[رقم الحساب]]","v":{"$error":"#VALUE!"}},{"$f":"Feuil3!B170","v":0},{"$f":"Feuil3!C170","v":0},{"$f":"Feuil3!D170","v":0},{"$f":"Feuil3!E170","v":0},{"$f":"Feuil3!F170","v":0},{"$f":"Feuil3!G170","v":0},{"$f":"Feuil3!H170","v":0},{"$f":"Feuil3!I170","v":0},null,null,null,null,null,null,null,null,null,null,null,null,null,null,null,null,null,null,null,null,null,null,null,null,null,null,null,null,null,null,0]
[{"$f":"Feuil3!A171","v":0},{"$f":"Tableau1[[#This Row],[رقم الحساب]]","v":{"$error":"#VALUE!"}},{"$f":"Feuil3!B171","v":0},{"$f":"Feuil3!C171","v":0},{"$f":"Feuil3!D171","v":0},{"$f":"Feuil3!E171","v":0},{"$f":"Feuil3!F171","v":0},{"$f":"Feuil3!G171","v":0},{"$f":"Feuil3!H171","v":0},{"$f":"Feuil3!I171","v":0},null,null,null,null,null,null,null,null,null,null,null,null,null,null,null,null,null,null,null,null,null,null,null,null,null,null,null,null,null,null,0]
[{"$f":"Feuil3!A172","v":0},{"$f":"Tableau1[[#This Row],[رقم الحساب]]","v":{"$error":"#VALUE!"}},{"$f":"Feuil3!B172","v":0},{"$f":"Feuil3!C172","v":0},{"$f":"Feuil3!D172","v":0},{"$f":"Feuil3!E172","v":0},{"$f":"Feuil3!F172","v":0},{"$f":"Feuil3!G172","v":0},{"$f":"Feuil3!H172","v":0},{"$f":"Feuil3!I172","v":0},null,null,null,null,null,null,null,null,null,null,null,null,null,null,null,null,null,null,null,null,null,null,null,null,null,null,null,null,null,null,0]
[{"$f":"Feuil3!A173","v":0},{"$f":"Tableau1[[#This Row],[رقم الحساب]]","v":{"$error":"#VALUE!"}},{"$f":"Feuil3!B173","v":0},{"$f":"Feuil3!C173","v":0},{"$f":"Feuil3!D173","v":0},{"$f":"Feuil3!E173","v":0},{"$f":"Feuil3!F173","v":0},{"$f":"Feuil3!G173","v":0},{"$f":"Feuil3!H173","v":0},{"$f":"Feuil3!I173","v":0},null,null,null,null,null,null,null,null,null,null,null,null,null,null,null,null,null,null,null,null,null,null,null,null,null,null,null,null,null,null,0]
[{"$f":"Feuil3!A174","v":0},{"$f":"Tableau1[[#This Row],[رقم الحساب]]","v":{"$error":"#VALUE!"}},{"$f":"Feuil3!B174","v":0},{"$f":"Feuil3!C174","v":0},{"$f":"Feuil3!D174","v":0},{"$f":"Feuil3!E174","v":0},{"$f":"Feuil3!F174","v":0},{"$f":"Feuil3!G174","v":0},{"$f":"Feuil3!H174","v":0},{"$f":"Feuil3!I174","v":0},null,null,null,null,null,null,null,null,null,null,null,null,null,null,null,null,null,null,null,null,null,null,null,null,null,null,null,null,null,null,0]
[{"$f":"Feuil3!A175","v":0},{"$f":"Tableau1[[#This Row],[رقم الحساب]]","v":{"$error":"#VALUE!"}},{"$f":"Feuil3!B175","v":0},{"$f":"Feuil3!C175","v":0},{"$f":"Feuil3!D175","v":0},{"$f":"Feuil3!E175","v":0},{"$f":"Feuil3!F175","v":0},{"$f":"Feuil3!G175","v":0},{"$f":"Feuil3!H175","v":0},{"$f":"Feuil3!I175","v":0},null,null,null,null,null,null,null,null,null,null,null,null,null,null,null,null,null,null,null,null,null,null,null,null,null,null,null,null,null,null,0]
[{"$f":"Feuil3!A176","v":0},{"$f":"Tableau1[[#This Row],[رقم الحساب]]","v":{"$error":"#VALUE!"}},{"$f":"Feuil3!B176","v":0},{"$f":"Feuil3!C176","v":0},{"$f":"Feuil3!D176","v":0},{"$f":"Feuil3!E176","v":0},{"$f":"Feuil3!F176","v":0},{"$f":"Feuil3!G176","v":0},{"$f":"Feuil3!H176","v":0},{"$f":"Feuil3!I176","v":0},null,null,null,null,null,null,null,null,null,null,null,null,null,null,null,null,null,null,null,null,null,null,null,null,null,null,null,null,null,null,0]
[{"$f":"Feuil3!A177","v":0},{"$f":"Tableau1[[#This Row],[رقم الحساب]]","v":{"$error":"#VALUE!"}},{"$f":"Feuil3!B177","v":0},{"$f":"Feuil3!C177","v":0},{"$f":"Feuil3!D177","v":0},{"$f":"Feuil3!E177","v":0},{"$f":"Feuil3!F177","v":0},{"$f":"Feuil3!G177","v":0},{"$f":"Feuil3!H177","v":0},{"$f":"Feuil3!I177","v":0},null,null,null,null,null,null,null,null,null,null,null,null,null,null,null,null,null,null,null,null,null,null,null,null,null,null,null,null,null,null,0]
[{"$f":"Feuil3!A178","v":0},{"$f":"Tableau1[[#This Row],[رقم الحساب]]","v":{"$error":"#VALUE!"}},{"$f":"Feuil3!B178","v":0},{"$f":"Feuil3!C178","v":0},{"$f":"Feuil3!D178","v":0},{"$f":"Feuil3!E178","v":0},{"$f":"Feuil3!F178","v":0},{"$f":"Feuil3!G178","v":0},{"$f":"Feuil3!H178","v":0},{"$f":"Feuil3!I178","v":0},null,null,null,null,null,null,null,null,null,null,null,null,null,null,null,null,null,null,null,null,null,null,null,null,null,null,null,null,null,null,0]
[{"$f":"Feuil3!A179","v":0},{"$f":"Tableau1[[#This Row],[رقم الحساب]]","v":{"$error":"#VALUE!"}},{"$f":"Feuil3!B179","v":0},{"$f":"Feuil3!C179","v":0},{"$f":"Feuil3!D179","v":0},{"$f":"Feuil3!E179","v":0},{"$f":"Feuil3!F179","v":0},{"$f":"Feuil3!G179","v":0},{"$f":"Feuil3!H179","v":0},{"$f":"Feuil3!I179","v":0},null,null,null,null,null,null,null,null,null,null,null,null,null,null,null,null,null,null,null,null,null,null,null,null,null,null,null,null,null,null,0]
[{"$f":"Feuil3!A180","v":0},{"$f":"Tableau1[[#This Row],[رقم الحساب]]","v":{"$error":"#VALUE!"}},{"$f":"Feuil3!B180","v":0},{"$f":"Feuil3!C180","v":0},{"$f":"Feuil3!D180","v":0},{"$f":"Feuil3!E180","v":0},{"$f":"Feuil3!F180","v":0},{"$f":"Feuil3!G180","v":0},{"$f":"Feuil3!H180","v":0},{"$f":"Feuil3!I180","v":0},null,null,null,null,null,null,null,null,null,null,null,null,null,null,null,null,null,null,null,null,null,null,null,null,null,null,null,null,null,null,0]
[{"$f":"Feuil3!A181","v":0},{"$f":"Tableau1[[#This Row],[رقم الحساب]]","v":{"$error":"#VALUE!"}},{"$f":"Feuil3!B181","v":0},{"$f":"Feuil3!C181","v":0},{"$f":"Feuil3!D181","v":0},{"$f":"Feuil3!E181","v":0},{"$f":"Feuil3!F181","v":0},{"$f":"Feuil3!G181","v":0},{"$f":"Feuil3!H181","v":0},{"$f":"Feuil3!I181","v":0},null,null,null,null,null,null,null,null,null,null,null,null,null,null,null,null,null,null,null,null,null,null,null,null,null,null,null,null,null,null,0]
[{"$f":"Feuil3!A182","v":0},{"$f":"Tableau1[[#This Row],[رقم الحساب]]","v":{"$error":"#VALUE!"}},{"$f":"Feuil3!B182","v":0},{"$f":"Feuil3!C182","v":0},{"$f":"Feuil3!D182","v":0},{"$f":"Feuil3!E182","v":0},{"$f":"Feuil3!F182","v":0},{"$f":"Feuil3!G182","v":0},{"$f":"Feuil3!H182","v":0},{"$f":"Feuil3!I182","v":0},null,null,null,null,null,null,null,null,null,null,null,null,null,null,null,null,null,null,null,null,null,null,null,null,null,null,null,null,null,null,0]
[{"$f":"Feuil3!A183","v":0},{"$f":"Tableau1[[#This Row],[رقم الحساب]]","v":{"$error":"#VALUE!"}},{"$f":"Feuil3!B183","v":0},{"$f":"Feuil3!C183","v":0},{"$f":"Feuil3!D183","v":0},{"$f":"Feuil3!E183","v":0},{"$f":"Feuil3!F183","v":0},{"$f":"Feuil3!G183","v":0},{"$f":"Feuil3!H183","v":0},{"$f":"Feuil3!I183","v":0},null,null,null,null,null,null,null,null,null,null,null,null,null,null,null,null,null,null,null,null,null,null,null,null,null,null,null,null,null,null,0]
[{"$f":"Feuil3!A184","v":0},{"$f":"Tableau1[[#This Row],[رقم الحساب]]","v":{"$error":"#VALUE!"}},{"$f":"Feuil3!B184","v":0},{"$f":"Feuil3!C184","v":0},{"$f":"Feuil3!D184","v":0},{"$f":"Feuil3!E184","v":0},{"$f":"Feuil3!F184","v":0},{"$f":"Feuil3!G184","v":0},{"$f":"Feuil3!H184","v":0},{"$f":"Feuil3!I184","v":0},null,null,null,null,null,null,null,null,null,null,null,null,null,null,null,null,null,null,null,null,null,null,null,null,null,null,null,null,null,null,0]
[{"$f":"Feuil3!A185","v":0},{"$f":"Tableau1[[#This Row],[رقم الحساب]]","v":{"$error":"#VALUE!"}},{"$f":"Feuil3!B185","v":0},{"$f":"Feuil3!C185","v":0},{"$f":"Feuil3!D185","v":0},{"$f":"Feuil3!E185","v":0},{"$f":"Feuil3!F185","v":0},{"$f":"Feuil3!G185","v":0},{"$f":"Feuil3!H185","v":0},{"$f":"Feuil3!I185","v":0},null,null,null,null,null,null,null,null,null,null,null,null,null,null,null,null,null,null,null,null,null,null,null,null,null,null,null,null,null,null,0]
[{"$f":"Feuil3!A186","v":0},{"$f":"Tableau1[[#This Row],[رقم الحساب]]","v":{"$error":"#VALUE!"}},{"$f":"Feuil3!B186","v":0},{"$f":"Feuil3!C186","v":0},{"$f":"Feuil3!D186","v":0},{"$f":"Feuil3!E186","v":0},{"$f":"Feuil3!F186","v":0},{"$f":"Feuil3!G186","v":0},{"$f":"Feuil3!H186","v":0},{"$f":"Feuil3!I186","v":0},null,null,null,null,null,null,null,null,null,null,null,null,null,null,null,null,null,null,null,null,null,null,null,null,null,null,null,null,null,null,0]
[{"$f":"Feuil3!A187","v":0},{"$f":"Tableau1[[#This Row],[رقم الحساب]]","v":{"$error":"#VALUE!"}},{"$f":"Feuil3!B187","v":0},{"$f":"Feuil3!C187","v":0},{"$f":"Feuil3!D187","v":0},{"$f":"Feuil3!E187","v":0},{"$f":"Feuil3!F187","v":0},{"$f":"Feuil3!G187","v":0},{"$f":"Feuil3!H187","v":0},{"$f":"Feuil3!I187","v":0},null,null,null,null,null,null,null,null,null,null,null,null,null,null,null,null,null,null,null,null,null,null,null,null,null,null,null,null,null,null,0]
[{"$f":"Feuil3!A188","v":0},{"$f":"Tableau1[[#This Row],[رقم الحساب]]","v":{"$error":"#VALUE!"}},{"$f":"Feuil3!B188","v":0},{"$f":"Feuil3!C188","v":0},{"$f":"Feuil3!D188","v":0},{"$f":"Feuil3!E188","v":0},{"$f":"Feuil3!F188","v":0},{"$f":"Feuil3!G188","v":0},{"$f":"Feuil3!H188","v":0},{"$f":"Feuil3!I188","v":0},null,null,null,null,null,null,null,null,null,null,null,null,null,null,null,null,null,null,null,null,null,null,null,null,null,null,null,null,null,null,0]
[{"$f":"Feuil3!A189","v":0},{"$f":"Tableau1[[#This Row],[رقم الحساب]]","v":{"$error":"#VALUE!"}},{"$f":"Feuil3!B189","v":0},{"$f":"Feuil3!C189","v":0},{"$f":"Feuil3!D189","v":0},{"$f":"Feuil3!E189","v":0},{"$f":"Feuil3!F189","v":0},{"$f":"Feuil3!G189","v":0},{"$f":"Feuil3!H189","v":0},{"$f":"Feuil3!I189","v":0},null,null,null,null,null,null,null,null,null,null,null,null,null,null,null,null,null,null,null,null,null,null,null,null,null,null,null,null,null,null,0]
[{"$f":"Feuil3!A190","v":0},{"$f":"Tableau1[[#This Row],[رقم الحساب]]","v":{"$error":"#VALUE!"}},{"$f":"Feuil3!B190","v":0},{"$f":"Feuil3!C190","v":0},{"$f":"Feuil3!D190","v":0},{"$f":"Feuil3!E190","v":0},{"$f":"Feuil3!F190","v":0},{"$f":"Feuil3!G190","v":0},{"$f":"Feuil3!H190","v":0},{"$f":"Feuil3!I190","v":0},null,null,null,null,null,null,null,null,null,null,null,null,null,null,null,null,null,null,null,null,null,null,null,null,null,null,null,null,null,null,0]
[{"$f":"Feuil3!A191","v":0},{"$f":"Tableau1[[#This Row],[رقم الحساب]]","v":{"$error":"#VALUE!"}},{"$f":"Feuil3!B191","v":0},{"$f":"Feuil3!C191","v":0},{"$f":"Feuil3!D191","v":0},{"$f":"Feuil3!E191","v":0},{"$f":"Feuil3!F191","v":0},{"$f":"Feuil3!G191","v":0},{"$f":"Feuil3!H191","v":0},{"$f":"Feuil3!I191","v":0},null,null,null,null,null,null,null,null,null,null,null,null,null,null,null,null,null,null,null,null,null,null,null,null,null,null,null,null,null,null,0]
[{"$f":"Feuil3!A192","v":0},{"$f":"Tableau1[[#This Row],[رقم الحساب]]","v":{"$error":"#VALUE!"}},{"$f":"Feuil3!B192","v":0},{"$f":"Feuil3!C192","v":0},{"$f":"Feuil3!D192","v":0},{"$f":"Feuil3!E192","v":0},{"$f":"Feuil3!F192","v":0},{"$f":"Feuil3!G192","v":0},{"$f":"Feuil3!H192","v":0},{"$f":"Feuil3!I192","v":0},null,null,null,null,null,null,null,null,null,null,null,null,null,null,null,null,null,null,null,null,null,null,null,null,null,null,null,null,null,null,0]
[{"$f":"Feuil3!A193","v":0},{"$f":"Tableau1[[#This Row],[رقم الحساب]]","v":{"$error":"#VALUE!"}},{"$f":"Feuil3!B193","v":0},{"$f":"Feuil3!C193","v":0},{"$f":"Feuil3!D193","v":0},{"$f":"Feuil3!E193","v":0},{"$f":"Feuil3!F193","v":0},{"$f":"Feuil3!G193","v":0},{"$f":"Feuil3!H193","v":0},{"$f":"Feuil3!I193","v":0},null,null,null,null,null,null,null,null,null,null,null,null,null,null,null,null,null,null,null,null,null,null,null,null,null,null,null,null,null,null,0]
[{"$f":"Feuil3!A194","v":0},{"$f":"Tableau1[[#This Row],[رقم الحساب]]","v":{"$error":"#VALUE!"}},{"$f":"Feuil3!B194","v":0},{"$f":"Feuil3!C194","v":0},{"$f":"Feuil3!D194","v":0},{"$f":"Feuil3!E194","v":0},{"$f":"Feuil3!F194","v":0},{"$f":"Feuil3!G194","v":0},{"$f":"Feuil3!H194","v":0},{"$f":"Feuil3!I194","v":0},null,null,null,null,null,null,null,null,null,null,null,null,null,null,null,null,null,null,null,null,null,null,null,null,null,null,null,null,null,null,0]
[{"$f":"Feuil3!A195","v":0},{"$f":"Tableau1[[#This Row],[رقم الحساب]]","v":{"$error":"#VALUE!"}},{"$f":"Feuil3!B195","v":0},{"$f":"Feuil3!C195","v":0},{"$f":"Feuil3!D195","v":0},{"$f":"Feuil3!E195","v":0},{"$f":"Feuil3!F195","v":0},{"$f":"Feuil3!G195","v":0},{"$f":"Feuil3!H195","v":0},{"$f":"Feuil3!I195","v":0},null,null,null,null,null,null,null,null,null,null,null,null,null,null,null,null,null,null,null,null,null,null,null,null,null,null,null,null,null,null,{"$f":"A195","v":0}]
[{"$f":"Feuil3!A196","v":0},{"$f":"Tableau1[[#This Row],[رقم الحساب]]","v":{"$error":"#VALUE!"}},{"$f":"Feuil3!B196","v":0},{"$f":"Feuil3!C196","v":0},{"$f":"Feuil3!D196","v":0},{"$f":"Feuil3!E196","v":0},{"$f":"Feuil3!F196","v":0},{"$f":"Feuil3!G196","v":0},{"$f":"Feuil3!H196","v":0},{"$f":"Feuil3!I196","v":0},null,null,null,null,null,null,null,null,null,null,null,null,null,null,null,null,null,null,null,null,null,null,null,null,null,null,null,null,null,null,0]
[{"$f":"Feuil3!A197","v":0},{"$f":"Tableau1[[#This Row],[رقم الحساب]]","v":{"$error":"#VALUE!"}},{"$f":"Feuil3!B197","v":0},{"$f":"Feuil3!C197","v":0},{"$f":"Feuil3!D197","v":0},{"$f":"Feuil3!E197","v":0},{"$f":"Feuil3!F197","v":0},{"$f":"Feuil3!G197","v":0},{"$f":"Feuil3!H197","v":0},{"$f":"Feuil3!I197","v":0},null,null,null,null,null,null,null,null,null,null,null,null,null,null,null,null,null,null,null,null,null,null,null,null,null,null,null,null,null,null,0]
[{"$f":"Feuil3!A198","v":0},{"$f":"Tableau1[[#This Row],[رقم الحساب]]","v":{"$error":"#VALUE!"}},{"$f":"Feuil3!B198","v":0},{"$f":"Feuil3!C198","v":0},{"$f":"Feuil3!D198","v":0},{"$f":"Feuil3!E198","v":0},{"$f":"Feuil3!F198","v":0},{"$f":"Feuil3!G198","v":0},{"$f":"Feuil3!H198","v":0},{"$f":"Feuil3!I198","v":0},null,null,null,null,null,null,null,null,null,null,null,null,null,null,null,null,null,null,null,null,null,null,null,null,null,null,null,null,null,null,0]
[{"$f":"Feuil3!A199","v":0},{"$f":"Tableau1[[#This Row],[رقم الحساب]]","v":{"$error":"#VALUE!"}},{"$f":"Feuil3!B199","v":0},{"$f":"Feuil3!C199","v":0},{"$f":"Feuil3!D199","v":0},{"$f":"Feuil3!E199","v":0},{"$f":"Feuil3!F199","v":0},{"$f":"Feuil3!G199","v":0},{"$f":"Feuil3!H199","v":0},{"$f":"Feuil3!I199","v":0},null,null,null,null,null,null,null,null,null,null,null,null,null,null,null,null,null,null,null,null,null,null,null,null,null,null,null,null,null,null,0]
[{"$f":"Feuil3!A200","v":0},{"$f":"Tableau1[[#This Row],[رقم الحساب]]","v":{"$error":"#VALUE!"}},{"$f":"Feuil3!B200","v":0},{"$f":"Feuil3!C200","v":0},{"$f":"Feuil3!D200","v":0},{"$f":"Feuil3!E200","v":0},{"$f":"Feuil3!F200","v":0},{"$f":"Feuil3!G200","v":0},{"$f":"Feuil3!H200","v":0},{"$f":"Feuil3!I200","v":0},null,null,null,null,null,null,null,null,null,null,null,null,null,null,null,null,null,null,null,null,null,null,null,null,null,null,null,null,null,null,0]
[{"$f":"Feuil3!A201","v":0},{"$f":"Tableau1[[#This Row],[رقم الحساب]]","v":{"$error":"#VALUE!"}},{"$f":"Feuil3!B201","v":0},{"$f":"Feuil3!C201","v":0},{"$f":"Feuil3!D201","v":0},{"$f":"Feuil3!E201","v":0},{"$f":"Feuil3!F201","v":0},{"$f":"Feuil3!G201","v":0},{"$f":"Feuil3!H201","v":0},{"$f":"Feuil3!I201","v":0}]
[{"$f":"Feuil3!A202","v":0},{"$f":"Tableau1[[#This Row],[رقم الحساب]]","v":{"$error":"#VALUE!"}},{"$f":"Feuil3!B202","v":0},{"$f":"Feuil3!C202","v":0},{"$f":"Feuil3!D202","v":0},{"$f":"Feuil3!E202","v":0},{"$f":"Feuil3!F202","v":0},{"$f":"Feuil3!G202","v":0},{"$f":"Feuil3!H202","v":0},{"$f":"Feuil3!I202","v":0}]
[{"$f":"Feuil3!A203","v":0},{"$f":"Tableau1[[#This Row],[رقم الحساب]]","v":{"$error":"#VALUE!"}},{"$f":"Feuil3!B203","v":0},{"$f":"Feuil3!C203","v":0},{"$f":"Feuil3!D203","v":0},{"$f":"Feuil3!E203","v":0},{"$f":"Feuil3!F203","v":0},{"$f":"Feuil3!G203","v":0},{"$f":"Feuil3!H203","v":0},{"$f":"Feuil3!I203","v":0}]
[{"$f":"Feuil3!A204","v":0},{"$f":"Tableau1[[#This Row],[رقم الحساب]]","v":{"$error":"#VALUE!"}},{"$f":"Feuil3!B204","v":0},{"$f":"Feuil3!C204","v":0},{"$f":"Feuil3!D204","v":0},{"$f":"Feuil3!E204","v":0},{"$f":"Feuil3!F204","v":0},{"$f":"Feuil3!G204","v":0},{"$f":"Feuil3!H204","v":0},{"$f":"Feuil3!I204","v":0}]
[{"$f":"Feuil3!A205","v":0},{"$f":"Tableau1[[#This Row],[رقم الحساب]]","v":{"$error":"#VALUE!"}},{"$f":"Feuil3!B205","v":0},{"$f":"Feuil3!C205","v":0},{"$f":"Feuil3!D205","v":0},{"$f":"Feuil3!E205","v":0},{"$f":"Feuil3!F205","v":0},{"$f":"Feuil3!G205","v":0},{"$f":"Feuil3!H205","v":0},{"$f":"Feuil3!I205","v":0}]
[{"$f":"Feuil3!A206","v":0},{"$f":"Tableau1[[#This Row],[رقم الحساب]]","v":{"$error":"#VALUE!"}},{"$f":"Feuil3!B206","v":0},{"$f":"Feuil3!C206","v":0},{"$f":"Feuil3!D206","v":0},{"$f":"Feuil3!E206","v":0},{"$f":"Feuil3!F206","v":0},{"$f":"Feuil3!G206","v":0},{"$f":"Feuil3!H206","v":0},{"$f":"Feuil3!I206","v":0}]
[{"$f":"Feuil3!A207","v":0},{"$f":"Tableau1[[#This Row],[رقم الحساب]]","v":{"$error":"#VALUE!"}},{"$f":"Feuil3!B207","v":0},{"$f":"Feuil3!C207","v":0},{"$f":"Feuil3!D207","v":0},{"$f":"Feuil3!E207","v":0},{"$f":"Feuil3!F207","v":0},{"$f":"Feuil3!G207","v":0},{"$f":"Feuil3!H207","v":0},{"$f":"Feuil3!I207","v":0}]
[{"$f":"Feuil3!A208","v":0},{"$f":"Tableau1[[#This Row],[رقم الحساب]]","v":{"$error":"#VALUE!"}},{"$f":"Feuil3!B208","v":0},{"$f":"Feuil3!C208","v":0},{"$f":"Feuil3!D208","v":0},{"$f":"Feuil3!E208","v":0},{"$f":"Feuil3!F208","v":0},{"$f":"Feuil3!G208","v":0},{"$f":"Feuil3!H208","v":0},{"$f":"Feuil3!I208","v":0}]
[{"$f":"Feuil3!A209","v":0},{"$f":"Tableau1[[#This Row],[رقم الحساب]]","v":{"$error":"#VALUE!"}},{"$f":"Feuil3!B209","v":0},{"$f":"Feuil3!C209","v":0},{"$f":"Feuil3!D209","v":0},{"$f":"Feuil3!E209","v":0},{"$f":"Feuil3!F209","v":0},{"$f":"Feuil3!G209","v":0},{"$f":"Feuil3!H209","v":0},{"$f":"Feuil3!I209","v":0}]
[{"$f":"Feuil3!A210","v":0},{"$f":"Tableau1[[#This Row],[رقم الحساب]]","v":{"$error":"#VALUE!"}},{"$f":"Feuil3!B210","v":0},{"$f":"Feuil3!C210","v":0},{"$f":"Feuil3!D210","v":0},{"$f":"Feuil3!E210","v":0},{"$f":"Feuil3!F210","v":0},{"$f":"Feuil3!G210","v":0},{"$f":"Feuil3!H210","v":0},{"$f":"Feuil3!I210","v":0}]
[210]

{"sheet":"دخـــــــــــول","index":4,"n_rows":23,"n_cols":13,"rows_kept":23,"cut":false,"hidden":false,"merged":[[22,9,22,14],[4,0,6,9],[11,1,12,8],[17,3,17,6],[18,3,19,6],[10,11,10,15],[5,11,5,15],[6,11,6,15],[7,11,7,15],[8,11,8,15],[9,11,9,15],[17,9,17,14],[18,9,18,14],[19,9,19,14],[20,9,20,14],[21,9,21,14]]}
[]
[]
[]
[]
["GESTION DES PAIES"]
[null,null,null,null,null,null,null,null,null,null,null,"بسم الله الرحمان الرحيم"]
[null,null,null,null,null,null,null,null,null,null,null,"هذه النسخة التجريبية الاولى من برنامج تسيير كشف الراتب"]
[null,null,null,null,null,null,null,null,null,null,null,"version 1,00"]
[]
[]
[]
[null,"Araba Charif"]
[]
[]
[]
[null,null,null,null,null,null,null,null,null,null,"A","B","T"]
[]
[null,null,null,"للطباعة ادخل رقم الحساب اسفله",null,null,null,null,null,"1-    bouton Microsoft office"]
[null,null,null,1020,null,null,null,null,null,"2-    Options Excel"]
[null,null,null,null,null,null,null,null,null,"3-    Centre de gestion de la confidentialité"]
[null,null,null,null,null,null,null,null,null,"4-    Paramètres du centre de gestion de la confidentialité "]
[null,null,null,null,null,null,null,null,null,"5-    Paramètre des macros"]
[null,null,null,null,null,null,null,null,null,"Activité toute les macros"]

{"sheet":"Feuil6","index":5,"n_rows":38,"n_cols":6,"rows_kept":38,"cut":false,"hidden":false,"merged":[[5,10,5,13],[9,1,9,2],[9,5,9,6],[0,0,0,6],[1,0,1,6],[2,0,2,6],[3,0,3,6],[6,1,6,2],[6,5,6,6],[7,1,7,2],[7,5,7,6],[8,5,8,6],[4,0,4,6],[5,3,5,6],[5,0,5,2],[10,1,10,3],[10,5,10,6],[12,1,12,2],[12,5,12,6],[13,1,13,2],[13,5,13,6],[14,1,14,2],[14,5,14,6],[15,1,15,2],[15,5,15,6],[16,1,16,2],[16,5,16,6],[17,1,17,2],[17,5,17,6],[18,1,18,2],[18,5,18,6],[19,1,19,2],[19,5,19,6],[20,1,20,2],[20,5,20,6],[21,1,21,2],[21,5,21,6],[22,1,22,2],[22,5,22,6],[23,1,23,2],[23,5,23,6],[24,1,24,2],[24,5,24,6],[25,1,25,2],[25,5,25,6],[26,1,26,2],[26,5,26,6],[27,1,27,2],[27,5,27,6],[28,1,28,2],[28,5,28,6],[29,1,29,2],[29,5,29,6],[30,1,30,2],[30,5,30,6],[31,1,31,2],[31,5,31,6],[33,0,33,2],[33,4,33,6],[35,5,35,6],[37,1,37,2],[36,4,36,6]]}
[{"$f":"Feuil1!A1","v":"الجمهورية الجزائرية الديمقراطية الشعبية"}]
[{"$f":"Feuil1!A2","v":"وزارة التربية الوطنية "}]
[{"$f":"Feuil1!A3","v":"مديرية التربية "}]
[{"$f":"Feuil1!A4","v":"مديرية التربية "}]
[{"$f":"Feuil1!A5","v":"كشف الراتب لشهر:"}]
[{"$f":"Feuil1!A6","v":2014},null,null,{"$f":"Feuil1!D6","v":"فيفري"}]
[{"$f":"Feuil1!A7","v":"أعزب"},"الحالة العائلية",null,null,{"$f":"Feuil1!E7","v":"شريف"},"الاســـــــــــــــــم"]
[{"$f":"Feuil1!A8","v":12},"الدرجـــــــــة",null,null,{"$f":"Feuil1!E8","v":"عرابة"},"اللقــــــــــــــــــب"]
[null,null,null,null,{"$f":"Feuil1!E9","v":13},"الصـــــــــــــــنف"]
[{"$f":"Feuil1!A10","v":1020},"رقم الحساب",null,null,{"$f":"Feuil1!E10","v":"طب"},"الإطــــــــــــــــــار"]
[null,null,null,null,{"$f":"Feuil1!E11","v":14},"القســــــــــــــــــم"]
[]
["المبالــــــــــــــغ","الاقتطاعــــــــــات",null,null,"المبالـــــــــــغ","المنـــــــــــــــــح"]
[{"$f":"Feuil1!A14","v":1000},{"$f":"Feuil1!B14","v":"yynynynyn"},null,null,{"$f":"Feuil1!E14","v":12000},{"$f":"Feuil1!F14","v":"ujujuj"}]
[{"$f":"Feuil1!A15","v":2000},{"$f":"Feuil1!B15","v":"nununu"},null,null,{"$f":"Feuil1!E15","v":20000},{"$f":"Feuil1!F15","v":"uj-uju-j"}]
[{"$f":"Feuil1!A16","v":0},{"$f":"Feuil1!B16","v":"/"},null,null,{"$f":"Feuil1!E16","v":25000},{"$f":"Feuil1!F16","v":"-jrtgth"}]
[{"$f":"Feuil1!A17","v":0},{"$f":"Feuil1!B17","v":"/"},null,null,{"$f":"Feuil1!E17","v":0},{"$f":"Feuil1!F17","v":"/"}]
[{"$f":"Feuil1!A18","v":0},{"$f":"Feuil1!B18","v":"/"},null,null,{"$f":"Feuil1!E18","v":0},{"$f":"Feuil1!F18","v":"/"}]
[{"$f":"Feuil1!A19","v":0},{"$f":"Feuil1!B19","v":"/"},null,null,{"$f":"Feuil1!E19","v":0},{"$f":"Feuil1!F19","v":"/"}]
[{"$f":"Feuil1!A20","v":0},{"$f":"Feuil1!B20","v":"/"},null,null,{"$f":"Feuil1!E20","v":0},{"$f":"Feuil1!F20","v":"/"}]
[{"$f":"Feuil1!A21","v":0},{"$f":"Feuil1!B21","v":"/"},null,null,{"$f":"Feuil1!E21","v":0},{"$f":"Feuil1!F21","v":"/"}]
[null,null,null,null,{"$f":"Feuil1!E22","v":0},{"$f":"Feuil1!F22","v":"/"}]
[null,null,null,null,{"$f":"Feuil1!E23","v":0},{"$f":"Feuil1!F23","v":"/"}]
[null,null,null,null,{"$f":"Feuil1!E24","v":30000},{"$f":"Feuil1!F24","v":0}]
[null,null,null,null,{"$f":"Feuil1!E25","v":40000},{"$f":"Feuil1!F25","v":0}]
[null,null,null,null,{"$f":"Feuil1!E26","v":30000},{"$f":"Feuil1!F26","v":0}]
[null,null,null,null,{"$f":"Feuil1!E27","v":30000},{"$f":"Feuil1!F27","v":0}]
[null,null,null,null,{"$f":"Feuil1!E28","v":0},{"$f":"Feuil1!F28","v":"/"}]
[null,null,null,null,{"$f":"Feuil1!E29","v":0},{"$f":"Feuil1!F29","v":"/"}]
[null,null,null,null,{"$f":"Feuil1!E30","v":0},{"$f":"Feuil1!F30","v":"/"}]
[null,null,null,null,{"$f":"Feuil1!E31","v":0},{"$f":"Feuil1!F31","v":"/"}]
[{"$f":"Feuil1!A32","v":3000},{"$f":"Feuil1!B32","v":"مجمل الاقتطاعات"},null,null,{"$f":"Feuil1!E32","v":187000},{"$f":"Feuil1!F32","v":"المجموع الخام"}]
[]
[{"$f":"Feuil1!A34","v":184000},null,null,null,{"$f":"Feuil1!E34","v":"الراتب الشهري الصافي"}]
[]
[null,null,null,null,null,{"$f":"Feuil1!F36","v":"المقتصد"}]
[null,null,null,null,{"$f":"Feuil1!F37","v":"عرابة شريف"}]
[null,{"$f":"Feuil1!B38","v":"2013-01-11"}]

{"sheet":"Feuil7","index":6,"n_rows":19,"n_cols":10,"rows_kept":19,"cut":false,"hidden":false,"merged":[]}
["الرقم","المنحة",null,"الرقم","الاقتطاع",null,{"$f":"Feuil2!G1","v":"المؤسسة"},{"$f":"Feuil2!H1","v":"الجهة الوصية"},{"$f":"Feuil2!I1","v":"المقتصد"},{"$f":"Feuil2!J1","v":"الوزارة"}]
[{"$f":"Feuil2!A2","v":1},{"$f":"Feuil2!B2","v":"ujujuj"},null,{"$f":"Feuil2!D2","v":1},{"$f":"Feuil2!E2","v":"yynynynyn"},null,{"$f":"Feuil2!G2","v":"مديرية التربية "},{"$f":"Feuil2!H2","v":"مديرية التربية "},{"$f":"Feuil2!I2","v":"عرابة شريف"},{"$f":"Feuil2!J2","v":"وزارة التربية الوطنية "}]
[{"$f":"Feuil2!A3","v":2},{"$f":"Feuil2!B3","v":"uj-uju-j"},null,{"$f":"Feuil2!D3","v":2},{"$f":"Feuil2!E3","v":"nununu"}]
[{"$f":"Feuil2!A4","v":3},{"$f":"Feuil2!B4","v":"-jrtgth"},null,{"$f":"Feuil2!D4","v":3},{"$f":"Feuil2!E4","v":0},null,{"$f":"Feuil2!G12","v":4},{"$f":"Feuil2!H12","v":3}]
[{"$f":"Feuil2!A5","v":4},{"$f":"Feuil2!B5","v":0},null,{"$f":"Feuil2!D5","v":0},{"$f":"Feuil2!E5","v":0}]
[{"$f":"Feuil2!A6","v":0},{"$f":"Feuil2!B6","v":0},null,{"$f":"Feuil2!D6","v":0},{"$f":"Feuil2!E6","v":0}]
[{"$f":"Feuil2!A7","v":0},{"$f":"Feuil2!B7","v":0},null,{"$f":"Feuil2!D7","v":0},{"$f":"Feuil2!E7","v":0}]
[{"$f":"Feuil2!A8","v":0},{"$f":"Feuil2!B8","v":0},null,{"$f":"Feuil2!D8","v":0},{"$f":"Feuil2!E8","v":0}]
[{"$f":"Feuil2!A9","v":0},{"$f":"Feuil2!B9","v":0},null,{"$f":"Feuil2!D9","v":0},{"$f":"Feuil2!E9","v":0}]
[{"$f":"Feuil2!A10","v":0},{"$f":"Feuil2!B10","v":0},null,{"$f":"Feuil2!D10","v":0},{"$f":"Feuil2!E10","v":0}]
[{"$f":"Feuil2!A11","v":0},{"$f":"Feuil2!B11","v":0}]
[{"$f":"Feuil2!A12","v":0},{"$f":"Feuil2!B12","v":0}]
[{"$f":"Feuil2!A13","v":0},{"$f":"Feuil2!B13","v":0}]
[{"$f":"Feuil2!A14","v":0},{"$f":"Feuil2!B14","v":0}]
[{"$f":"Feuil2!A15","v":0},{"$f":"Feuil2!B15","v":0}]
[{"$f":"Feuil2!A16","v":0},{"$f":"Feuil2!B16","v":0}]
[{"$f":"Feuil2!A17","v":0},{"$f":"Feuil2!B17","v":0}]
[{"$f":"Feuil2!A18","v":0},{"$f":"Feuil2!B18","v":0}]
[{"$f":"Feuil2!A19","v":0},{"$f":"Feuil2!B19","v":0}]

{"sheet":"Feuil8","index":7,"n_rows":200,"n_cols":9,"rows_kept":200,"cut":false,"hidden":false,"merged":[]}
["الرقم","الاسم","اللقب","الصنف","الاطار","القسم","الحالة العائلية","الدرجة","رقم الحساب"]
[{"$f":"Tableau1[[#This Row],[الرقم]]","v":1},{"$f":"Tableau1[[#This Row],[الاسم]]","v":"شريف"},{"$f":"Tableau1[[#This Row],[اللقب]]","v":"عرابة"},{"$f":"Tableau1[[#This Row],[الصنف]]","v":13},{"$f":"Tableau1[[#This Row],[الاطار]]","v":"طب"},{"$f":"Tableau1[[#This Row],[القسم]]","v":14},{"$f":"Tableau1[[#This Row],[الحالة العائلية]]","v":"أعزب"},{"$f":"Tableau1[[#This Row],[الدرجة]]","v":12},{"$f":"Tableau1[[#This Row],[رقم الحساب]]","v":1020}]
[{"$f":"Tableau1[[#This Row],[الرقم]]","v":2},{"$f":"Tableau1[[#This Row],[الاسم]]","v":"خالد"},{"$f":"Tableau1[[#This Row],[اللقب]]","v":"اقتلقل"},{"$f":"Tableau1[[#This Row],[الصنف]]","v":6},{"$f":"Tableau1[[#This Row],[الاطار]]","v":"لاىتات"},{"$f":"Tableau1[[#This Row],[القسم]]","v":2},{"$f":"Tableau1[[#This Row],[الحالة العائلية]]","v":"متزوج"},{"$f":"Tableau1[[#This Row],[الدرجة]]","v":12},{"$f":"Tableau1[[#This Row],[رقم الحساب]]","v":1000}]
[{"$f":"Tableau1[[#This Row],[الرقم]]","v":3},{"$f":"Tableau1[[#This Row],[الاسم]]","v":"تجريب"},{"$f":"Tableau1[[#This Row],[اللقب]]","v":"البرنامج"},{"$f":"Tableau1[[#This Row],[الصنف]]","v":12},{"$f":"Tableau1[[#This Row],[الاطار]]","v":"استاذ"},{"$f":"Tableau1[[#This Row],[القسم]]","v":12},{"$f":"Tableau1[[#This Row],[الحالة العائلية]]","v":"متزوج"},{"$f":"Tableau1[[#This Row],[الدرجة]]","v":2},{"$f":"Tableau1[[#This Row],[رقم الحساب]]","v":1230}]
[{"$f":"Tableau1[[#This Row],[الرقم]]","v":4},{"$f":"Tableau1[[#This Row],[الاسم]]","v":0},{"$f":"Tableau1[[#This Row],[اللقب]]","v":0},{"$f":"Tableau1[[#This Row],[الصنف]]","v":0},{"$f":"Tableau1[[#This Row],[الاطار]]","v":0},{"$f":"Tableau1[[#This Row],[القسم]]","v":0},{"$f":"Tableau1[[#This Row],[الحالة العائلية]]","v":0},{"$f":"Tableau1[[#This Row],[الدرجة]]","v":0},{"$f":"Tableau1[[#This Row],[رقم الحساب]]","v":0}]
[{"$f":"Tableau1[[#This Row],[الرقم]]","v":{"$error":"#VALUE!"}},{"$f":"Tableau1[[#This Row],[الاسم]]","v":{"$error":"#VALUE!"}},{"$f":"Tableau1[[#This Row],[اللقب]]","v":{"$error":"#VALUE!"}},{"$f":"Tableau1[[#This Row],[الصنف]]","v":{"$error":"#VALUE!"}},{"$f":"Tableau1[[#This Row],[الاطار]]","v":{"$error":"#VALUE!"}},{"$f":"Tableau1[[#This Row],[القسم]]","v":{"$error":"#VALUE!"}},{"$f":"Tableau1[[#This Row],[الحالة العائلية]]","v":{"$error":"#VALUE!"}},{"$f":"Tableau1[[#This Row],[الدرجة]]","v":{"$error":"#VALUE!"}},{"$f":"Tableau1[[#This Row],[رقم الحساب]]","v":{"$error":"#VALUE!"}}]
[{"$f":"Tableau1[[#This Row],[الرقم]]","v":{"$error":"#VALUE!"}},{"$f":"Tableau1[[#This Row],[الاسم]]","v":{"$error":"#VALUE!"}},{"$f":"Tableau1[[#This Row],[اللقب]]","v":{"$error":"#VALUE!"}},{"$f":"Tableau1[[#This Row],[الصنف]]","v":{"$error":"#VALUE!"}},{"$f":"Tableau1[[#This Row],[الاطار]]","v":{"$error":"#VALUE!"}},{"$f":"Tableau1[[#This Row],[القسم]]","v":{"$error":"#VALUE!"}},{"$f":"Tableau1[[#This Row],[الحالة العائلية]]","v":{"$error":"#VALUE!"}},{"$f":"Tableau1[[#This Row],[الدرجة]]","v":{"$error":"#VALUE!"}},{"$f":"Tableau1[[#This Row],[رقم الحساب]]","v":{"$error":"#VALUE!"}}]
[{"$f":"Tableau1[[#This Row],[الرقم]]","v":{"$error":"#VALUE!"}},{"$f":"Tableau1[[#This Row],[الاسم]]","v":{"$error":"#VALUE!"}},{"$f":"Tableau1[[#This Row],[اللقب]]","v":{"$error":"#VALUE!"}},{"$f":"Tableau1[[#This Row],[الصنف]]","v":{"$error":"#VALUE!"}},{"$f":"Tableau1[[#This Row],[الاطار]]","v":{"$error":"#VALUE!"}},{"$f":"Tableau1[[#This Row],[القسم]]","v":{"$error":"#VALUE!"}},{"$f":"Tableau1[[#This Row],[الحالة العائلية]]","v":{"$error":"#VALUE!"}},{"$f":"Tableau1[[#This Row],[الدرجة]]","v":{"$error":"#VALUE!"}},{"$f":"Tableau1[[#This Row],[رقم الحساب]]","v":{"$error":"#VALUE!"}}]
[{"$f":"Tableau1[[#This Row],[الرقم]]","v":{"$error":"#VALUE!"}},{"$f":"Tableau1[[#This Row],[الاسم]]","v":{"$error":"#VALUE!"}},{"$f":"Tableau1[[#This Row],[اللقب]]","v":{"$error":"#VALUE!"}},{"$f":"Tableau1[[#This Row],[الصنف]]","v":{"$error":"#VALUE!"}},{"$f":"Tableau1[[#This Row],[الاطار]]","v":{"$error":"#VALUE!"}},{"$f":"Tableau1[[#This Row],[القسم]]","v":{"$error":"#VALUE!"}},{"$f":"Tableau1[[#This Row],[الحالة العائلية]]","v":{"$error":"#VALUE!"}},{"$f":"Tableau1[[#This Row],[الدرجة]]","v":{"$error":"#VALUE!"}},{"$f":"Tableau1[[#This Row],[رقم الحساب]]","v":{"$error":"#VALUE!"}}]
[{"$f":"Tableau1[[#This Row],[الرقم]]","v":{"$error":"#VALUE!"}},{"$f":"Tableau1[[#This Row],[الاسم]]","v":{"$error":"#VALUE!"}},{"$f":"Tableau1[[#This Row],[اللقب]]","v":{"$error":"#VALUE!"}},{"$f":"Tableau1[[#This Row],[الصنف]]","v":{"$error":"#VALUE!"}},{"$f":"Tableau1[[#This Row],[الاطار]]","v":{"$error":"#VALUE!"}},{"$f":"Tableau1[[#This Row],[القسم]]","v":{"$error":"#VALUE!"}},{"$f":"Tableau1[[#This Row],[الحالة العائلية]]","v":{"$error":"#VALUE!"}},{"$f":"Tableau1[[#This Row],[الدرجة]]","v":{"$error":"#VALUE!"}},{"$f":"Tableau1[[#This Row],[رقم الحساب]]","v":{"$error":"#VALUE!"}}]
[{"$f":"Tableau1[[#This Row],[الرقم]]","v":{"$error":"#VALUE!"}},{"$f":"Tableau1[[#This Row],[الاسم]]","v":{"$error":"#VALUE!"}},{"$f":"Tableau1[[#This Row],[اللقب]]","v":{"$error":"#VALUE!"}},{"$f":"Tableau1[[#This Row],[الصنف]]","v":{"$error":"#VALUE!"}},{"$f":"Tableau1[[#This Row],[الاطار]]","v":{"$error":"#VALUE!"}},{"$f":"Tableau1[[#This Row],[القسم]]","v":{"$error":"#VALUE!"}},{"$f":"Tableau1[[#This Row],[الحالة العائلية]]","v":{"$error":"#VALUE!"}},{"$f":"Tableau1[[#This Row],[الدرجة]]","v":{"$error":"#VALUE!"}},{"$f":"Tableau1[[#This Row],[رقم الحساب]]","v":{"$error":"#VALUE!"}}]
[{"$f":"Tableau1[[#This Row],[الرقم]]","v":{"$error":"#VALUE!"}},{"$f":"Tableau1[[#This Row],[الاسم]]","v":{"$error":"#VALUE!"}},{"$f":"Tableau1[[#This Row],[اللقب]]","v":{"$error":"#VALUE!"}},{"$f":"Tableau1[[#This Row],[الصنف]]","v":{"$error":"#VALUE!"}},{"$f":"Tableau1[[#This Row],[الاطار]]","v":{"$error":"#VALUE!"}},{"$f":"Tableau1[[#This Row],[القسم]]","v":{"$error":"#VALUE!"}},{"$f":"Tableau1[[#This Row],[الحالة العائلية]]","v":{"$error":"#VALUE!"}},{"$f":"Tableau1[[#This Row],[الدرجة]]","v":{"$error":"#VALUE!"}},{"$f":"Tableau1[[#This Row],[رقم الحساب]]","v":{"$error":"#VALUE!"}}]
[{"$f":"Tableau1[[#This Row],[الرقم]]","v":{"$error":"#VALUE!"}},{"$f":"Tableau1[[#This Row],[الاسم]]","v":{"$error":"#VALUE!"}},{"$f":"Tableau1[[#This Row],[اللقب]]","v":{"$error":"#VALUE!"}},{"$f":"Tableau1[[#This Row],[الصنف]]","v":{"$error":"#VALUE!"}},{"$f":"Tableau1[[#This Row],[الاطار]]","v":{"$error":"#VALUE!"}},{"$f":"Tableau1[[#This Row],[القسم]]","v":{"$error":"#VALUE!"}},{"$f":"Tableau1[[#This Row],[الحالة العائلية]]","v":{"$error":"#VALUE!"}},{"$f":"Tableau1[[#This Row],[الدرجة]]","v":{"$error":"#VALUE!"}},{"$f":"Tableau1[[#This Row],[رقم الحساب]]","v":{"$error":"#VALUE!"}}]
[{"$f":"Tableau1[[#This Row],[الرقم]]","v":{"$error":"#VALUE!"}},{"$f":"Tableau1[[#This Row],[الاسم]]","v":{"$error":"#VALUE!"}},{"$f":"Tableau1[[#This Row],[اللقب]]","v":{"$error":"#VALUE!"}},{"$f":"Tableau1[[#This Row],[الصنف]]","v":{"$error":"#VALUE!"}},{"$f":"Tableau1[[#This Row],[الاطار]]","v":{"$error":"#VALUE!"}},{"$f":"Tableau1[[#This Row],[القسم]]","v":{"$error":"#VALUE!"}},{"$f":"Tableau1[[#This Row],[الحالة العائلية]]","v":{"$error":"#VALUE!"}},{"$f":"Tableau1[[#This Row],[الدرجة]]","v":{"$error":"#VALUE!"}},{"$f":"Tableau1[[#This Row],[رقم الحساب]]","v":{"$error":"#VALUE!"}}]
[{"$f":"Tableau1[[#This Row],[الرقم]]","v":{"$error":"#VALUE!"}},{"$f":"Tableau1[[#This Row],[الاسم]]","v":{"$error":"#VALUE!"}},{"$f":"Tableau1[[#This Row],[اللقب]]","v":{"$error":"#VALUE!"}},{"$f":"Tableau1[[#This Row],[الصنف]]","v":{"$error":"#VALUE!"}},{"$f":"Tableau1[[#This Row],[الاطار]]","v":{"$error":"#VALUE!"}},{"$f":"Tableau1[[#This Row],[القسم]]","v":{"$error":"#VALUE!"}},{"$f":"Tableau1[[#This Row],[الحالة العائلية]]","v":{"$error":"#VALUE!"}},{"$f":"Tableau1[[#This Row],[الدرجة]]","v":{"$error":"#VALUE!"}},{"$f":"Tableau1[[#This Row],[رقم الحساب]]","v":{"$error":"#VALUE!"}}]
[{"$f":"Tableau1[[#This Row],[الرقم]]","v":{"$error":"#VALUE!"}},{"$f":"Tableau1[[#This Row],[الاسم]]","v":{"$error":"#VALUE!"}},{"$f":"Tableau1[[#This Row],[اللقب]]","v":{"$error":"#VALUE!"}},{"$f":"Tableau1[[#This Row],[الصنف]]","v":{"$error":"#VALUE!"}},{"$f":"Tableau1[[#This Row],[الاطار]]","v":{"$error":"#VALUE!"}},{"$f":"Tableau1[[#This Row],[القسم]]","v":{"$error":"#VALUE!"}},{"$f":"Tableau1[[#This Row],[الحالة العائلية]]","v":{"$error":"#VALUE!"}},{"$f":"Tableau1[[#This Row],[الدرجة]]","v":{"$error":"#VALUE!"}},{"$f":"Tableau1[[#This Row],[رقم الحساب]]","v":{"$error":"#VALUE!"}}]
[{"$f":"Tableau1[[#This Row],[الرقم]]","v":{"$error":"#VALUE!"}},{"$f":"Tableau1[[#This Row],[الاسم]]","v":{"$error":"#VALUE!"}},{"$f":"Tableau1[[#This Row],[اللقب]]","v":{"$error":"#VALUE!"}},{"$f":"Tableau1[[#This Row],[الصنف]]","v":{"$error":"#VALUE!"}},{"$f":"Tableau1[[#This Row],[الاطار]]","v":{"$error":"#VALUE!"}},{"$f":"Tableau1[[#This Row],[القسم]]","v":{"$error":"#VALUE!"}},{"$f":"Tableau1[[#This Row],[الحالة العائلية]]","v":{"$error":"#VALUE!"}},{"$f":"Tableau1[[#This Row],[الدرجة]]","v":{"$error":"#VALUE!"}},{"$f":"Tableau1[[#This Row],[رقم الحساب]]","v":{"$error":"#VALUE!"}}]
[{"$f":"Tableau1[[#This Row],[الرقم]]","v":{"$error":"#VALUE!"}},{"$f":"Tableau1[[#This Row],[الاسم]]","v":{"$error":"#VALUE!"}},{"$f":"Tableau1[[#This Row],[اللقب]]","v":{"$error":"#VALUE!"}},{"$f":"Tableau1[[#This Row],[الصنف]]","v":{"$error":"#VALUE!"}},{"$f":"Tableau1[[#This Row],[الاطار]]","v":{"$error":"#VALUE!"}},{"$f":"Tableau1[[#This Row],[القسم]]","v":{"$error":"#VALUE!"}},{"$f":"Tableau1[[#This Row],[الحالة العائلية]]","v":{"$error":"#VALUE!"}},{"$f":"Tableau1[[#This Row],[الدرجة]]","v":{"$error":"#VALUE!"}},{"$f":"Tableau1[[#This Row],[رقم الحساب]]","v":{"$error":"#VALUE!"}}]
[{"$f":"Tableau1[[#This Row],[الرقم]]","v":{"$error":"#VALUE!"}},{"$f":"Tableau1[[#This Row],[الاسم]]","v":{"$error":"#VALUE!"}},{"$f":"Tableau1[[#This Row],[اللقب]]","v":{"$error":"#VALUE!"}},{"$f":"Tableau1[[#This Row],[الصنف]]","v":{"$error":"#VALUE!"}},{"$f":"Tableau1[[#This Row],[الاطار]]","v":{"$error":"#VALUE!"}},{"$f":"Tableau1[[#This Row],[القسم]]","v":{"$error":"#VALUE!"}},{"$f":"Tableau1[[#This Row],[الحالة العائلية]]","v":{"$error":"#VALUE!"}},{"$f":"Tableau1[[#This Row],[الدرجة]]","v":{"$error":"#VALUE!"}},{"$f":"Tableau1[[#This Row],[رقم الحساب]]","v":{"$error":"#VALUE!"}}]
[{"$f":"Tableau1[[#This Row],[الرقم]]","v":{"$error":"#VALUE!"}},{"$f":"Tableau1[[#This Row],[الاسم]]","v":{"$error":"#VALUE!"}},{"$f":"Tableau1[[#This Row],[اللقب]]","v":{"$error":"#VALUE!"}},{"$f":"Tableau1[[#This Row],[الصنف]]","v":{"$error":"#VALUE!"}},{"$f":"Tableau1[[#This Row],[الاطار]]","v":{"$error":"#VALUE!"}},{"$f":"Tableau1[[#This Row],[القسم]]","v":{"$error":"#VALUE!"}},{"$f":"Tableau1[[#This Row],[الحالة العائلية]]","v":{"$error":"#VALUE!"}},{"$f":"Tableau1[[#This Row],[الدرجة]]","v":{"$error":"#VALUE!"}},{"$f":"Tableau1[[#This Row],[رقم الحساب]]","v":{"$error":"#VALUE!"}}]
[{"$f":"Tableau1[[#This Row],[الرقم]]","v":{"$error":"#VALUE!"}},{"$f":"Tableau1[[#This Row],[الاسم]]","v":{"$error":"#VALUE!"}},{"$f":"Tableau1[[#This Row],[اللقب]]","v":{"$error":"#VALUE!"}},{"$f":"Tableau1[[#This Row],[الصنف]]","v":{"$error":"#VALUE!"}},{"$f":"Tableau1[[#This Row],[الاطار]]","v":{"$error":"#VALUE!"}},{"$f":"Tableau1[[#This Row],[القسم]]","v":{"$error":"#VALUE!"}},{"$f":"Tableau1[[#This Row],[الحالة العائلية]]","v":{"$error":"#VALUE!"}},{"$f":"Tableau1[[#This Row],[الدرجة]]","v":{"$error":"#VALUE!"}},{"$f":"Tableau1[[#This Row],[رقم الحساب]]","v":{"$error":"#VALUE!"}}]
[{"$f":"Tableau1[[#This Row],[الرقم]]","v":{"$error":"#VALUE!"}},{"$f":"Tableau1[[#This Row],[الاسم]]","v":{"$error":"#VALUE!"}},{"$f":"Tableau1[[#This Row],[اللقب]]","v":{"$error":"#VALUE!"}},{"$f":"Tableau1[[#This Row],[الصنف]]","v":{"$error":"#VALUE!"}},{"$f":"Tableau1[[#This Row],[الاطار]]","v":{"$error":"#VALUE!"}},{"$f":"Tableau1[[#This Row],[القسم]]","v":{"$error":"#VALUE!"}},{"$f":"Tableau1[[#This Row],[الحالة العائلية]]","v":{"$error":"#VALUE!"}},{"$f":"Tableau1[[#This Row],[الدرجة]]","v":{"$error":"#VALUE!"}},{"$f":"Tableau1[[#This Row],[رقم الحساب]]","v":{"$error":"#VALUE!"}}]
[{"$f":"Tableau1[[#This Row],[الرقم]]","v":{"$error":"#VALUE!"}},{"$f":"Tableau1[[#This Row],[الاسم]]","v":{"$error":"#VALUE!"}},{"$f":"Tableau1[[#This Row],[اللقب]]","v":{"$error":"#VALUE!"}},{"$f":"Tableau1[[#This Row],[الصنف]]","v":{"$error":"#VALUE!"}},{"$f":"Tableau1[[#This Row],[الاطار]]","v":{"$error":"#VALUE!"}},{"$f":"Tableau1[[#This Row],[القسم]]","v":{"$error":"#VALUE!"}},{"$f":"Tableau1[[#This Row],[الحالة العائلية]]","v":{"$error":"#VALUE!"}},{"$f":"Tableau1[[#This Row],[الدرجة]]","v":{"$error":"#VALUE!"}},{"$f":"Tableau1[[#This Row],[رقم الحساب]]","v":{"$error":"#VALUE!"}}]
[{"$f":"Tableau1[[#This Row],[الرقم]]","v":{"$error":"#VALUE!"}},{"$f":"Tableau1[[#This Row],[الاسم]]","v":{"$error":"#VALUE!"}},{"$f":"Tableau1[[#This Row],[اللقب]]","v":{"$error":"#VALUE!"}},{"$f":"Tableau1[[#This Row],[الصنف]]","v":{"$error":"#VALUE!"}},{"$f":"Tableau1[[#This Row],[الاطار]]","v":{"$error":"#VALUE!"}},{"$f":"Tableau1[[#This Row],[القسم]]","v":{"$error":"#VALUE!"}},{"$f":"Tableau1[[#This Row],[الحالة العائلية]]","v":{"$error":"#VALUE!"}},{"$f":"Tableau1[[#This Row],[الدرجة]]","v":{"$error":"#VALUE!"}},{"$f":"Tableau1[[#This Row],[رقم الحساب]]","v":{"$error":"#VALUE!"}}]
[{"$f":"Tableau1[[#This Row],[الرقم]]","v":{"$error":"#VALUE!"}},{"$f":"Tableau1[[#This Row],[الاسم]]","v":{"$error":"#VALUE!"}},{"$f":"Tableau1[[#This Row],[اللقب]]","v":{"$error":"#VALUE!"}},{"$f":"Tableau1[[#This Row],[الصنف]]","v":{"$error":"#VALUE!"}},{"$f":"Tableau1[[#This Row],[الاطار]]","v":{"$error":"#VALUE!"}},{"$f":"Tableau1[[#This Row],[القسم]]","v":{"$error":"#VALUE!"}},{"$f":"Tableau1[[#This Row],[الحالة العائلية]]","v":{"$error":"#VALUE!"}},{"$f":"Tableau1[[#This Row],[الدرجة]]","v":{"$error":"#VALUE!"}},{"$f":"Tableau1[[#This Row],[رقم الحساب]]","v":{"$error":"#VALUE!"}}]
[{"$f":"Tableau1[[#This Row],[الرقم]]","v":{"$error":"#VALUE!"}},{"$f":"Tableau1[[#This Row],[الاسم]]","v":{"$error":"#VALUE!"}},{"$f":"Tableau1[[#This Row],[اللقب]]","v":{"$error":"#VALUE!"}},{"$f":"Tableau1[[#This Row],[الصنف]]","v":{"$error":"#VALUE!"}},{"$f":"Tableau1[[#This Row],[الاطار]]","v":{"$error":"#VALUE!"}},{"$f":"Tableau1[[#This Row],[القسم]]","v":{"$error":"#VALUE!"}},{"$f":"Tableau1[[#This Row],[الحالة العائلية]]","v":{"$error":"#VALUE!"}},{"$f":"Tableau1[[#This Row],[الدرجة]]","v":{"$error":"#VALUE!"}},{"$f":"Tableau1[[#This Row],[رقم الحساب]]","v":{"$error":"#VALUE!"}}]
[{"$f":"Tableau1[[#This Row],[الرقم]]","v":{"$error":"#VALUE!"}},{"$f":"Tableau1[[#This Row],[الاسم]]","v":{"$error":"#VALUE!"}},{"$f":"Tableau1[[#This Row],[اللقب]]","v":{"$error":"#VALUE!"}},{"$f":"Tableau1[[#This Row],[الصنف]]","v":{"$error":"#VALUE!"}},{"$f":"Tableau1[[#This Row],[الاطار]]","v":{"$error":"#VALUE!"}},{"$f":"Tableau1[[#This Row],[القسم]]","v":{"$error":"#VALUE!"}},{"$f":"Tableau1[[#This Row],[الحالة العائلية]]","v":{"$error":"#VALUE!"}},{"$f":"Tableau1[[#This Row],[الدرجة]]","v":{"$error":"#VALUE!"}},{"$f":"Tableau1[[#This Row],[رقم الحساب]]","v":{"$error":"#VALUE!"}}]
[{"$f":"Tableau1[[#This Row],[الرقم]]","v":{"$error":"#VALUE!"}},{"$f":"Tableau1[[#This Row],[الاسم]]","v":{"$error":"#VALUE!"}},{"$f":"Tableau1[[#This Row],[اللقب]]","v":{"$error":"#VALUE!"}},{"$f":"Tableau1[[#This Row],[الصنف]]","v":{"$error":"#VALUE!"}},{"$f":"Tableau1[[#This Row],[الاطار]]","v":{"$error":"#VALUE!"}},{"$f":"Tableau1[[#This Row],[القسم]]","v":{"$error":"#VALUE!"}},{"$f":"Tableau1[[#This Row],[الحالة العائلية]]","v":{"$error":"#VALUE!"}},{"$f":"Tableau1[[#This Row],[الدرجة]]","v":{"$error":"#VALUE!"}},{"$f":"Tableau1[[#This Row],[رقم الحساب]]","v":{"$error":"#VALUE!"}}]
[{"$f":"Tableau1[[#This Row],[الرقم]]","v":{"$error":"#VALUE!"}},{"$f":"Tableau1[[#This Row],[الاسم]]","v":{"$error":"#VALUE!"}},{"$f":"Tableau1[[#This Row],[اللقب]]","v":{"$error":"#VALUE!"}},{"$f":"Tableau1[[#This Row],[الصنف]]","v":{"$error":"#VALUE!"}},{"$f":"Tableau1[[#This Row],[الاطار]]","v":{"$error":"#VALUE!"}},{"$f":"Tableau1[[#This Row],[القسم]]","v":{"$error":"#VALUE!"}},{"$f":"Tableau1[[#This Row],[الحالة العائلية]]","v":{"$error":"#VALUE!"}},{"$f":"Tableau1[[#This Row],[الدرجة]]","v":{"$error":"#VALUE!"}},{"$f":"Tableau1[[#This Row],[رقم الحساب]]","v":{"$error":"#VALUE!"}}]
[{"$f":"Tableau1[[#This Row],[الرقم]]","v":{"$error":"#VALUE!"}},{"$f":"Tableau1[[#This Row],[الاسم]]","v":{"$error":"#VALUE!"}},{"$f":"Tableau1[[#This Row],[اللقب]]","v":{"$error":"#VALUE!"}},{"$f":"Tableau1[[#This Row],[الصنف]]","v":{"$error":"#VALUE!"}},{"$f":"Tableau1[[#This Row],[الاطار]]","v":{"$error":"#VALUE!"}},{"$f":"Tableau1[[#This Row],[القسم]]","v":{"$error":"#VALUE!"}},{"$f":"Tableau1[[#This Row],[الحالة العائلية]]","v":{"$error":"#VALUE!"}},{"$f":"Tableau1[[#This Row],[الدرجة]]","v":{"$error":"#VALUE!"}},{"$f":"Tableau1[[#This Row],[رقم الحساب]]","v":{"$error":"#VALUE!"}}]
[{"$f":"Tableau1[[#This Row],[الرقم]]","v":{"$error":"#VALUE!"}},{"$f":"Tableau1[[#This Row],[الاسم]]","v":{"$error":"#VALUE!"}},{"$f":"Tableau1[[#This Row],[اللقب]]","v":{"$error":"#VALUE!"}},{"$f":"Tableau1[[#This Row],[الصنف]]","v":{"$error":"#VALUE!"}},{"$f":"Tableau1[[#This Row],[الاطار]]","v":{"$error":"#VALUE!"}},{"$f":"Tableau1[[#This Row],[القسم]]","v":{"$error":"#VALUE!"}},{"$f":"Tableau1[[#This Row],[الحالة العائلية]]","v":{"$error":"#VALUE!"}},{"$f":"Tableau1[[#This Row],[الدرجة]]","v":{"$error":"#VALUE!"}},{"$f":"Tableau1[[#This Row],[رقم الحساب]]","v":{"$error":"#VALUE!"}}]
[{"$f":"Tableau1[[#This Row],[الرقم]]","v":{"$error":"#VALUE!"}},{"$f":"Tableau1[[#This Row],[الاسم]]","v":{"$error":"#VALUE!"}},{"$f":"Tableau1[[#This Row],[اللقب]]","v":{"$error":"#VALUE!"}},{"$f":"Tableau1[[#This Row],[الصنف]]","v":{"$error":"#VALUE!"}},{"$f":"Tableau1[[#This Row],[الاطار]]","v":{"$error":"#VALUE!"}},{"$f":"Tableau1[[#This Row],[القسم]]","v":{"$error":"#VALUE!"}},{"$f":"Tableau1[[#This Row],[الحالة العائلية]]","v":{"$error":"#VALUE!"}},{"$f":"Tableau1[[#This Row],[الدرجة]]","v":{"$error":"#VALUE!"}},{"$f":"Tableau1[[#This Row],[رقم الحساب]]","v":{"$error":"#VALUE!"}}]
[{"$f":"Tableau1[[#This Row],[الرقم]]","v":{"$error":"#VALUE!"}},{"$f":"Tableau1[[#This Row],[الاسم]]","v":{"$error":"#VALUE!"}},{"$f":"Tableau1[[#This Row],[اللقب]]","v":{"$error":"#VALUE!"}},{"$f":"Tableau1[[#This Row],[الصنف]]","v":{"$error":"#VALUE!"}},{"$f":"Tableau1[[#This Row],[الاطار]]","v":{"$error":"#VALUE!"}},{"$f":"Tableau1[[#This Row],[القسم]]","v":{"$error":"#VALUE!"}},{"$f":"Tableau1[[#This Row],[الحالة العائلية]]","v":{"$error":"#VALUE!"}},{"$f":"Tableau1[[#This Row],[الدرجة]]","v":{"$error":"#VALUE!"}},{"$f":"Tableau1[[#This Row],[رقم الحساب]]","v":{"$error":"#VALUE!"}}]
[{"$f":"Tableau1[[#This Row],[الرقم]]","v":{"$error":"#VALUE!"}},{"$f":"Tableau1[[#This Row],[الاسم]]","v":{"$error":"#VALUE!"}},{"$f":"Tableau1[[#This Row],[اللقب]]","v":{"$error":"#VALUE!"}},{"$f":"Tableau1[[#This Row],[الصنف]]","v":{"$error":"#VALUE!"}},{"$f":"Tableau1[[#This Row],[الاطار]]","v":{"$error":"#VALUE!"}},{"$f":"Tableau1[[#This Row],[القسم]]","v":{"$error":"#VALUE!"}},{"$f":"Tableau1[[#This Row],[الحالة العائلية]]","v":{"$error":"#VALUE!"}},{"$f":"Tableau1[[#This Row],[الدرجة]]","v":{"$error":"#VALUE!"}},{"$f":"Tableau1[[#This Row],[رقم الحساب]]","v":{"$error":"#VALUE!"}}]
[{"$f":"Tableau1[[#This Row],[الرقم]]","v":{"$error":"#VALUE!"}},{"$f":"Tableau1[[#This Row],[الاسم]]","v":{"$error":"#VALUE!"}},{"$f":"Tableau1[[#This Row],[اللقب]]","v":{"$error":"#VALUE!"}},{"$f":"Tableau1[[#This Row],[الصنف]]","v":{"$error":"#VALUE!"}},{"$f":"Tableau1[[#This Row],[الاطار]]","v":{"$error":"#VALUE!"}},{"$f":"Tableau1[[#This Row],[القسم]]","v":{"$error":"#VALUE!"}},{"$f":"Tableau1[[#This Row],[الحالة العائلية]]","v":{"$error":"#VALUE!"}},{"$f":"Tableau1[[#This Row],[الدرجة]]","v":{"$error":"#VALUE!"}},{"$f":"Tableau1[[#This Row],[رقم الحساب]]","v":{"$error":"#VALUE!"}}]
[{"$f":"Tableau1[[#This Row],[الرقم]]","v":{"$error":"#VALUE!"}},{"$f":"Tableau1[[#This Row],[الاسم]]","v":{"$error":"#VALUE!"}},{"$f":"Tableau1[[#This Row],[اللقب]]","v":{"$error":"#VALUE!"}},{"$f":"Tableau1[[#This Row],[الصنف]]","v":{"$error":"#VALUE!"}},{"$f":"Tableau1[[#This Row],[الاطار]]","v":{"$error":"#VALUE!"}},{"$f":"Tableau1[[#This Row],[القسم]]","v":{"$error":"#VALUE!"}},{"$f":"Tableau1[[#This Row],[الحالة العائلية]]","v":{"$error":"#VALUE!"}},{"$f":"Tableau1[[#This Row],[الدرجة]]","v":{"$error":"#VALUE!"}},{"$f":"Tableau1[[#This Row],[رقم الحساب]]","v":{"$error":"#VALUE!"}}]
[{"$f":"Tableau1[[#This Row],[الرقم]]","v":{"$error":"#VALUE!"}},{"$f":"Tableau1[[#This Row],[الاسم]]","v":{"$error":"#VALUE!"}},{"$f":"Tableau1[[#This Row],[اللقب]]","v":{"$error":"#VALUE!"}},{"$f":"Tableau1[[#This Row],[الصنف]]","v":{"$error":"#VALUE!"}},{"$f":"Tableau1[[#This Row],[الاطار]]","v":{"$error":"#VALUE!"}},{"$f":"Tableau1[[#This Row],[القسم]]","v":{"$error":"#VALUE!"}},{"$f":"Tableau1[[#This Row],[الحالة العائلية]]","v":{"$error":"#VALUE!"}},{"$f":"Tableau1[[#This Row],[الدرجة]]","v":{"$error":"#VALUE!"}},{"$f":"Tableau1[[#This Row],[رقم الحساب]]","v":{"$error":"#VALUE!"}}]
[{"$f":"Tableau1[[#This Row],[الرقم]]","v":{"$error":"#VALUE!"}},{"$f":"Tableau1[[#This Row],[الاسم]]","v":{"$error":"#VALUE!"}},{"$f":"Tableau1[[#This Row],[اللقب]]","v":{"$error":"#VALUE!"}},{"$f":"Tableau1[[#This Row],[الصنف]]","v":{"$error":"#VALUE!"}},{"$f":"Tableau1[[#This Row],[الاطار]]","v":{"$error":"#VALUE!"}},{"$f":"Tableau1[[#This Row],[القسم]]","v":{"$error":"#VALUE!"}},{"$f":"Tableau1[[#This Row],[الحالة العائلية]]","v":{"$error":"#VALUE!"}},{"$f":"Tableau1[[#This Row],[الدرجة]]","v":{"$error":"#VALUE!"}},{"$f":"Tableau1[[#This Row],[رقم الحساب]]","v":{"$error":"#VALUE!"}}]
[{"$f":"Tableau1[[#This Row],[الرقم]]","v":{"$error":"#VALUE!"}},{"$f":"Tableau1[[#This Row],[الاسم]]","v":{"$error":"#VALUE!"}},{"$f":"Tableau1[[#This Row],[اللقب]]","v":{"$error":"#VALUE!"}},{"$f":"Tableau1[[#This Row],[الصنف]]","v":{"$error":"#VALUE!"}},{"$f":"Tableau1[[#This Row],[الاطار]]","v":{"$error":"#VALUE!"}},{"$f":"Tableau1[[#This Row],[القسم]]","v":{"$error":"#VALUE!"}},{"$f":"Tableau1[[#This Row],[الحالة العائلية]]","v":{"$error":"#VALUE!"}},{"$f":"Tableau1[[#This Row],[الدرجة]]","v":{"$error":"#VALUE!"}},{"$f":"Tableau1[[#This Row],[رقم الحساب]]","v":{"$error":"#VALUE!"}}]
[{"$f":"Tableau1[[#This Row],[الرقم]]","v":{"$error":"#VALUE!"}},{"$f":"Tableau1[[#This Row],[الاسم]]","v":{"$error":"#VALUE!"}},{"$f":"Tableau1[[#This Row],[اللقب]]","v":{"$error":"#VALUE!"}},{"$f":"Tableau1[[#This Row],[الصنف]]","v":{"$error":"#VALUE!"}},{"$f":"Tableau1[[#This Row],[الاطار]]","v":{"$error":"#VALUE!"}},{"$f":"Tableau1[[#This Row],[القسم]]","v":{"$error":"#VALUE!"}},{"$f":"Tableau1[[#This Row],[الحالة العائلية]]","v":{"$error":"#VALUE!"}},{"$f":"Tableau1[[#This Row],[الدرجة]]","v":{"$error":"#VALUE!"}},{"$f":"Tableau1[[#This Row],[رقم الحساب]]","v":{"$error":"#VALUE!"}}]
[{"$f":"Tableau1[[#This Row],[الرقم]]","v":{"$error":"#VALUE!"}},{"$f":"Tableau1[[#This Row],[الاسم]]","v":{"$error":"#VALUE!"}},{"$f":"Tableau1[[#This Row],[اللقب]]","v":{"$error":"#VALUE!"}},{"$f":"Tableau1[[#This Row],[الصنف]]","v":{"$error":"#VALUE!"}},{"$f":"Tableau1[[#This Row],[الاطار]]","v":{"$error":"#VALUE!"}},{"$f":"Tableau1[[#This Row],[القسم]]","v":{"$error":"#VALUE!"}},{"$f":"Tableau1[[#This Row],[الحالة العائلية]]","v":{"$error":"#VALUE!"}},{"$f":"Tableau1[[#This Row],[الدرجة]]","v":{"$error":"#VALUE!"}},{"$f":"Tableau1[[#This Row],[رقم الحساب]]","v":{"$error":"#VALUE!"}}]
[{"$f":"Tableau1[[#This Row],[الرقم]]","v":{"$error":"#VALUE!"}},{"$f":"Tableau1[[#This Row],[الاسم]]","v":{"$error":"#VALUE!"}},{"$f":"Tableau1[[#This Row],[اللقب]]","v":{"$error":"#VALUE!"}},{"$f":"Tableau1[[#This Row],[الصنف]]","v":{"$error":"#VALUE!"}},{"$f":"Tableau1[[#This Row],[الاطار]]","v":{"$error":"#VALUE!"}},{"$f":"Tableau1[[#This Row],[القسم]]","v":{"$error":"#VALUE!"}},{"$f":"Tableau1[[#This Row],[الحالة العائلية]]","v":{"$error":"#VALUE!"}},{"$f":"Tableau1[[#This Row],[الدرجة]]","v":{"$error":"#VALUE!"}},{"$f":"Tableau1[[#This Row],[رقم الحساب]]","v":{"$error":"#VALUE!"}}]
[{"$f":"Tableau1[[#This Row],[الرقم]]","v":{"$error":"#VALUE!"}},{"$f":"Tableau1[[#This Row],[الاسم]]","v":{"$error":"#VALUE!"}},{"$f":"Tableau1[[#This Row],[اللقب]]","v":{"$error":"#VALUE!"}},{"$f":"Tableau1[[#This Row],[الصنف]]","v":{"$error":"#VALUE!"}},{"$f":"Tableau1[[#This Row],[الاطار]]","v":{"$error":"#VALUE!"}},{"$f":"Tableau1[[#This Row],[القسم]]","v":{"$error":"#VALUE!"}},{"$f":"Tableau1[[#This Row],[الحالة العائلية]]","v":{"$error":"#VALUE!"}},{"$f":"Tableau1[[#This Row],[الدرجة]]","v":{"$error":"#VALUE!"}},{"$f":"Tableau1[[#This Row],[رقم الحساب]]","v":{"$error":"#VALUE!"}}]
[{"$f":"Tableau1[[#This Row],[الرقم]]","v":{"$error":"#VALUE!"}},{"$f":"Tableau1[[#This Row],[الاسم]]","v":{"$error":"#VALUE!"}},{"$f":"Tableau1[[#This Row],[اللقب]]","v":{"$error":"#VALUE!"}},{"$f":"Tableau1[[#This Row],[الصنف]]","v":{"$error":"#VALUE!"}},{"$f":"Tableau1[[#This Row],[الاطار]]","v":{"$error":"#VALUE!"}},{"$f":"Tableau1[[#This Row],[القسم]]","v":{"$error":"#VALUE!"}},{"$f":"Tableau1[[#This Row],[الحالة العائلية]]","v":{"$error":"#VALUE!"}},{"$f":"Tableau1[[#This Row],[الدرجة]]","v":{"$error":"#VALUE!"}},{"$f":"Tableau1[[#This Row],[رقم الحساب]]","v":{"$error":"#VALUE!"}}]
[{"$f":"Tableau1[[#This Row],[الرقم]]","v":{"$error":"#VALUE!"}},{"$f":"Tableau1[[#This Row],[الاسم]]","v":{"$error":"#VALUE!"}},{"$f":"Tableau1[[#This Row],[اللقب]]","v":{"$error":"#VALUE!"}},{"$f":"Tableau1[[#This Row],[الصنف]]","v":{"$error":"#VALUE!"}},{"$f":"Tableau1[[#This Row],[الاطار]]","v":{"$error":"#VALUE!"}},{"$f":"Tableau1[[#This Row],[القسم]]","v":{"$error":"#VALUE!"}},{"$f":"Tableau1[[#This Row],[الحالة العائلية]]","v":{"$error":"#VALUE!"}},{"$f":"Tableau1[[#This Row],[الدرجة]]","v":{"$error":"#VALUE!"}},{"$f":"Tableau1[[#This Row],[رقم الحساب]]","v":{"$error":"#VALUE!"}}]
[{"$f":"Tableau1[[#This Row],[الرقم]]","v":{"$error":"#VALUE!"}},{"$f":"Tableau1[[#This Row],[الاسم]]","v":{"$error":"#VALUE!"}},{"$f":"Tableau1[[#This Row],[اللقب]]","v":{"$error":"#VALUE!"}},{"$f":"Tableau1[[#This Row],[الصنف]]","v":{"$error":"#VALUE!"}},{"$f":"Tableau1[[#This Row],[الاطار]]","v":{"$error":"#VALUE!"}},{"$f":"Tableau1[[#This Row],[القسم]]","v":{"$error":"#VALUE!"}},{"$f":"Tableau1[[#This Row],[الحالة العائلية]]","v":{"$error":"#VALUE!"}},{"$f":"Tableau1[[#This Row],[الدرجة]]","v":{"$error":"#VALUE!"}},{"$f":"Tableau1[[#This Row],[رقم الحساب]]","v":{"$error":"#VALUE!"}}]
[{"$f":"Tableau1[[#This Row],[الرقم]]","v":{"$error":"#VALUE!"}},{"$f":"Tableau1[[#This Row],[الاسم]]","v":{"$error":"#VALUE!"}},{"$f":"Tableau1[[#This Row],[اللقب]]","v":{"$error":"#VALUE!"}},{"$f":"Tableau1[[#This Row],[الصنف]]","v":{"$error":"#VALUE!"}},{"$f":"Tableau1[[#This Row],[الاطار]]","v":{"$error":"#VALUE!"}},{"$f":"Tableau1[[#This Row],[القسم]]","v":{"$error":"#VALUE!"}},{"$f":"Tableau1[[#This Row],[الحالة العائلية]]","v":{"$error":"#VALUE!"}},{"$f":"Tableau1[[#This Row],[الدرجة]]","v":{"$error":"#VALUE!"}},{"$f":"Tableau1[[#This Row],[رقم الحساب]]","v":{"$error":"#VALUE!"}}]
[{"$f":"Tableau1[[#This Row],[الرقم]]","v":{"$error":"#VALUE!"}},{"$f":"Tableau1[[#This Row],[الاسم]]","v":{"$error":"#VALUE!"}},{"$f":"Tableau1[[#This Row],[اللقب]]","v":{"$error":"#VALUE!"}},{"$f":"Tableau1[[#This Row],[الصنف]]","v":{"$error":"#VALUE!"}},{"$f":"Tableau1[[#This Row],[الاطار]]","v":{"$error":"#VALUE!"}},{"$f":"Tableau1[[#This Row],[القسم]]","v":{"$error":"#VALUE!"}},{"$f":"Tableau1[[#This Row],[الحالة العائلية]]","v":{"$error":"#VALUE!"}},{"$f":"Tableau1[[#This Row],[الدرجة]]","v":{"$error":"#VALUE!"}},{"$f":"Tableau1[[#This Row],[رقم الحساب]]","v":{"$error":"#VALUE!"}}]
[{"$f":"Tableau1[[#This Row],[الرقم]]","v":{"$error":"#VALUE!"}},{"$f":"Tableau1[[#This Row],[الاسم]]","v":{"$error":"#VALUE!"}},{"$f":"Tableau1[[#This Row],[اللقب]]","v":{"$error":"#VALUE!"}},{"$f":"Tableau1[[#This Row],[الصنف]]","v":{"$error":"#VALUE!"}},{"$f":"Tableau1[[#This Row],[الاطار]]","v":{"$error":"#VALUE!"}},{"$f":"Tableau1[[#This Row],[القسم]]","v":{"$error":"#VALUE!"}},{"$f":"Tableau1[[#This Row],[الحالة العائلية]]","v":{"$error":"#VALUE!"}},{"$f":"Tableau1[[#This Row],[الدرجة]]","v":{"$error":"#VALUE!"}},{"$f":"Tableau1[[#This Row],[رقم الحساب]]","v":{"$error":"#VALUE!"}}]
[{"$f":"Tableau1[[#This Row],[الرقم]]","v":{"$error":"#VALUE!"}},{"$f":"Tableau1[[#This Row],[الاسم]]","v":{"$error":"#VALUE!"}},{"$f":"Tableau1[[#This Row],[اللقب]]","v":{"$error":"#VALUE!"}},{"$f":"Tableau1[[#This Row],[الصنف]]","v":{"$error":"#VALUE!"}},{"$f":"Tableau1[[#This Row],[الاطار]]","v":{"$error":"#VALUE!"}},{"$f":"Tableau1[[#This Row],[القسم]]","v":{"$error":"#VALUE!"}},{"$f":"Tableau1[[#This Row],[الحالة العائلية]]","v":{"$error":"#VALUE!"}},{"$f":"Tableau1[[#This Row],[الدرجة]]","v":{"$error":"#VALUE!"}},{"$f":"Tableau1[[#This Row],[رقم الحساب]]","v":{"$error":"#VALUE!"}}]
[{"$f":"Tableau1[[#This Row],[الرقم]]","v":{"$error":"#VALUE!"}},{"$f":"Tableau1[[#This Row],[الاسم]]","v":{"$error":"#VALUE!"}},{"$f":"Tableau1[[#This Row],[اللقب]]","v":{"$error":"#VALUE!"}},{"$f":"Tableau1[[#This Row],[الصنف]]","v":{"$error":"#VALUE!"}},{"$f":"Tableau1[[#This Row],[الاطار]]","v":{"$error":"#VALUE!"}},{"$f":"Tableau1[[#This Row],[القسم]]","v":{"$error":"#VALUE!"}},{"$f":"Tableau1[[#This Row],[الحالة العائلية]]","v":{"$error":"#VALUE!"}},{"$f":"Tableau1[[#This Row],[الدرجة]]","v":{"$error":"#VALUE!"}},{"$f":"Tableau1[[#This Row],[رقم الحساب]]","v":{"$error":"#VALUE!"}}]
[{"$f":"Tableau1[[#This Row],[الرقم]]","v":{"$error":"#VALUE!"}},{"$f":"Tableau1[[#This Row],[الاسم]]","v":{"$error":"#VALUE!"}},{"$f":"Tableau1[[#This Row],[اللقب]]","v":{"$error":"#VALUE!"}},{"$f":"Tableau1[[#This Row],[الصنف]]","v":{"$error":"#VALUE!"}},{"$f":"Tableau1[[#This Row],[الاطار]]","v":{"$error":"#VALUE!"}},{"$f":"Tableau1[[#This Row],[القسم]]","v":{"$error":"#VALUE!"}},{"$f":"Tableau1[[#This Row],[الحالة العائلية]]","v":{"$error":"#VALUE!"}},{"$f":"Tableau1[[#This Row],[الدرجة]]","v":{"$error":"#VALUE!"}},{"$f":"Tableau1[[#This Row],[رقم الحساب]]","v":{"$error":"#VALUE!"}}]
[{"$f":"Tableau1[[#This Row],[الرقم]]","v":{"$error":"#VALUE!"}},{"$f":"Tableau1[[#This Row],[الاسم]]","v":{"$error":"#VALUE!"}},{"$f":"Tableau1[[#This Row],[اللقب]]","v":{"$error":"#VALUE!"}},{"$f":"Tableau1[[#This Row],[الصنف]]","v":{"$error":"#VALUE!"}},{"$f":"Tableau1[[#This Row],[الاطار]]","v":{"$error":"#VALUE!"}},{"$f":"Tableau1[[#This Row],[القسم]]","v":{"$error":"#VALUE!"}},{"$f":"Tableau1[[#This Row],[الحالة العائلية]]","v":{"$error":"#VALUE!"}},{"$f":"Tableau1[[#This Row],[الدرجة]]","v":{"$error":"#VALUE!"}},{"$f":"Tableau1[[#This Row],[رقم الحساب]]","v":{"$error":"#VALUE!"}}]
[{"$f":"Tableau1[[#This Row],[الرقم]]","v":{"$error":"#VALUE!"}},{"$f":"Tableau1[[#This Row],[الاسم]]","v":{"$error":"#VALUE!"}},{"$f":"Tableau1[[#This Row],[اللقب]]","v":{"$error":"#VALUE!"}},{"$f":"Tableau1[[#This Row],[الصنف]]","v":{"$error":"#VALUE!"}},{"$f":"Tableau1[[#This Row],[الاطار]]","v":{"$error":"#VALUE!"}},{"$f":"Tableau1[[#This Row],[القسم]]","v":{"$error":"#VALUE!"}},{"$f":"Tableau1[[#This Row],[الحالة العائلية]]","v":{"$error":"#VALUE!"}},{"$f":"Tableau1[[#This Row],[الدرجة]]","v":{"$error":"#VALUE!"}},{"$f":"Tableau1[[#This Row],[رقم الحساب]]","v":{"$error":"#VALUE!"}}]
[{"$f":"Tableau1[[#This Row],[الرقم]]","v":{"$error":"#VALUE!"}},{"$f":"Tableau1[[#This Row],[الاسم]]","v":{"$error":"#VALUE!"}},{"$f":"Tableau1[[#This Row],[اللقب]]","v":{"$error":"#VALUE!"}},{"$f":"Tableau1[[#This Row],[الصنف]]","v":{"$error":"#VALUE!"}},{"$f":"Tableau1[[#This Row],[الاطار]]","v":{"$error":"#VALUE!"}},{"$f":"Tableau1[[#This Row],[القسم]]","v":{"$error":"#VALUE!"}},{"$f":"Tableau1[[#This Row],[الحالة العائلية]]","v":{"$error":"#VALUE!"}},{"$f":"Tableau1[[#This Row],[الدرجة]]","v":{"$error":"#VALUE!"}},{"$f":"Tableau1[[#This Row],[رقم الحساب]]","v":{"$error":"#VALUE!"}}]
[{"$f":"Tableau1[[#This Row],[الرقم]]","v":{"$error":"#VALUE!"}},{"$f":"Tableau1[[#This Row],[الاسم]]","v":{"$error":"#VALUE!"}},{"$f":"Tableau1[[#This Row],[اللقب]]","v":{"$error":"#VALUE!"}},{"$f":"Tableau1[[#This Row],[الصنف]]","v":{"$error":"#VALUE!"}},{"$f":"Tableau1[[#This Row],[الاطار]]","v":{"$error":"#VALUE!"}},{"$f":"Tableau1[[#This Row],[القسم]]","v":{"$error":"#VALUE!"}},{"$f":"Tableau1[[#This Row],[الحالة العائلية]]","v":{"$error":"#VALUE!"}},{"$f":"Tableau1[[#This Row],[الدرجة]]","v":{"$error":"#VALUE!"}},{"$f":"Tableau1[[#This Row],[رقم الحساب]]","v":{"$error":"#VALUE!"}}]
[{"$f":"Tableau1[[#This Row],[الرقم]]","v":{"$error":"#VALUE!"}},{"$f":"Tableau1[[#This Row],[الاسم]]","v":{"$error":"#VALUE!"}},{"$f":"Tableau1[[#This Row],[اللقب]]","v":{"$error":"#VALUE!"}},{"$f":"Tableau1[[#This Row],[الصنف]]","v":{"$error":"#VALUE!"}},{"$f":"Tableau1[[#This Row],[الاطار]]","v":{"$error":"#VALUE!"}},{"$f":"Tableau1[[#This Row],[القسم]]","v":{"$error":"#VALUE!"}},{"$f":"Tableau1[[#This Row],[الحالة العائلية]]","v":{"$error":"#VALUE!"}},{"$f":"Tableau1[[#This Row],[الدرجة]]","v":{"$error":"#VALUE!"}},{"$f":"Tableau1[[#This Row],[رقم الحساب]]","v":{"$error":"#VALUE!"}}]
[{"$f":"Tableau1[[#This Row],[الرقم]]","v":{"$error":"#VALUE!"}},{"$f":"Tableau1[[#This Row],[الاسم]]","v":{"$error":"#VALUE!"}},{"$f":"Tableau1[[#This Row],[اللقب]]","v":{"$error":"#VALUE!"}},{"$f":"Tableau1[[#This Row],[الصنف]]","v":{"$error":"#VALUE!"}},{"$f":"Tableau1[[#This Row],[الاطار]]","v":{"$error":"#VALUE!"}},{"$f":"Tableau1[[#This Row],[القسم]]","v":{"$error":"#VALUE!"}},{"$f":"Tableau1[[#This Row],[الحالة العائلية]]","v":{"$error":"#VALUE!"}},{"$f":"Tableau1[[#This Row],[الدرجة]]","v":{"$error":"#VALUE!"}},{"$f":"Tableau1[[#This Row],[رقم الحساب]]","v":{"$error":"#VALUE!"}}]
[{"$f":"Tableau1[[#This Row],[الرقم]]","v":{"$error":"#VALUE!"}},{"$f":"Tableau1[[#This Row],[الاسم]]","v":{"$error":"#VALUE!"}},{"$f":"Tableau1[[#This Row],[اللقب]]","v":{"$error":"#VALUE!"}},{"$f":"Tableau1[[#This Row],[الصنف]]","v":{"$error":"#VALUE!"}},{"$f":"Tableau1[[#This Row],[الاطار]]","v":{"$error":"#VALUE!"}},{"$f":"Tableau1[[#This Row],[القسم]]","v":{"$error":"#VALUE!"}},{"$f":"Tableau1[[#This Row],[الحالة العائلية]]","v":{"$error":"#VALUE!"}},{"$f":"Tableau1[[#This Row],[الدرجة]]","v":{"$error":"#VALUE!"}},{"$f":"Tableau1[[#This Row],[رقم الحساب]]","v":{"$error":"#VALUE!"}}]
[{"$f":"Tableau1[[#This Row],[الرقم]]","v":{"$error":"#VALUE!"}},{"$f":"Tableau1[[#This Row],[الاسم]]","v":{"$error":"#VALUE!"}},{"$f":"Tableau1[[#This Row],[اللقب]]","v":{"$error":"#VALUE!"}},{"$f":"Tableau1[[#This Row],[الصنف]]","v":{"$error":"#VALUE!"}},{"$f":"Tableau1[[#This Row],[الاطار]]","v":{"$error":"#VALUE!"}},{"$f":"Tableau1[[#This Row],[القسم]]","v":{"$error":"#VALUE!"}},{"$f":"Tableau1[[#This Row],[الحالة العائلية]]","v":{"$error":"#VALUE!"}},{"$f":"Tableau1[[#This Row],[الدرجة]]","v":{"$error":"#VALUE!"}},{"$f":"Tableau1[[#This Row],[رقم الحساب]]","v":{"$error":"#VALUE!"}}]
[{"$f":"Tableau1[[#This Row],[الرقم]]","v":{"$error":"#VALUE!"}},{"$f":"Tableau1[[#This Row],[الاسم]]","v":{"$error":"#VALUE!"}},{"$f":"Tableau1[[#This Row],[اللقب]]","v":{"$error":"#VALUE!"}},{"$f":"Tableau1[[#This Row],[الصنف]]","v":{"$error":"#VALUE!"}},{"$f":"Tableau1[[#This Row],[الاطار]]","v":{"$error":"#VALUE!"}},{"$f":"Tableau1[[#This Row],[القسم]]","v":{"$error":"#VALUE!"}},{"$f":"Tableau1[[#This Row],[الحالة العائلية]]","v":{"$error":"#VALUE!"}},{"$f":"Tableau1[[#This Row],[الدرجة]]","v":{"$error":"#VALUE!"}},{"$f":"Tableau1[[#This Row],[رقم الحساب]]","v":{"$error":"#VALUE!"}}]
[{"$f":"Tableau1[[#This Row],[الرقم]]","v":{"$error":"#VALUE!"}},{"$f":"Tableau1[[#This Row],[الاسم]]","v":{"$error":"#VALUE!"}},{"$f":"Tableau1[[#This Row],[اللقب]]","v":{"$error":"#VALUE!"}},{"$f":"Tableau1[[#This Row],[الصنف]]","v":{"$error":"#VALUE!"}},{"$f":"Tableau1[[#This Row],[الاطار]]","v":{"$error":"#VALUE!"}},{"$f":"Tableau1[[#This Row],[القسم]]","v":{"$error":"#VALUE!"}},{"$f":"Tableau1[[#This Row],[الحالة العائلية]]","v":{"$error":"#VALUE!"}},{"$f":"Tableau1[[#This Row],[الدرجة]]","v":{"$error":"#VALUE!"}},{"$f":"Tableau1[[#This Row],[رقم الحساب]]","v":{"$error":"#VALUE!"}}]
[{"$f":"Tableau1[[#This Row],[الرقم]]","v":{"$error":"#VALUE!"}},{"$f":"Tableau1[[#This Row],[الاسم]]","v":{"$error":"#VALUE!"}},{"$f":"Tableau1[[#This Row],[اللقب]]","v":{"$error":"#VALUE!"}},{"$f":"Tableau1[[#This Row],[الصنف]]","v":{"$error":"#VALUE!"}},{"$f":"Tableau1[[#This Row],[الاطار]]","v":{"$error":"#VALUE!"}},{"$f":"Tableau1[[#This Row],[القسم]]","v":{"$error":"#VALUE!"}},{"$f":"Tableau1[[#This Row],[الحالة العائلية]]","v":{"$error":"#VALUE!"}},{"$f":"Tableau1[[#This Row],[الدرجة]]","v":{"$error":"#VALUE!"}},{"$f":"Tableau1[[#This Row],[رقم الحساب]]","v":{"$error":"#VALUE!"}}]
[{"$f":"Tableau1[[#This Row],[الرقم]]","v":{"$error":"#VALUE!"}},{"$f":"Tableau1[[#This Row],[الاسم]]","v":{"$error":"#VALUE!"}},{"$f":"Tableau1[[#This Row],[اللقب]]","v":{"$error":"#VALUE!"}},{"$f":"Tableau1[[#This Row],[الصنف]]","v":{"$error":"#VALUE!"}},{"$f":"Tableau1[[#This Row],[الاطار]]","v":{"$error":"#VALUE!"}},{"$f":"Tableau1[[#This Row],[القسم]]","v":{"$error":"#VALUE!"}},{"$f":"Tableau1[[#This Row],[الحالة العائلية]]","v":{"$error":"#VALUE!"}},{"$f":"Tableau1[[#This Row],[الدرجة]]","v":{"$error":"#VALUE!"}},{"$f":"Tableau1[[#This Row],[رقم الحساب]]","v":{"$error":"#VALUE!"}}]
[{"$f":"Tableau1[[#This Row],[الرقم]]","v":{"$error":"#VALUE!"}},{"$f":"Tableau1[[#This Row],[الاسم]]","v":{"$error":"#VALUE!"}},{"$f":"Tableau1[[#This Row],[اللقب]]","v":{"$error":"#VALUE!"}},{"$f":"Tableau1[[#This Row],[الصنف]]","v":{"$error":"#VALUE!"}},{"$f":"Tableau1[[#This Row],[الاطار]]","v":{"$error":"#VALUE!"}},{"$f":"Tableau1[[#This Row],[القسم]]","v":{"$error":"#VALUE!"}},{"$f":"Tableau1[[#This Row],[الحالة العائلية]]","v":{"$error":"#VALUE!"}},{"$f":"Tableau1[[#This Row],[الدرجة]]","v":{"$error":"#VALUE!"}},{"$f":"Tableau1[[#This Row],[رقم الحساب]]","v":{"$error":"#VALUE!"}}]
[{"$f":"Tableau1[[#This Row],[الرقم]]","v":{"$error":"#VALUE!"}},{"$f":"Tableau1[[#This Row],[الاسم]]","v":{"$error":"#VALUE!"}},{"$f":"Tableau1[[#This Row],[اللقب]]","v":{"$error":"#VALUE!"}},{"$f":"Tableau1[[#This Row],[الصنف]]","v":{"$error":"#VALUE!"}},{"$f":"Tableau1[[#This Row],[الاطار]]","v":{"$error":"#VALUE!"}},{"$f":"Tableau1[[#This Row],[القسم]]","v":{"$error":"#VALUE!"}},{"$f":"Tableau1[[#This Row],[الحالة العائلية]]","v":{"$error":"#VALUE!"}},{"$f":"Tableau1[[#This Row],[الدرجة]]","v":{"$error":"#VALUE!"}},{"$f":"Tableau1[[#This Row],[رقم الحساب]]","v":{"$error":"#VALUE!"}}]
[{"$f":"Tableau1[[#This Row],[الرقم]]","v":{"$error":"#VALUE!"}},{"$f":"Tableau1[[#This Row],[الاسم]]","v":{"$error":"#VALUE!"}},{"$f":"Tableau1[[#This Row],[اللقب]]","v":{"$error":"#VALUE!"}},{"$f":"Tableau1[[#This Row],[الصنف]]","v":{"$error":"#VALUE!"}},{"$f":"Tableau1[[#This Row],[الاطار]]","v":{"$error":"#VALUE!"}},{"$f":"Tableau1[[#This Row],[القسم]]","v":{"$error":"#VALUE!"}},{"$f":"Tableau1[[#This Row],[الحالة العائلية]]","v":{"$error":"#VALUE!"}},{"$f":"Tableau1[[#This Row],[الدرجة]]","v":{"$error":"#VALUE!"}},{"$f":"Tableau1[[#This Row],[رقم الحساب]]","v":{"$error":"#VALUE!"}}]
[{"$f":"Tableau1[[#This Row],[الرقم]]","v":{"$error":"#VALUE!"}},{"$f":"Tableau1[[#This Row],[الاسم]]","v":{"$error":"#VALUE!"}},{"$f":"Tableau1[[#This Row],[اللقب]]","v":{"$error":"#VALUE!"}},{"$f":"Tableau1[[#This Row],[الصنف]]","v":{"$error":"#VALUE!"}},{"$f":"Tableau1[[#This Row],[الاطار]]","v":{"$error":"#VALUE!"}},{"$f":"Tableau1[[#This Row],[القسم]]","v":{"$error":"#VALUE!"}},{"$f":"Tableau1[[#This Row],[الحالة العائلية]]","v":{"$error":"#VALUE!"}},{"$f":"Tableau1[[#This Row],[الدرجة]]","v":{"$error":"#VALUE!"}},{"$f":"Tableau1[[#This Row],[رقم الحساب]]","v":{"$error":"#VALUE!"}}]
[{"$f":"Tableau1[[#This Row],[الرقم]]","v":{"$error":"#VALUE!"}},{"$f":"Tableau1[[#This Row],[الاسم]]","v":{"$error":"#VALUE!"}},{"$f":"Tableau1[[#This Row],[اللقب]]","v":{"$error":"#VALUE!"}},{"$f":"Tableau1[[#This Row],[الصنف]]","v":{"$error":"#VALUE!"}},{"$f":"Tableau1[[#This Row],[الاطار]]","v":{"$error":"#VALUE!"}},{"$f":"Tableau1[[#This Row],[القسم]]","v":{"$error":"#VALUE!"}},{"$f":"Tableau1[[#This Row],[الحالة العائلية]]","v":{"$error":"#VALUE!"}},{"$f":"Tableau1[[#This Row],[الدرجة]]","v":{"$error":"#VALUE!"}},{"$f":"Tableau1[[#This Row],[رقم الحساب]]","v":{"$error":"#VALUE!"}}]
[{"$f":"Tableau1[[#This Row],[الرقم]]","v":{"$error":"#VALUE!"}},{"$f":"Tableau1[[#This Row],[الاسم]]","v":{"$error":"#VALUE!"}},{"$f":"Tableau1[[#This Row],[اللقب]]","v":{"$error":"#VALUE!"}},{"$f":"Tableau1[[#This Row],[الصنف]]","v":{"$error":"#VALUE!"}},{"$f":"Tableau1[[#This Row],[الاطار]]","v":{"$error":"#VALUE!"}},{"$f":"Tableau1[[#This Row],[القسم]]","v":{"$error":"#VALUE!"}},{"$f":"Tableau1[[#This Row],[الحالة العائلية]]","v":{"$error":"#VALUE!"}},{"$f":"Tableau1[[#This Row],[الدرجة]]","v":{"$error":"#VALUE!"}},{"$f":"Tableau1[[#This Row],[رقم الحساب]]","v":{"$error":"#VALUE!"}}]
[{"$f":"Tableau1[[#This Row],[الرقم]]","v":{"$error":"#VALUE!"}},{"$f":"Tableau1[[#This Row],[الاسم]]","v":{"$error":"#VALUE!"}},{"$f":"Tableau1[[#This Row],[اللقب]]","v":{"$error":"#VALUE!"}},{"$f":"Tableau1[[#This Row],[الصنف]]","v":{"$error":"#VALUE!"}},{"$f":"Tableau1[[#This Row],[الاطار]]","v":{"$error":"#VALUE!"}},{"$f":"Tableau1[[#This Row],[القسم]]","v":{"$error":"#VALUE!"}},{"$f":"Tableau1[[#This Row],[الحالة العائلية]]","v":{"$error":"#VALUE!"}},{"$f":"Tableau1[[#This Row],[الدرجة]]","v":{"$error":"#VALUE!"}},{"$f":"Tableau1[[#This Row],[رقم الحساب]]","v":{"$error":"#VALUE!"}}]
[{"$f":"Tableau1[[#This Row],[الرقم]]","v":{"$error":"#VALUE!"}},{"$f":"Tableau1[[#This Row],[الاسم]]","v":{"$error":"#VALUE!"}},{"$f":"Tableau1[[#This Row],[اللقب]]","v":{"$error":"#VALUE!"}},{"$f":"Tableau1[[#This Row],[الصنف]]","v":{"$error":"#VALUE!"}},{"$f":"Tableau1[[#This Row],[الاطار]]","v":{"$error":"#VALUE!"}},{"$f":"Tableau1[[#This Row],[القسم]]","v":{"$error":"#VALUE!"}},{"$f":"Tableau1[[#This Row],[الحالة العائلية]]","v":{"$error":"#VALUE!"}},{"$f":"Tableau1[[#This Row],[الدرجة]]","v":{"$error":"#VALUE!"}},{"$f":"Tableau1[[#This Row],[رقم الحساب]]","v":{"$error":"#VALUE!"}}]
[{"$f":"Tableau1[[#This Row],[الرقم]]","v":{"$error":"#VALUE!"}},{"$f":"Tableau1[[#This Row],[الاسم]]","v":{"$error":"#VALUE!"}},{"$f":"Tableau1[[#This Row],[اللقب]]","v":{"$error":"#VALUE!"}},{"$f":"Tableau1[[#This Row],[الصنف]]","v":{"$error":"#VALUE!"}},{"$f":"Tableau1[[#This Row],[الاطار]]","v":{"$error":"#VALUE!"}},{"$f":"Tableau1[[#This Row],[القسم]]","v":{"$error":"#VALUE!"}},{"$f":"Tableau1[[#This Row],[الحالة العائلية]]","v":{"$error":"#VALUE!"}},{"$f":"Tableau1[[#This Row],[الدرجة]]","v":{"$error":"#VALUE!"}},{"$f":"Tableau1[[#This Row],[رقم الحساب]]","v":{"$error":"#VALUE!"}}]
[{"$f":"Tableau1[[#This Row],[الرقم]]","v":{"$error":"#VALUE!"}},{"$f":"Tableau1[[#This Row],[الاسم]]","v":{"$error":"#VALUE!"}},{"$f":"Tableau1[[#This Row],[اللقب]]","v":{"$error":"#VALUE!"}},{"$f":"Tableau1[[#This Row],[الصنف]]","v":{"$error":"#VALUE!"}},{"$f":"Tableau1[[#This Row],[الاطار]]","v":{"$error":"#VALUE!"}},{"$f":"Tableau1[[#This Row],[القسم]]","v":{"$error":"#VALUE!"}},{"$f":"Tableau1[[#This Row],[الحالة العائلية]]","v":{"$error":"#VALUE!"}},{"$f":"Tableau1[[#This Row],[الدرجة]]","v":{"$error":"#VALUE!"}},{"$f":"Tableau1[[#This Row],[رقم الحساب]]","v":{"$error":"#VALUE!"}}]
[{"$f":"Tableau1[[#This Row],[الرقم]]","v":{"$error":"#VALUE!"}},{"$f":"Tableau1[[#This Row],[الاسم]]","v":{"$error":"#VALUE!"}},{"$f":"Tableau1[[#This Row],[اللقب]]","v":{"$error":"#VALUE!"}},{"$f":"Tableau1[[#This Row],[الصنف]]","v":{"$error":"#VALUE!"}},{"$f":"Tableau1[[#This Row],[الاطار]]","v":{"$error":"#VALUE!"}},{"$f":"Tableau1[[#This Row],[القسم]]","v":{"$error":"#VALUE!"}},{"$f":"Tableau1[[#This Row],[الحالة العائلية]]","v":{"$error":"#VALUE!"}},{"$f":"Tableau1[[#This Row],[الدرجة]]","v":{"$error":"#VALUE!"}},{"$f":"Tableau1[[#This Row],[رقم الحساب]]","v":{"$error":"#VALUE!"}}]
[{"$f":"Tableau1[[#This Row],[الرقم]]","v":{"$error":"#VALUE!"}},{"$f":"Tableau1[[#This Row],[الاسم]]","v":{"$error":"#VALUE!"}},{"$f":"Tableau1[[#This Row],[اللقب]]","v":{"$error":"#VALUE!"}},{"$f":"Tableau1[[#This Row],[الصنف]]","v":{"$error":"#VALUE!"}},{"$f":"Tableau1[[#This Row],[الاطار]]","v":{"$error":"#VALUE!"}},{"$f":"Tableau1[[#This Row],[القسم]]","v":{"$error":"#VALUE!"}},{"$f":"Tableau1[[#This Row],[الحالة العائلية]]","v":{"$error":"#VALUE!"}},{"$f":"Tableau1[[#This Row],[الدرجة]]","v":{"$error":"#VALUE!"}},{"$f":"Tableau1[[#This Row],[رقم الحساب]]","v":{"$error":"#VALUE!"}}]
[{"$f":"Tableau1[[#This Row],[الرقم]]","v":{"$error":"#VALUE!"}},{"$f":"Tableau1[[#This Row],[الاسم]]","v":{"$error":"#VALUE!"}},{"$f":"Tableau1[[#This Row],[اللقب]]","v":{"$error":"#VALUE!"}},{"$f":"Tableau1[[#This Row],[الصنف]]","v":{"$error":"#VALUE!"}},{"$f":"Tableau1[[#This Row],[الاطار]]","v":{"$error":"#VALUE!"}},{"$f":"Tableau1[[#This Row],[القسم]]","v":{"$error":"#VALUE!"}},{"$f":"Tableau1[[#This Row],[الحالة العائلية]]","v":{"$error":"#VALUE!"}},{"$f":"Tableau1[[#This Row],[الدرجة]]","v":{"$error":"#VALUE!"}},{"$f":"Tableau1[[#This Row],[رقم الحساب]]","v":{"$error":"#VALUE!"}}]
[{"$f":"Tableau1[[#This Row],[الرقم]]","v":{"$error":"#VALUE!"}},{"$f":"Tableau1[[#This Row],[الاسم]]","v":{"$error":"#VALUE!"}},{"$f":"Tableau1[[#This Row],[اللقب]]","v":{"$error":"#VALUE!"}},{"$f":"Tableau1[[#This Row],[الصنف]]","v":{"$error":"#VALUE!"}},{"$f":"Tableau1[[#This Row],[الاطار]]","v":{"$error":"#VALUE!"}},{"$f":"Tableau1[[#This Row],[القسم]]","v":{"$error":"#VALUE!"}},{"$f":"Tableau1[[#This Row],[الحالة العائلية]]","v":{"$error":"#VALUE!"}},{"$f":"Tableau1[[#This Row],[الدرجة]]","v":{"$error":"#VALUE!"}},{"$f":"Tableau1[[#This Row],[رقم الحساب]]","v":{"$error":"#VALUE!"}}]
[{"$f":"Tableau1[[#This Row],[الرقم]]","v":{"$error":"#VALUE!"}},{"$f":"Tableau1[[#This Row],[الاسم]]","v":{"$error":"#VALUE!"}},{"$f":"Tableau1[[#This Row],[اللقب]]","v":{"$error":"#VALUE!"}},{"$f":"Tableau1[[#This Row],[الصنف]]","v":{"$error":"#VALUE!"}},{"$f":"Tableau1[[#This Row],[الاطار]]","v":{"$error":"#VALUE!"}},{"$f":"Tableau1[[#This Row],[القسم]]","v":{"$error":"#VALUE!"}},{"$f":"Tableau1[[#This Row],[الحالة العائلية]]","v":{"$error":"#VALUE!"}},{"$f":"Tableau1[[#This Row],[الدرجة]]","v":{"$error":"#VALUE!"}},{"$f":"Tableau1[[#This Row],[رقم الحساب]]","v":{"$error":"#VALUE!"}}]
[{"$f":"Tableau1[[#This Row],[الرقم]]","v":{"$error":"#VALUE!"}},{"$f":"Tableau1[[#This Row],[الاسم]]","v":{"$error":"#VALUE!"}},{"$f":"Tableau1[[#This Row],[اللقب]]","v":{"$error":"#VALUE!"}},{"$f":"Tableau1[[#This Row],[الصنف]]","v":{"$error":"#VALUE!"}},{"$f":"Tableau1[[#This Row],[الاطار]]","v":{"$error":"#VALUE!"}},{"$f":"Tableau1[[#This Row],[القسم]]","v":{"$error":"#VALUE!"}},{"$f":"Tableau1[[#This Row],[الحالة العائلية]]","v":{"$error":"#VALUE!"}},{"$f":"Tableau1[[#This Row],[الدرجة]]","v":{"$error":"#VALUE!"}},{"$f":"Tableau1[[#This Row],[رقم الحساب]]","v":{"$error":"#VALUE!"}}]
[{"$f":"Tableau1[[#This Row],[الرقم]]","v":{"$error":"#VALUE!"}},{"$f":"Tableau1[[#This Row],[الاسم]]","v":{"$error":"#VALUE!"}},{"$f":"Tableau1[[#This Row],[اللقب]]","v":{"$error":"#VALUE!"}},{"$f":"Tableau1[[#This Row],[الصنف]]","v":{"$error":"#VALUE!"}},{"$f":"Tableau1[[#This Row],[الاطار]]","v":{"$error":"#VALUE!"}},{"$f":"Tableau1[[#This Row],[القسم]]","v":{"$error":"#VALUE!"}},{"$f":"Tableau1[[#This Row],[الحالة العائلية]]","v":{"$error":"#VALUE!"}},{"$f":"Tableau1[[#This Row],[الدرجة]]","v":{"$error":"#VALUE!"}},{"$f":"Tableau1[[#This Row],[رقم الحساب]]","v":{"$error":"#VALUE!"}}]
[{"$f":"Tableau1[[#This Row],[الرقم]]","v":{"$error":"#VALUE!"}},{"$f":"Tableau1[[#This Row],[الاسم]]","v":{"$error":"#VALUE!"}},{"$f":"Tableau1[[#This Row],[اللقب]]","v":{"$error":"#VALUE!"}},{"$f":"Tableau1[[#This Row],[الصنف]]","v":{"$error":"#VALUE!"}},{"$f":"Tableau1[[#This Row],[الاطار]]","v":{"$error":"#VALUE!"}},{"$f":"Tableau1[[#This Row],[القسم]]","v":{"$error":"#VALUE!"}},{"$f":"Tableau1[[#This Row],[الحالة العائلية]]","v":{"$error":"#VALUE!"}},{"$f":"Tableau1[[#This Row],[الدرجة]]","v":{"$error":"#VALUE!"}},{"$f":"Tableau1[[#This Row],[رقم الحساب]]","v":{"$error":"#VALUE!"}}]
[{"$f":"Tableau1[[#This Row],[الرقم]]","v":{"$error":"#VALUE!"}},{"$f":"Tableau1[[#This Row],[الاسم]]","v":{"$error":"#VALUE!"}},{"$f":"Tableau1[[#This Row],[اللقب]]","v":{"$error":"#VALUE!"}},{"$f":"Tableau1[[#This Row],[الصنف]]","v":{"$error":"#VALUE!"}},{"$f":"Tableau1[[#This Row],[الاطار]]","v":{"$error":"#VALUE!"}},{"$f":"Tableau1[[#This Row],[القسم]]","v":{"$error":"#VALUE!"}},{"$f":"Tableau1[[#This Row],[الحالة العائلية]]","v":{"$error":"#VALUE!"}},{"$f":"Tableau1[[#This Row],[الدرجة]]","v":{"$error":"#VALUE!"}},{"$f":"Tableau1[[#This Row],[رقم الحساب]]","v":{"$error":"#VALUE!"}}]
[{"$f":"Tableau1[[#This Row],[الرقم]]","v":{"$error":"#VALUE!"}},{"$f":"Tableau1[[#This Row],[الاسم]]","v":{"$error":"#VALUE!"}},{"$f":"Tableau1[[#This Row],[اللقب]]","v":{"$error":"#VALUE!"}},{"$f":"Tableau1[[#This Row],[الصنف]]","v":{"$error":"#VALUE!"}},{"$f":"Tableau1[[#This Row],[الاطار]]","v":{"$error":"#VALUE!"}},{"$f":"Tableau1[[#This Row],[القسم]]","v":{"$error":"#VALUE!"}},{"$f":"Tableau1[[#This Row],[الحالة العائلية]]","v":{"$error":"#VALUE!"}},{"$f":"Tableau1[[#This Row],[الدرجة]]","v":{"$error":"#VALUE!"}},{"$f":"Tableau1[[#This Row],[رقم الحساب]]","v":{"$error":"#VALUE!"}}]
[{"$f":"Tableau1[[#This Row],[الرقم]]","v":{"$error":"#VALUE!"}},{"$f":"Tableau1[[#This Row],[الاسم]]","v":{"$error":"#VALUE!"}},{"$f":"Tableau1[[#This Row],[اللقب]]","v":{"$error":"#VALUE!"}},{"$f":"Tableau1[[#This Row],[الصنف]]","v":{"$error":"#VALUE!"}},{"$f":"Tableau1[[#This Row],[الاطار]]","v":{"$error":"#VALUE!"}},{"$f":"Tableau1[[#This Row],[القسم]]","v":{"$error":"#VALUE!"}},{"$f":"Tableau1[[#This Row],[الحالة العائلية]]","v":{"$error":"#VALUE!"}},{"$f":"Tableau1[[#This Row],[الدرجة]]","v":{"$error":"#VALUE!"}},{"$f":"Tableau1[[#This Row],[رقم الحساب]]","v":{"$error":"#VALUE!"}}]
[{"$f":"Tableau1[[#This Row],[الرقم]]","v":{"$error":"#VALUE!"}},{"$f":"Tableau1[[#This Row],[الاسم]]","v":{"$error":"#VALUE!"}},{"$f":"Tableau1[[#This Row],[اللقب]]","v":{"$error":"#VALUE!"}},{"$f":"Tableau1[[#This Row],[الصنف]]","v":{"$error":"#VALUE!"}},{"$f":"Tableau1[[#This Row],[الاطار]]","v":{"$error":"#VALUE!"}},{"$f":"Tableau1[[#This Row],[القسم]]","v":{"$error":"#VALUE!"}},{"$f":"Tableau1[[#This Row],[الحالة العائلية]]","v":{"$error":"#VALUE!"}},{"$f":"Tableau1[[#This Row],[الدرجة]]","v":{"$error":"#VALUE!"}},{"$f":"Tableau1[[#This Row],[رقم الحساب]]","v":{"$error":"#VALUE!"}}]
[{"$f":"Tableau1[[#This Row],[الرقم]]","v":{"$error":"#VALUE!"}},{"$f":"Tableau1[[#This Row],[الاسم]]","v":{"$error":"#VALUE!"}},{"$f":"Tableau1[[#This Row],[اللقب]]","v":{"$error":"#VALUE!"}},{"$f":"Tableau1[[#This Row],[الصنف]]","v":{"$error":"#VALUE!"}},{"$f":"Tableau1[[#This Row],[الاطار]]","v":{"$error":"#VALUE!"}},{"$f":"Tableau1[[#This Row],[القسم]]","v":{"$error":"#VALUE!"}},{"$f":"Tableau1[[#This Row],[الحالة العائلية]]","v":{"$error":"#VALUE!"}},{"$f":"Tableau1[[#This Row],[الدرجة]]","v":{"$error":"#VALUE!"}},{"$f":"Tableau1[[#This Row],[رقم الحساب]]","v":{"$error":"#VALUE!"}}]
[{"$f":"Tableau1[[#This Row],[الرقم]]","v":{"$error":"#VALUE!"}},{"$f":"Tableau1[[#This Row],[الاسم]]","v":{"$error":"#VALUE!"}},{"$f":"Tableau1[[#This Row],[اللقب]]","v":{"$error":"#VALUE!"}},{"$f":"Tableau1[[#This Row],[الصنف]]","v":{"$error":"#VALUE!"}},{"$f":"Tableau1[[#This Row],[الاطار]]","v":{"$error":"#VALUE!"}},{"$f":"Tableau1[[#This Row],[القسم]]","v":{"$error":"#VALUE!"}},{"$f":"Tableau1[[#This Row],[الحالة العائلية]]","v":{"$error":"#VALUE!"}},{"$f":"Tableau1[[#This Row],[الدرجة]]","v":{"$error":"#VALUE!"}},{"$f":"Tableau1[[#This Row],[رقم الحساب]]","v":{"$error":"#VALUE!"}}]
[{"$f":"Tableau1[[#This Row],[الرقم]]","v":{"$error":"#VALUE!"}},{"$f":"Tableau1[[#This Row],[الاسم]]","v":{"$error":"#VALUE!"}},{"$f":"Tableau1[[#This Row],[اللقب]]","v":{"$error":"#VALUE!"}},{"$f":"Tableau1[[#This Row],[الصنف]]","v":{"$error":"#VALUE!"}},{"$f":"Tableau1[[#This Row],[الاطار]]","v":{"$error":"#VALUE!"}},{"$f":"Tableau1[[#This Row],[القسم]]","v":{"$error":"#VALUE!"}},{"$f":"Tableau1[[#This Row],[الحالة العائلية]]","v":{"$error":"#VALUE!"}},{"$f":"Tableau1[[#This Row],[الدرجة]]","v":{"$error":"#VALUE!"}},{"$f":"Tableau1[[#This Row],[رقم الحساب]]","v":{"$error":"#VALUE!"}}]
[{"$f":"Tableau1[[#This Row],[الرقم]]","v":{"$error":"#VALUE!"}},{"$f":"Tableau1[[#This Row],[الاسم]]","v":{"$error":"#VALUE!"}},{"$f":"Tableau1[[#This Row],[اللقب]]","v":{"$error":"#VALUE!"}},{"$f":"Tableau1[[#This Row],[الصنف]]","v":{"$error":"#VALUE!"}},{"$f":"Tableau1[[#This Row],[الاطار]]","v":{"$error":"#VALUE!"}},{"$f":"Tableau1[[#This Row],[القسم]]","v":{"$error":"#VALUE!"}},{"$f":"Tableau1[[#This Row],[الحالة العائلية]]","v":{"$error":"#VALUE!"}},{"$f":"Tableau1[[#This Row],[الدرجة]]","v":{"$error":"#VALUE!"}},{"$f":"Tableau1[[#This Row],[رقم الحساب]]","v":{"$error":"#VALUE!"}}]
[{"$f":"Tableau1[[#This Row],[الرقم]]","v":{"$error":"#VALUE!"}},{"$f":"Tableau1[[#This Row],[الاسم]]","v":{"$error":"#VALUE!"}},{"$f":"Tableau1[[#This Row],[اللقب]]","v":{"$error":"#VALUE!"}},{"$f":"Tableau1[[#This Row],[الصنف]]","v":{"$error":"#VALUE!"}},{"$f":"Tableau1[[#This Row],[الاطار]]","v":{"$error":"#VALUE!"}},{"$f":"Tableau1[[#This Row],[القسم]]","v":{"$error":"#VALUE!"}},{"$f":"Tableau1[[#This Row],[الحالة العائلية]]","v":{"$error":"#VALUE!"}},{"$f":"Tableau1[[#This Row],[الدرجة]]","v":{"$error":"#VALUE!"}},{"$f":"Tableau1[[#This Row],[رقم الحساب]]","v":{"$error":"#VALUE!"}}]
[{"$f":"Tableau1[[#This Row],[الرقم]]","v":{"$error":"#VALUE!"}},{"$f":"Tableau1[[#This Row],[الاسم]]","v":{"$error":"#VALUE!"}},{"$f":"Tableau1[[#This Row],[اللقب]]","v":{"$error":"#VALUE!"}},{"$f":"Tableau1[[#This Row],[الصنف]]","v":{"$error":"#VALUE!"}},{"$f":"Tableau1[[#This Row],[الاطار]]","v":{"$error":"#VALUE!"}},{"$f":"Tableau1[[#This Row],[القسم]]","v":{"$error":"#VALUE!"}},{"$f":"Tableau1[[#This Row],[الحالة العائلية]]","v":{"$error":"#VALUE!"}},{"$f":"Tableau1[[#This Row],[الدرجة]]","v":{"$error":"#VALUE!"}},{"$f":"Tableau1[[#This Row],[رقم الحساب]]","v":{"$error":"#VALUE!"}}]
[{"$f":"Tableau1[[#This Row],[الرقم]]","v":{"$error":"#VALUE!"}},{"$f":"Tableau1[[#This Row],[الاسم]]","v":{"$error":"#VALUE!"}},{"$f":"Tableau1[[#This Row],[اللقب]]","v":{"$error":"#VALUE!"}},{"$f":"Tableau1[[#This Row],[الصنف]]","v":{"$error":"#VALUE!"}},{"$f":"Tableau1[[#This Row],[الاطار]]","v":{"$error":"#VALUE!"}},{"$f":"Tableau1[[#This Row],[القسم]]","v":{"$error":"#VALUE!"}},{"$f":"Tableau1[[#This Row],[الحالة العائلية]]","v":{"$error":"#VALUE!"}},{"$f":"Tableau1[[#This Row],[الدرجة]]","v":{"$error":"#VALUE!"}},{"$f":"Tableau1[[#This Row],[رقم الحساب]]","v":{"$error":"#VALUE!"}}]
[{"$f":"Tableau1[[#This Row],[الرقم]]","v":{"$error":"#VALUE!"}},{"$f":"Tableau1[[#This Row],[الاسم]]","v":{"$error":"#VALUE!"}},{"$f":"Tableau1[[#This Row],[اللقب]]","v":{"$error":"#VALUE!"}},{"$f":"Tableau1[[#This Row],[الصنف]]","v":{"$error":"#VALUE!"}},{"$f":"Tableau1[[#This Row],[الاطار]]","v":{"$error":"#VALUE!"}},{"$f":"Tableau1[[#This Row],[القسم]]","v":{"$error":"#VALUE!"}},{"$f":"Tableau1[[#This Row],[الحالة العائلية]]","v":{"$error":"#VALUE!"}},{"$f":"Tableau1[[#This Row],[الدرجة]]","v":{"$error":"#VALUE!"}},{"$f":"Tableau1[[#This Row],[رقم الحساب]]","v":{"$error":"#VALUE!"}}]
[{"$f":"Tableau1[[#This Row],[الرقم]]","v":{"$error":"#VALUE!"}},{"$f":"Tableau1[[#This Row],[الاسم]]","v":{"$error":"#VALUE!"}},{"$f":"Tableau1[[#This Row],[اللقب]]","v":{"$error":"#VALUE!"}},{"$f":"Tableau1[[#This Row],[الصنف]]","v":{"$error":"#VALUE!"}},{"$f":"Tableau1[[#This Row],[الاطار]]","v":{"$error":"#VALUE!"}},{"$f":"Tableau1[[#This Row],[القسم]]","v":{"$error":"#VALUE!"}},{"$f":"Tableau1[[#This Row],[الحالة العائلية]]","v":{"$error":"#VALUE!"}},{"$f":"Tableau1[[#This Row],[الدرجة]]","v":{"$error":"#VALUE!"}},{"$f":"Tableau1[[#This Row],[رقم الحساب]]","v":{"$error":"#VALUE!"}}]
[{"$f":"Tableau1[[#This Row],[الرقم]]","v":{"$error":"#VALUE!"}},{"$f":"Tableau1[[#This Row],[الاسم]]","v":{"$error":"#VALUE!"}},{"$f":"Tableau1[[#This Row],[اللقب]]","v":{"$error":"#VALUE!"}},{"$f":"Tableau1[[#This Row],[الصنف]]","v":{"$error":"#VALUE!"}},{"$f":"Tableau1[[#This Row],[الاطار]]","v":{"$error":"#VALUE!"}},{"$f":"Tableau1[[#This Row],[القسم]]","v":{"$error":"#VALUE!"}},{"$f":"Tableau1[[#This Row],[الحالة العائلية]]","v":{"$error":"#VALUE!"}},{"$f":"Tableau1[[#This Row],[الدرجة]]","v":{"$error":"#VALUE!"}},{"$f":"Tableau1[[#This Row],[رقم الحساب]]","v":{"$error":"#VALUE!"}}]
[{"$f":"Tableau1[[#This Row],[الرقم]]","v":{"$error":"#VALUE!"}},{"$f":"Tableau1[[#This Row],[الاسم]]","v":{"$error":"#VALUE!"}},{"$f":"Tableau1[[#This Row],[اللقب]]","v":{"$error":"#VALUE!"}},{"$f":"Tableau1[[#This Row],[الصنف]]","v":{"$error":"#VALUE!"}},{"$f":"Tableau1[[#This Row],[الاطار]]","v":{"$error":"#VALUE!"}},{"$f":"Tableau1[[#This Row],[القسم]]","v":{"$error":"#VALUE!"}},{"$f":"Tableau1[[#This Row],[الحالة العائلية]]","v":{"$error":"#VALUE!"}},{"$f":"Tableau1[[#This Row],[الدرجة]]","v":{"$error":"#VALUE!"}},{"$f":"Tableau1[[#This Row],[رقم الحساب]]","v":{"$error":"#VALUE!"}}]
[{"$f":"Tableau1[[#This Row],[الرقم]]","v":{"$error":"#VALUE!"}},{"$f":"Tableau1[[#This Row],[الاسم]]","v":{"$error":"#VALUE!"}},{"$f":"Tableau1[[#This Row],[اللقب]]","v":{"$error":"#VALUE!"}},{"$f":"Tableau1[[#This Row],[الصنف]]","v":{"$error":"#VALUE!"}},{"$f":"Tableau1[[#This Row],[الاطار]]","v":{"$error":"#VALUE!"}},{"$f":"Tableau1[[#This Row],[القسم]]","v":{"$error":"#VALUE!"}},{"$f":"Tableau1[[#This Row],[الحالة العائلية]]","v":{"$error":"#VALUE!"}},{"$f":"Tableau1[[#This Row],[الدرجة]]","v":{"$error":"#VALUE!"}},{"$f":"Tableau1[[#This Row],[رقم الحساب]]","v":{"$error":"#VALUE!"}}]
[{"$f":"Tableau1[[#This Row],[الرقم]]","v":{"$error":"#VALUE!"}},{"$f":"Tableau1[[#This Row],[الاسم]]","v":{"$error":"#VALUE!"}},{"$f":"Tableau1[[#This Row],[اللقب]]","v":{"$error":"#VALUE!"}},{"$f":"Tableau1[[#This Row],[الصنف]]","v":{"$error":"#VALUE!"}},{"$f":"Tableau1[[#This Row],[الاطار]]","v":{"$error":"#VALUE!"}},{"$f":"Tableau1[[#This Row],[القسم]]","v":{"$error":"#VALUE!"}},{"$f":"Tableau1[[#This Row],[الحالة العائلية]]","v":{"$error":"#VALUE!"}},{"$f":"Tableau1[[#This Row],[الدرجة]]","v":{"$error":"#VALUE!"}},{"$f":"Tableau1[[#This Row],[رقم الحساب]]","v":{"$error":"#VALUE!"}}]
[{"$f":"Tableau1[[#This Row],[الرقم]]","v":{"$error":"#VALUE!"}},{"$f":"Tableau1[[#This Row],[الاسم]]","v":{"$error":"#VALUE!"}},{"$f":"Tableau1[[#This Row],[اللقب]]","v":{"$error":"#VALUE!"}},{"$f":"Tableau1[[#This Row],[الصنف]]","v":{"$error":"#VALUE!"}},{"$f":"Tableau1[[#This Row],[الاطار]]","v":{"$error":"#VALUE!"}},{"$f":"Tableau1[[#This Row],[القسم]]","v":{"$error":"#VALUE!"}},{"$f":"Tableau1[[#This Row],[الحالة العائلية]]","v":{"$error":"#VALUE!"}},{"$f":"Tableau1[[#This Row],[الدرجة]]","v":{"$error":"#VALUE!"}},{"$f":"Tableau1[[#This Row],[رقم الحساب]]","v":{"$error":"#VALUE!"}}]
[{"$f":"Tableau1[[#This Row],[الرقم]]","v":{"$error":"#VALUE!"}},{"$f":"Tableau1[[#This Row],[الاسم]]","v":{"$error":"#VALUE!"}},{"$f":"Tableau1[[#This Row],[اللقب]]","v":{"$error":"#VALUE!"}},{"$f":"Tableau1[[#This Row],[الصنف]]","v":{"$error":"#VALUE!"}},{"$f":"Tableau1[[#This Row],[الاطار]]","v":{"$error":"#VALUE!"}},{"$f":"Tableau1[[#This Row],[القسم]]","v":{"$error":"#VALUE!"}},{"$f":"Tableau1[[#This Row],[الحالة العائلية]]","v":{"$error":"#VALUE!"}},{"$f":"Tableau1[[#This Row],[الدرجة]]","v":{"$error":"#VALUE!"}},{"$f":"Tableau1[[#This Row],[رقم الحساب]]","v":{"$error":"#VALUE!"}}]
[{"$f":"Tableau1[[#This Row],[الرقم]]","v":{"$error":"#VALUE!"}},{"$f":"Tableau1[[#This Row],[الاسم]]","v":{"$error":"#VALUE!"}},{"$f":"Tableau1[[#This Row],[اللقب]]","v":{"$error":"#VALUE!"}},{"$f":"Tableau1[[#This Row],[الصنف]]","v":{"$error":"#VALUE!"}},{"$f":"Tableau1[[#This Row],[الاطار]]","v":{"$error":"#VALUE!"}},{"$f":"Tableau1[[#This Row],[القسم]]","v":{"$error":"#VALUE!"}},{"$f":"Tableau1[[#This Row],[الحالة العائلية]]","v":{"$error":"#VALUE!"}},{"$f":"Tableau1[[#This Row],[الدرجة]]","v":{"$error":"#VALUE!"}},{"$f":"Tableau1[[#This Row],[رقم الحساب]]","v":{"$error":"#VALUE!"}}]
[{"$f":"Tableau1[[#This Row],[الرقم]]","v":{"$error":"#VALUE!"}},{"$f":"Tableau1[[#This Row],[الاسم]]","v":{"$error":"#VALUE!"}},{"$f":"Tableau1[[#This Row],[اللقب]]","v":{"$error":"#VALUE!"}},{"$f":"Tableau1[[#This Row],[الصنف]]","v":{"$error":"#VALUE!"}},{"$f":"Tableau1[[#This Row],[الاطار]]","v":{"$error":"#VALUE!"}},{"$f":"Tableau1[[#This Row],[القسم]]","v":{"$error":"#VALUE!"}},{"$f":"Tableau1[[#This Row],[الحالة العائلية]]","v":{"$error":"#VALUE!"}},{"$f":"Tableau1[[#This Row],[الدرجة]]","v":{"$error":"#VALUE!"}},{"$f":"Tableau1[[#This Row],[رقم الحساب]]","v":{"$error":"#VALUE!"}}]
[{"$f":"Tableau1[[#This Row],[الرقم]]","v":{"$error":"#VALUE!"}},{"$f":"Tableau1[[#This Row],[الاسم]]","v":{"$error":"#VALUE!"}},{"$f":"Tableau1[[#This Row],[اللقب]]","v":{"$error":"#VALUE!"}},{"$f":"Tableau1[[#This Row],[الصنف]]","v":{"$error":"#VALUE!"}},{"$f":"Tableau1[[#This Row],[الاطار]]","v":{"$error":"#VALUE!"}},{"$f":"Tableau1[[#This Row],[القسم]]","v":{"$error":"#VALUE!"}},{"$f":"Tableau1[[#This Row],[الحالة العائلية]]","v":{"$error":"#VALUE!"}},{"$f":"Tableau1[[#This Row],[الدرجة]]","v":{"$error":"#VALUE!"}},{"$f":"Tableau1[[#This Row],[رقم الحساب]]","v":{"$error":"#VALUE!"}}]
[{"$f":"Tableau1[[#This Row],[الرقم]]","v":{"$error":"#VALUE!"}},{"$f":"Tableau1[[#This Row],[الاسم]]","v":{"$error":"#VALUE!"}},{"$f":"Tableau1[[#This Row],[اللقب]]","v":{"$error":"#VALUE!"}},{"$f":"Tableau1[[#This Row],[الصنف]]","v":{"$error":"#VALUE!"}},{"$f":"Tableau1[[#This Row],[الاطار]]","v":{"$error":"#VALUE!"}},{"$f":"Tableau1[[#This Row],[القسم]]","v":{"$error":"#VALUE!"}},{"$f":"Tableau1[[#This Row],[الحالة العائلية]]","v":{"$error":"#VALUE!"}},{"$f":"Tableau1[[#This Row],[الدرجة]]","v":{"$error":"#VALUE!"}},{"$f":"Tableau1[[#This Row],[رقم الحساب]]","v":{"$error":"#VALUE!"}}]
[{"$f":"Tableau1[[#This Row],[الرقم]]","v":{"$error":"#VALUE!"}},{"$f":"Tableau1[[#This Row],[الاسم]]","v":{"$error":"#VALUE!"}},{"$f":"Tableau1[[#This Row],[اللقب]]","v":{"$error":"#VALUE!"}},{"$f":"Tableau1[[#This Row],[الصنف]]","v":{"$error":"#VALUE!"}},{"$f":"Tableau1[[#This Row],[الاطار]]","v":{"$error":"#VALUE!"}},{"$f":"Tableau1[[#This Row],[القسم]]","v":{"$error":"#VALUE!"}},{"$f":"Tableau1[[#This Row],[الحالة العائلية]]","v":{"$error":"#VALUE!"}},{"$f":"Tableau1[[#This Row],[الدرجة]]","v":{"$error":"#VALUE!"}},{"$f":"Tableau1[[#This Row],[رقم الحساب]]","v":{"$error":"#VALUE!"}}]
[{"$f":"Tableau1[[#This Row],[الرقم]]","v":{"$error":"#VALUE!"}},{"$f":"Tableau1[[#This Row],[الاسم]]","v":{"$error":"#VALUE!"}},{"$f":"Tableau1[[#This Row],[اللقب]]","v":{"$error":"#VALUE!"}},{"$f":"Tableau1[[#This Row],[الصنف]]","v":{"$error":"#VALUE!"}},{"$f":"Tableau1[[#This Row],[الاطار]]","v":{"$error":"#VALUE!"}},{"$f":"Tableau1[[#This Row],[القسم]]","v":{"$error":"#VALUE!"}},{"$f":"Tableau1[[#This Row],[الحالة العائلية]]","v":{"$error":"#VALUE!"}},{"$f":"Tableau1[[#This Row],[الدرجة]]","v":{"$error":"#VALUE!"}},{"$f":"Tableau1[[#This Row],[رقم الحساب]]","v":{"$error":"#VALUE!"}}]
[{"$f":"Tableau1[[#This Row],[الرقم]]","v":{"$error":"#VALUE!"}},{"$f":"Tableau1[[#This Row],[الاسم]]","v":{"$error":"#VALUE!"}},{"$f":"Tableau1[[#This Row],[اللقب]]","v":{"$error":"#VALUE!"}},{"$f":"Tableau1[[#This Row],[الصنف]]","v":{"$error":"#VALUE!"}},{"$f":"Tableau1[[#This Row],[الاطار]]","v":{"$error":"#VALUE!"}},{"$f":"Tableau1[[#This Row],[القسم]]","v":{"$error":"#VALUE!"}},{"$f":"Tableau1[[#This Row],[الحالة العائلية]]","v":{"$error":"#VALUE!"}},{"$f":"Tableau1[[#This Row],[الدرجة]]","v":{"$error":"#VALUE!"}},{"$f":"Tableau1[[#This Row],[رقم الحساب]]","v":{"$error":"#VALUE!"}}]
[{"$f":"Tableau1[[#This Row],[الرقم]]","v":{"$error":"#VALUE!"}},{"$f":"Tableau1[[#This Row],[الاسم]]","v":{"$error":"#VALUE!"}},{"$f":"Tableau1[[#This Row],[اللقب]]","v":{"$error":"#VALUE!"}},{"$f":"Tableau1[[#This Row],[الصنف]]","v":{"$error":"#VALUE!"}},{"$f":"Tableau1[[#This Row],[الاطار]]","v":{"$error":"#VALUE!"}},{"$f":"Tableau1[[#This Row],[القسم]]","v":{"$error":"#VALUE!"}},{"$f":"Tableau1[[#This Row],[الحالة العائلية]]","v":{"$error":"#VALUE!"}},{"$f":"Tableau1[[#This Row],[الدرجة]]","v":{"$error":"#VALUE!"}},{"$f":"Tableau1[[#This Row],[رقم الحساب]]","v":{"$error":"#VALUE!"}}]
[{"$f":"Tableau1[[#This Row],[الرقم]]","v":{"$error":"#VALUE!"}},{"$f":"Tableau1[[#This Row],[الاسم]]","v":{"$error":"#VALUE!"}},{"$f":"Tableau1[[#This Row],[اللقب]]","v":{"$error":"#VALUE!"}},{"$f":"Tableau1[[#This Row],[الصنف]]","v":{"$error":"#VALUE!"}},{"$f":"Tableau1[[#This Row],[الاطار]]","v":{"$error":"#VALUE!"}},{"$f":"Tableau1[[#This Row],[القسم]]","v":{"$error":"#VALUE!"}},{"$f":"Tableau1[[#This Row],[الحالة العائلية]]","v":{"$error":"#VALUE!"}},{"$f":"Tableau1[[#This Row],[الدرجة]]","v":{"$error":"#VALUE!"}},{"$f":"Tableau1[[#This Row],[رقم الحساب]]","v":{"$error":"#VALUE!"}}]
[{"$f":"Tableau1[[#This Row],[الرقم]]","v":{"$error":"#VALUE!"}},{"$f":"Tableau1[[#This Row],[الاسم]]","v":{"$error":"#VALUE!"}},{"$f":"Tableau1[[#This Row],[اللقب]]","v":{"$error":"#VALUE!"}},{"$f":"Tableau1[[#This Row],[الصنف]]","v":{"$error":"#VALUE!"}},{"$f":"Tableau1[[#This Row],[الاطار]]","v":{"$error":"#VALUE!"}},{"$f":"Tableau1[[#This Row],[القسم]]","v":{"$error":"#VALUE!"}},{"$f":"Tableau1[[#This Row],[الحالة العائلية]]","v":{"$error":"#VALUE!"}},{"$f":"Tableau1[[#This Row],[الدرجة]]","v":{"$error":"#VALUE!"}},{"$f":"Tableau1[[#This Row],[رقم الحساب]]","v":{"$error":"#VALUE!"}}]
[{"$f":"Tableau1[[#This Row],[الرقم]]","v":{"$error":"#VALUE!"}},{"$f":"Tableau1[[#This Row],[الاسم]]","v":{"$error":"#VALUE!"}},{"$f":"Tableau1[[#This Row],[اللقب]]","v":{"$error":"#VALUE!"}},{"$f":"Tableau1[[#This Row],[الصنف]]","v":{"$error":"#VALUE!"}},{"$f":"Tableau1[[#This Row],[الاطار]]","v":{"$error":"#VALUE!"}},{"$f":"Tableau1[[#This Row],[القسم]]","v":{"$error":"#VALUE!"}},{"$f":"Tableau1[[#This Row],[الحالة العائلية]]","v":{"$error":"#VALUE!"}},{"$f":"Tableau1[[#This Row],[الدرجة]]","v":{"$error":"#VALUE!"}},{"$f":"Tableau1[[#This Row],[رقم الحساب]]","v":{"$error":"#VALUE!"}}]
[{"$f":"Tableau1[[#This Row],[الرقم]]","v":{"$error":"#VALUE!"}},{"$f":"Tableau1[[#This Row],[الاسم]]","v":{"$error":"#VALUE!"}},{"$f":"Tableau1[[#This Row],[اللقب]]","v":{"$error":"#VALUE!"}},{"$f":"Tableau1[[#This Row],[الصنف]]","v":{"$error":"#VALUE!"}},{"$f":"Tableau1[[#This Row],[الاطار]]","v":{"$error":"#VALUE!"}},{"$f":"Tableau1[[#This Row],[القسم]]","v":{"$error":"#VALUE!"}},{"$f":"Tableau1[[#This Row],[الحالة العائلية]]","v":{"$error":"#VALUE!"}},{"$f":"Tableau1[[#This Row],[الدرجة]]","v":{"$error":"#VALUE!"}},{"$f":"Tableau1[[#This Row],[رقم الحساب]]","v":{"$error":"#VALUE!"}}]
[{"$f":"Tableau1[[#This Row],[الرقم]]","v":{"$error":"#VALUE!"}},{"$f":"Tableau1[[#This Row],[الاسم]]","v":{"$error":"#VALUE!"}},{"$f":"Tableau1[[#This Row],[اللقب]]","v":{"$error":"#VALUE!"}},{"$f":"Tableau1[[#This Row],[الصنف]]","v":{"$error":"#VALUE!"}},{"$f":"Tableau1[[#This Row],[الاطار]]","v":{"$error":"#VALUE!"}},{"$f":"Tableau1[[#This Row],[القسم]]","v":{"$error":"#VALUE!"}},{"$f":"Tableau1[[#This Row],[الحالة العائلية]]","v":{"$error":"#VALUE!"}},{"$f":"Tableau1[[#This Row],[الدرجة]]","v":{"$error":"#VALUE!"}},{"$f":"Tableau1[[#This Row],[رقم الحساب]]","v":{"$error":"#VALUE!"}}]
[{"$f":"Tableau1[[#This Row],[الرقم]]","v":{"$error":"#VALUE!"}},{"$f":"Tableau1[[#This Row],[الاسم]]","v":{"$error":"#VALUE!"}},{"$f":"Tableau1[[#This Row],[اللقب]]","v":{"$error":"#VALUE!"}},{"$f":"Tableau1[[#This Row],[الصنف]]","v":{"$error":"#VALUE!"}},{"$f":"Tableau1[[#This Row],[الاطار]]","v":{"$error":"#VALUE!"}},{"$f":"Tableau1[[#This Row],[القسم]]","v":{"$error":"#VALUE!"}},{"$f":"Tableau1[[#This Row],[الحالة العائلية]]","v":{"$error":"#VALUE!"}},{"$f":"Tableau1[[#This Row],[الدرجة]]","v":{"$error":"#VALUE!"}},{"$f":"Tableau1[[#This Row],[رقم الحساب]]","v":{"$error":"#VALUE!"}}]
[{"$f":"Tableau1[[#This Row],[الرقم]]","v":{"$error":"#VALUE!"}},{"$f":"Tableau1[[#This Row],[الاسم]]","v":{"$error":"#VALUE!"}},{"$f":"Tableau1[[#This Row],[اللقب]]","v":{"$error":"#VALUE!"}},{"$f":"Tableau1[[#This Row],[الصنف]]","v":{"$error":"#VALUE!"}},{"$f":"Tableau1[[#This Row],[الاطار]]","v":{"$error":"#VALUE!"}},{"$f":"Tableau1[[#This Row],[القسم]]","v":{"$error":"#VALUE!"}},{"$f":"Tableau1[[#This Row],[الحالة العائلية]]","v":{"$error":"#VALUE!"}},{"$f":"Tableau1[[#This Row],[الدرجة]]","v":{"$error":"#VALUE!"}},{"$f":"Tableau1[[#This Row],[رقم الحساب]]","v":{"$error":"#VALUE!"}}]
[{"$f":"Tableau1[[#This Row],[الرقم]]","v":{"$error":"#VALUE!"}},{"$f":"Tableau1[[#This Row],[الاسم]]","v":{"$error":"#VALUE!"}},{"$f":"Tableau1[[#This Row],[اللقب]]","v":{"$error":"#VALUE!"}},{"$f":"Tableau1[[#This Row],[الصنف]]","v":{"$error":"#VALUE!"}},{"$f":"Tableau1[[#This Row],[الاطار]]","v":{"$error":"#VALUE!"}},{"$f":"Tableau1[[#This Row],[القسم]]","v":{"$error":"#VALUE!"}},{"$f":"Tableau1[[#This Row],[الحالة العائلية]]","v":{"$error":"#VALUE!"}},{"$f":"Tableau1[[#This Row],[الدرجة]]","v":{"$error":"#VALUE!"}},{"$f":"Tableau1[[#This Row],[رقم الحساب]]","v":{"$error":"#VALUE!"}}]
[{"$f":"Tableau1[[#This Row],[الرقم]]","v":{"$error":"#VALUE!"}},{"$f":"Tableau1[[#This Row],[الاسم]]","v":{"$error":"#VALUE!"}},{"$f":"Tableau1[[#This Row],[اللقب]]","v":{"$error":"#VALUE!"}},{"$f":"Tableau1[[#This Row],[الصنف]]","v":{"$error":"#VALUE!"}},{"$f":"Tableau1[[#This Row],[الاطار]]","v":{"$error":"#VALUE!"}},{"$f":"Tableau1[[#This Row],[القسم]]","v":{"$error":"#VALUE!"}},{"$f":"Tableau1[[#This Row],[الحالة العائلية]]","v":{"$error":"#VALUE!"}},{"$f":"Tableau1[[#This Row],[الدرجة]]","v":{"$error":"#VALUE!"}},{"$f":"Tableau1[[#This Row],[رقم الحساب]]","v":{"$error":"#VALUE!"}}]
[{"$f":"Tableau1[[#This Row],[الرقم]]","v":{"$error":"#VALUE!"}},{"$f":"Tableau1[[#This Row],[الاسم]]","v":{"$error":"#VALUE!"}},{"$f":"Tableau1[[#This Row],[اللقب]]","v":{"$error":"#VALUE!"}},{"$f":"Tableau1[[#This Row],[الصنف]]","v":{"$error":"#VALUE!"}},{"$f":"Tableau1[[#This Row],[الاطار]]","v":{"$error":"#VALUE!"}},{"$f":"Tableau1[[#This Row],[القسم]]","v":{"$error":"#VALUE!"}},{"$f":"Tableau1[[#This Row],[الحالة العائلية]]","v":{"$error":"#VALUE!"}},{"$f":"Tableau1[[#This Row],[الدرجة]]","v":{"$error":"#VALUE!"}},{"$f":"Tableau1[[#This Row],[رقم الحساب]]","v":{"$error":"#VALUE!"}}]
[{"$f":"Tableau1[[#This Row],[الرقم]]","v":{"$error":"#VALUE!"}},{"$f":"Tableau1[[#This Row],[الاسم]]","v":{"$error":"#VALUE!"}},{"$f":"Tableau1[[#This Row],[اللقب]]","v":{"$error":"#VALUE!"}},{"$f":"Tableau1[[#This Row],[الصنف]]","v":{"$error":"#VALUE!"}},{"$f":"Tableau1[[#This Row],[الاطار]]","v":{"$error":"#VALUE!"}},{"$f":"Tableau1[[#This Row],[القسم]]","v":{"$error":"#VALUE!"}},{"$f":"Tableau1[[#This Row],[الحالة العائلية]]","v":{"$error":"#VALUE!"}},{"$f":"Tableau1[[#This Row],[الدرجة]]","v":{"$error":"#VALUE!"}},{"$f":"Tableau1[[#This Row],[رقم الحساب]]","v":{"$error":"#VALUE!"}}]
[{"$f":"Tableau1[[#This Row],[الرقم]]","v":{"$error":"#VALUE!"}},{"$f":"Tableau1[[#This Row],[الاسم]]","v":{"$error":"#VALUE!"}},{"$f":"Tableau1[[#This Row],[اللقب]]","v":{"$error":"#VALUE!"}},{"$f":"Tableau1[[#This Row],[الصنف]]","v":{"$error":"#VALUE!"}},{"$f":"Tableau1[[#This Row],[الاطار]]","v":{"$error":"#VALUE!"}},{"$f":"Tableau1[[#This Row],[القسم]]","v":{"$error":"#VALUE!"}},{"$f":"Tableau1[[#This Row],[الحالة العائلية]]","v":{"$error":"#VALUE!"}},{"$f":"Tableau1[[#This Row],[الدرجة]]","v":{"$error":"#VALUE!"}},{"$f":"Tableau1[[#This Row],[رقم الحساب]]","v":{"$error":"#VALUE!"}}]
[{"$f":"Tableau1[[#This Row],[الرقم]]","v":{"$error":"#VALUE!"}},{"$f":"Tableau1[[#This Row],[الاسم]]","v":{"$error":"#VALUE!"}},{"$f":"Tableau1[[#This Row],[اللقب]]","v":{"$error":"#VALUE!"}},{"$f":"Tableau1[[#This Row],[الصنف]]","v":{"$error":"#VALUE!"}},{"$f":"Tableau1[[#This Row],[الاطار]]","v":{"$error":"#VALUE!"}},{"$f":"Tableau1[[#This Row],[القسم]]","v":{"$error":"#VALUE!"}},{"$f":"Tableau1[[#This Row],[الحالة العائلية]]","v":{"$error":"#VALUE!"}},{"$f":"Tableau1[[#This Row],[الدرجة]]","v":{"$error":"#VALUE!"}},{"$f":"Tableau1[[#This Row],[رقم الحساب]]","v":{"$error":"#VALUE!"}}]
[{"$f":"Tableau1[[#This Row],[الرقم]]","v":{"$error":"#VALUE!"}},{"$f":"Tableau1[[#This Row],[الاسم]]","v":{"$error":"#VALUE!"}},{"$f":"Tableau1[[#This Row],[اللقب]]","v":{"$error":"#VALUE!"}},{"$f":"Tableau1[[#This Row],[الصنف]]","v":{"$error":"#VALUE!"}},{"$f":"Tableau1[[#This Row],[الاطار]]","v":{"$error":"#VALUE!"}},{"$f":"Tableau1[[#This Row],[القسم]]","v":{"$error":"#VALUE!"}},{"$f":"Tableau1[[#This Row],[الحالة العائلية]]","v":{"$error":"#VALUE!"}},{"$f":"Tableau1[[#This Row],[الدرجة]]","v":{"$error":"#VALUE!"}},{"$f":"Tableau1[[#This Row],[رقم الحساب]]","v":{"$error":"#VALUE!"}}]
[{"$f":"Tableau1[[#This Row],[الرقم]]","v":{"$error":"#VALUE!"}},{"$f":"Tableau1[[#This Row],[الاسم]]","v":{"$error":"#VALUE!"}},{"$f":"Tableau1[[#This Row],[اللقب]]","v":{"$error":"#VALUE!"}},{"$f":"Tableau1[[#This Row],[الصنف]]","v":{"$error":"#VALUE!"}},{"$f":"Tableau1[[#This Row],[الاطار]]","v":{"$error":"#VALUE!"}},{"$f":"Tableau1[[#This Row],[القسم]]","v":{"$error":"#VALUE!"}},{"$f":"Tableau1[[#This Row],[الحالة العائلية]]","v":{"$error":"#VALUE!"}},{"$f":"Tableau1[[#This Row],[الدرجة]]","v":{"$error":"#VALUE!"}},{"$f":"Tableau1[[#This Row],[رقم الحساب]]","v":{"$error":"#VALUE!"}}]
[{"$f":"Tableau1[[#This Row],[الرقم]]","v":{"$error":"#VALUE!"}},{"$f":"Tableau1[[#This Row],[الاسم]]","v":{"$error":"#VALUE!"}},{"$f":"Tableau1[[#This Row],[اللقب]]","v":{"$error":"#VALUE!"}},{"$f":"Tableau1[[#This Row],[الصنف]]","v":{"$error":"#VALUE!"}},{"$f":"Tableau1[[#This Row],[الاطار]]","v":{"$error":"#VALUE!"}},{"$f":"Tableau1[[#This Row],[القسم]]","v":{"$error":"#VALUE!"}},{"$f":"Tableau1[[#This Row],[الحالة العائلية]]","v":{"$error":"#VALUE!"}},{"$f":"Tableau1[[#This Row],[الدرجة]]","v":{"$error":"#VALUE!"}},{"$f":"Tableau1[[#This Row],[رقم الحساب]]","v":{"$error":"#VALUE!"}}]
[{"$f":"Tableau1[[#This Row],[الرقم]]","v":{"$error":"#VALUE!"}},{"$f":"Tableau1[[#This Row],[الاسم]]","v":{"$error":"#VALUE!"}},{"$f":"Tableau1[[#This Row],[اللقب]]","v":{"$error":"#VALUE!"}},{"$f":"Tableau1[[#This Row],[الصنف]]","v":{"$error":"#VALUE!"}},{"$f":"Tableau1[[#This Row],[الاطار]]","v":{"$error":"#VALUE!"}},{"$f":"Tableau1[[#This Row],[القسم]]","v":{"$error":"#VALUE!"}},{"$f":"Tableau1[[#This Row],[الحالة العائلية]]","v":{"$error":"#VALUE!"}},{"$f":"Tableau1[[#This Row],[الدرجة]]","v":{"$error":"#VALUE!"}},{"$f":"Tableau1[[#This Row],[رقم الحساب]]","v":{"$error":"#VALUE!"}}]
[{"$f":"Tableau1[[#This Row],[الرقم]]","v":{"$error":"#VALUE!"}},{"$f":"Tableau1[[#This Row],[الاسم]]","v":{"$error":"#VALUE!"}},{"$f":"Tableau1[[#This Row],[اللقب]]","v":{"$error":"#VALUE!"}},{"$f":"Tableau1[[#This Row],[الصنف]]","v":{"$error":"#VALUE!"}},{"$f":"Tableau1[[#This Row],[الاطار]]","v":{"$error":"#VALUE!"}},{"$f":"Tableau1[[#This Row],[القسم]]","v":{"$error":"#VALUE!"}},{"$f":"Tableau1[[#This Row],[الحالة العائلية]]","v":{"$error":"#VALUE!"}},{"$f":"Tableau1[[#This Row],[الدرجة]]","v":{"$error":"#VALUE!"}},{"$f":"Tableau1[[#This Row],[رقم الحساب]]","v":{"$error":"#VALUE!"}}]
[{"$f":"Tableau1[[#This Row],[الرقم]]","v":{"$error":"#VALUE!"}},{"$f":"Tableau1[[#This Row],[الاسم]]","v":{"$error":"#VALUE!"}},{"$f":"Tableau1[[#This Row],[اللقب]]","v":{"$error":"#VALUE!"}},{"$f":"Tableau1[[#This Row],[الصنف]]","v":{"$error":"#VALUE!"}},{"$f":"Tableau1[[#This Row],[الاطار]]","v":{"$error":"#VALUE!"}},{"$f":"Tableau1[[#This Row],[القسم]]","v":{"$error":"#VALUE!"}},{"$f":"Tableau1[[#This Row],[الحالة العائلية]]","v":{"$error":"#VALUE!"}},{"$f":"Tableau1[[#This Row],[الدرجة]]","v":{"$error":"#VALUE!"}},{"$f":"Tableau1[[#This Row],[رقم الحساب]]","v":{"$error":"#VALUE!"}}]
[{"$f":"Tableau1[[#This Row],[الرقم]]","v":{"$error":"#VALUE!"}},{"$f":"Tableau1[[#This Row],[الاسم]]","v":{"$error":"#VALUE!"}},{"$f":"Tableau1[[#This Row],[اللقب]]","v":{"$error":"#VALUE!"}},{"$f":"Tableau1[[#This Row],[الصنف]]","v":{"$error":"#VALUE!"}},{"$f":"Tableau1[[#This Row],[الاطار]]","v":{"$error":"#VALUE!"}},{"$f":"Tableau1[[#This Row],[القسم]]","v":{"$error":"#VALUE!"}},{"$f":"Tableau1[[#This Row],[الحالة العائلية]]","v":{"$error":"#VALUE!"}},{"$f":"Tableau1[[#This Row],[الدرجة]]","v":{"$error":"#VALUE!"}},{"$f":"Tableau1[[#This Row],[رقم الحساب]]","v":{"$error":"#VALUE!"}}]
[{"$f":"Tableau1[[#This Row],[الرقم]]","v":{"$error":"#VALUE!"}},{"$f":"Tableau1[[#This Row],[الاسم]]","v":{"$error":"#VALUE!"}},{"$f":"Tableau1[[#This Row],[اللقب]]","v":{"$error":"#VALUE!"}},{"$f":"Tableau1[[#This Row],[الصنف]]","v":{"$error":"#VALUE!"}},{"$f":"Tableau1[[#This Row],[الاطار]]","v":{"$error":"#VALUE!"}},{"$f":"Tableau1[[#This Row],[القسم]]","v":{"$error":"#VALUE!"}},{"$f":"Tableau1[[#This Row],[الحالة العائلية]]","v":{"$error":"#VALUE!"}},{"$f":"Tableau1[[#This Row],[الدرجة]]","v":{"$error":"#VALUE!"}},{"$f":"Tableau1[[#This Row],[رقم الحساب]]","v":{"$error":"#VALUE!"}}]
[{"$f":"Tableau1[[#This Row],[الرقم]]","v":{"$error":"#VALUE!"}},{"$f":"Tableau1[[#This Row],[الاسم]]","v":{"$error":"#VALUE!"}},{"$f":"Tableau1[[#This Row],[اللقب]]","v":{"$error":"#VALUE!"}},{"$f":"Tableau1[[#This Row],[الصنف]]","v":{"$error":"#VALUE!"}},{"$f":"Tableau1[[#This Row],[الاطار]]","v":{"$error":"#VALUE!"}},{"$f":"Tableau1[[#This Row],[القسم]]","v":{"$error":"#VALUE!"}},{"$f":"Tableau1[[#This Row],[الحالة العائلية]]","v":{"$error":"#VALUE!"}},{"$f":"Tableau1[[#This Row],[الدرجة]]","v":{"$error":"#VALUE!"}},{"$f":"Tableau1[[#This Row],[رقم الحساب]]","v":{"$error":"#VALUE!"}}]
[{"$f":"Tableau1[[#This Row],[الرقم]]","v":{"$error":"#VALUE!"}},{"$f":"Tableau1[[#This Row],[الاسم]]","v":{"$error":"#VALUE!"}},{"$f":"Tableau1[[#This Row],[اللقب]]","v":{"$error":"#VALUE!"}},{"$f":"Tableau1[[#This Row],[الصنف]]","v":{"$error":"#VALUE!"}},{"$f":"Tableau1[[#This Row],[الاطار]]","v":{"$error":"#VALUE!"}},{"$f":"Tableau1[[#This Row],[القسم]]","v":{"$error":"#VALUE!"}},{"$f":"Tableau1[[#This Row],[الحالة العائلية]]","v":{"$error":"#VALUE!"}},{"$f":"Tableau1[[#This Row],[الدرجة]]","v":{"$error":"#VALUE!"}},{"$f":"Tableau1[[#This Row],[رقم الحساب]]","v":{"$error":"#VALUE!"}}]
[{"$f":"Tableau1[[#This Row],[الرقم]]","v":{"$error":"#VALUE!"}},{"$f":"Tableau1[[#This Row],[الاسم]]","v":{"$error":"#VALUE!"}},{"$f":"Tableau1[[#This Row],[اللقب]]","v":{"$error":"#VALUE!"}},{"$f":"Tableau1[[#This Row],[الصنف]]","v":{"$error":"#VALUE!"}},{"$f":"Tableau1[[#This Row],[الاطار]]","v":{"$error":"#VALUE!"}},{"$f":"Tableau1[[#This Row],[القسم]]","v":{"$error":"#VALUE!"}},{"$f":"Tableau1[[#This Row],[الحالة العائلية]]","v":{"$error":"#VALUE!"}},{"$f":"Tableau1[[#This Row],[الدرجة]]","v":{"$error":"#VALUE!"}},{"$f":"Tableau1[[#This Row],[رقم الحساب]]","v":{"$error":"#VALUE!"}}]
[{"$f":"Tableau1[[#This Row],[الرقم]]","v":{"$error":"#VALUE!"}},{"$f":"Tableau1[[#This Row],[الاسم]]","v":{"$error":"#VALUE!"}},{"$f":"Tableau1[[#This Row],[اللقب]]","v":{"$error":"#VALUE!"}},{"$f":"Tableau1[[#This Row],[الصنف]]","v":{"$error":"#VALUE!"}},{"$f":"Tableau1[[#This Row],[الاطار]]","v":{"$error":"#VALUE!"}},{"$f":"Tableau1[[#This Row],[القسم]]","v":{"$error":"#VALUE!"}},{"$f":"Tableau1[[#This Row],[الحالة العائلية]]","v":{"$error":"#VALUE!"}},{"$f":"Tableau1[[#This Row],[الدرجة]]","v":{"$error":"#VALUE!"}},{"$f":"Tableau1[[#This Row],[رقم الحساب]]","v":{"$error":"#VALUE!"}}]
[{"$f":"Tableau1[[#This Row],[الرقم]]","v":{"$error":"#VALUE!"}},{"$f":"Tableau1[[#This Row],[الاسم]]","v":{"$error":"#VALUE!"}},{"$f":"Tableau1[[#This Row],[اللقب]]","v":{"$error":"#VALUE!"}},{"$f":"Tableau1[[#This Row],[الصنف]]","v":{"$error":"#VALUE!"}},{"$f":"Tableau1[[#This Row],[الاطار]]","v":{"$error":"#VALUE!"}},{"$f":"Tableau1[[#This Row],[القسم]]","v":{"$error":"#VALUE!"}},{"$f":"Tableau1[[#This Row],[الحالة العائلية]]","v":{"$error":"#VALUE!"}},{"$f":"Tableau1[[#This Row],[الدرجة]]","v":{"$error":"#VALUE!"}},{"$f":"Tableau1[[#This Row],[رقم الحساب]]","v":{"$error":"#VALUE!"}}]
[{"$f":"Tableau1[[#This Row],[الرقم]]","v":{"$error":"#VALUE!"}},{"$f":"Tableau1[[#This Row],[الاسم]]","v":{"$error":"#VALUE!"}},{"$f":"Tableau1[[#This Row],[اللقب]]","v":{"$error":"#VALUE!"}},{"$f":"Tableau1[[#This Row],[الصنف]]","v":{"$error":"#VALUE!"}},{"$f":"Tableau1[[#This Row],[الاطار]]","v":{"$error":"#VALUE!"}},{"$f":"Tableau1[[#This Row],[القسم]]","v":{"$error":"#VALUE!"}},{"$f":"Tableau1[[#This Row],[الحالة العائلية]]","v":{"$error":"#VALUE!"}},{"$f":"Tableau1[[#This Row],[الدرجة]]","v":{"$error":"#VALUE!"}},{"$f":"Tableau1[[#This Row],[رقم الحساب]]","v":{"$error":"#VALUE!"}}]
[{"$f":"Tableau1[[#This Row],[الرقم]]","v":{"$error":"#VALUE!"}},{"$f":"Tableau1[[#This Row],[الاسم]]","v":{"$error":"#VALUE!"}},{"$f":"Tableau1[[#This Row],[اللقب]]","v":{"$error":"#VALUE!"}},{"$f":"Tableau1[[#This Row],[الصنف]]","v":{"$error":"#VALUE!"}},{"$f":"Tableau1[[#This Row],[الاطار]]","v":{"$error":"#VALUE!"}},{"$f":"Tableau1[[#This Row],[القسم]]","v":{"$error":"#VALUE!"}},{"$f":"Tableau1[[#This Row],[الحالة العائلية]]","v":{"$error":"#VALUE!"}},{"$f":"Tableau1[[#This Row],[الدرجة]]","v":{"$error":"#VALUE!"}},{"$f":"Tableau1[[#This Row],[رقم الحساب]]","v":{"$error":"#VALUE!"}}]
[{"$f":"Tableau1[[#This Row],[الرقم]]","v":{"$error":"#VALUE!"}},{"$f":"Tableau1[[#This Row],[الاسم]]","v":{"$error":"#VALUE!"}},{"$f":"Tableau1[[#This Row],[اللقب]]","v":{"$error":"#VALUE!"}},{"$f":"Tableau1[[#This Row],[الصنف]]","v":{"$error":"#VALUE!"}},{"$f":"Tableau1[[#This Row],[الاطار]]","v":{"$error":"#VALUE!"}},{"$f":"Tableau1[[#This Row],[القسم]]","v":{"$error":"#VALUE!"}},{"$f":"Tableau1[[#This Row],[الحالة العائلية]]","v":{"$error":"#VALUE!"}},{"$f":"Tableau1[[#This Row],[الدرجة]]","v":{"$error":"#VALUE!"}},{"$f":"Tableau1[[#This Row],[رقم الحساب]]","v":{"$error":"#VALUE!"}}]
[{"$f":"Tableau1[[#This Row],[الرقم]]","v":{"$error":"#VALUE!"}},{"$f":"Tableau1[[#This Row],[الاسم]]","v":{"$error":"#VALUE!"}},{"$f":"Tableau1[[#This Row],[اللقب]]","v":{"$error":"#VALUE!"}},{"$f":"Tableau1[[#This Row],[الصنف]]","v":{"$error":"#VALUE!"}},{"$f":"Tableau1[[#This Row],[الاطار]]","v":{"$error":"#VALUE!"}},{"$f":"Tableau1[[#This Row],[القسم]]","v":{"$error":"#VALUE!"}},{"$f":"Tableau1[[#This Row],[الحالة العائلية]]","v":{"$error":"#VALUE!"}},{"$f":"Tableau1[[#This Row],[الدرجة]]","v":{"$error":"#VALUE!"}},{"$f":"Tableau1[[#This Row],[رقم الحساب]]","v":{"$error":"#VALUE!"}}]
[{"$f":"Tableau1[[#This Row],[الرقم]]","v":{"$error":"#VALUE!"}},{"$f":"Tableau1[[#This Row],[الاسم]]","v":{"$error":"#VALUE!"}},{"$f":"Tableau1[[#This Row],[اللقب]]","v":{"$error":"#VALUE!"}},{"$f":"Tableau1[[#This Row],[الصنف]]","v":{"$error":"#VALUE!"}},{"$f":"Tableau1[[#This Row],[الاطار]]","v":{"$error":"#VALUE!"}},{"$f":"Tableau1[[#This Row],[القسم]]","v":{"$error":"#VALUE!"}},{"$f":"Tableau1[[#This Row],[الحالة العائلية]]","v":{"$error":"#VALUE!"}},{"$f":"Tableau1[[#This Row],[الدرجة]]","v":{"$error":"#VALUE!"}},{"$f":"Tableau1[[#This Row],[رقم الحساب]]","v":{"$error":"#VALUE!"}}]
[{"$f":"Tableau1[[#This Row],[الرقم]]","v":{"$error":"#VALUE!"}},{"$f":"Tableau1[[#This Row],[الاسم]]","v":{"$error":"#VALUE!"}},{"$f":"Tableau1[[#This Row],[اللقب]]","v":{"$error":"#VALUE!"}},{"$f":"Tableau1[[#This Row],[الصنف]]","v":{"$error":"#VALUE!"}},{"$f":"Tableau1[[#This Row],[الاطار]]","v":{"$error":"#VALUE!"}},{"$f":"Tableau1[[#This Row],[القسم]]","v":{"$error":"#VALUE!"}},{"$f":"Tableau1[[#This Row],[الحالة العائلية]]","v":{"$error":"#VALUE!"}},{"$f":"Tableau1[[#This Row],[الدرجة]]","v":{"$error":"#VALUE!"}},{"$f":"Tableau1[[#This Row],[رقم الحساب]]","v":{"$error":"#VALUE!"}}]
[{"$f":"Tableau1[[#This Row],[الرقم]]","v":{"$error":"#VALUE!"}},{"$f":"Tableau1[[#This Row],[الاسم]]","v":{"$error":"#VALUE!"}},{"$f":"Tableau1[[#This Row],[اللقب]]","v":{"$error":"#VALUE!"}},{"$f":"Tableau1[[#This Row],[الصنف]]","v":{"$error":"#VALUE!"}},{"$f":"Tableau1[[#This Row],[الاطار]]","v":{"$error":"#VALUE!"}},{"$f":"Tableau1[[#This Row],[القسم]]","v":{"$error":"#VALUE!"}},{"$f":"Tableau1[[#This Row],[الحالة العائلية]]","v":{"$error":"#VALUE!"}},{"$f":"Tableau1[[#This Row],[الدرجة]]","v":{"$error":"#VALUE!"}},{"$f":"Tableau1[[#This Row],[رقم الحساب]]","v":{"$error":"#VALUE!"}}]
[{"$f":"Tableau1[[#This Row],[الرقم]]","v":{"$error":"#VALUE!"}},{"$f":"Tableau1[[#This Row],[الاسم]]","v":{"$error":"#VALUE!"}},{"$f":"Tableau1[[#This Row],[اللقب]]","v":{"$error":"#VALUE!"}},{"$f":"Tableau1[[#This Row],[الصنف]]","v":{"$error":"#VALUE!"}},{"$f":"Tableau1[[#This Row],[الاطار]]","v":{"$error":"#VALUE!"}},{"$f":"Tableau1[[#This Row],[القسم]]","v":{"$error":"#VALUE!"}},{"$f":"Tableau1[[#This Row],[الحالة العائلية]]","v":{"$error":"#VALUE!"}},{"$f":"Tableau1[[#This Row],[الدرجة]]","v":{"$error":"#VALUE!"}},{"$f":"Tableau1[[#This Row],[رقم الحساب]]","v":{"$error":"#VALUE!"}}]
[{"$f":"Tableau1[[#This Row],[الرقم]]","v":{"$error":"#VALUE!"}},{"$f":"Tableau1[[#This Row],[الاسم]]","v":{"$error":"#VALUE!"}},{"$f":"Tableau1[[#This Row],[اللقب]]","v":{"$error":"#VALUE!"}},{"$f":"Tableau1[[#This Row],[الصنف]]","v":{"$error":"#VALUE!"}},{"$f":"Tableau1[[#This Row],[الاطار]]","v":{"$error":"#VALUE!"}},{"$f":"Tableau1[[#This Row],[القسم]]","v":{"$error":"#VALUE!"}},{"$f":"Tableau1[[#This Row],[الحالة العائلية]]","v":{"$error":"#VALUE!"}},{"$f":"Tableau1[[#This Row],[الدرجة]]","v":{"$error":"#VALUE!"}},{"$f":"Tableau1[[#This Row],[رقم الحساب]]","v":{"$error":"#VALUE!"}}]
[{"$f":"Tableau1[[#This Row],[الرقم]]","v":{"$error":"#VALUE!"}},{"$f":"Tableau1[[#This Row],[الاسم]]","v":{"$error":"#VALUE!"}},{"$f":"Tableau1[[#This Row],[اللقب]]","v":{"$error":"#VALUE!"}},{"$f":"Tableau1[[#This Row],[الصنف]]","v":{"$error":"#VALUE!"}},{"$f":"Tableau1[[#This Row],[الاطار]]","v":{"$error":"#VALUE!"}},{"$f":"Tableau1[[#This Row],[القسم]]","v":{"$error":"#VALUE!"}},{"$f":"Tableau1[[#This Row],[الحالة العائلية]]","v":{"$error":"#VALUE!"}},{"$f":"Tableau1[[#This Row],[الدرجة]]","v":{"$error":"#VALUE!"}},{"$f":"Tableau1[[#This Row],[رقم الحساب]]","v":{"$error":"#VALUE!"}}]
[{"$f":"Tableau1[[#This Row],[الرقم]]","v":{"$error":"#VALUE!"}},{"$f":"Tableau1[[#This Row],[الاسم]]","v":{"$error":"#VALUE!"}},{"$f":"Tableau1[[#This Row],[اللقب]]","v":{"$error":"#VALUE!"}},{"$f":"Tableau1[[#This Row],[الصنف]]","v":{"$error":"#VALUE!"}},{"$f":"Tableau1[[#This Row],[الاطار]]","v":{"$error":"#VALUE!"}},{"$f":"Tableau1[[#This Row],[القسم]]","v":{"$error":"#VALUE!"}},{"$f":"Tableau1[[#This Row],[الحالة العائلية]]","v":{"$error":"#VALUE!"}},{"$f":"Tableau1[[#This Row],[الدرجة]]","v":{"$error":"#VALUE!"}},{"$f":"Tableau1[[#This Row],[رقم الحساب]]","v":{"$error":"#VALUE!"}}]
[{"$f":"Tableau1[[#This Row],[الرقم]]","v":{"$error":"#VALUE!"}},{"$f":"Tableau1[[#This Row],[الاسم]]","v":{"$error":"#VALUE!"}},{"$f":"Tableau1[[#This Row],[اللقب]]","v":{"$error":"#VALUE!"}},{"$f":"Tableau1[[#This Row],[الصنف]]","v":{"$error":"#VALUE!"}},{"$f":"Tableau1[[#This Row],[الاطار]]","v":{"$error":"#VALUE!"}},{"$f":"Tableau1[[#This Row],[القسم]]","v":{"$error":"#VALUE!"}},{"$f":"Tableau1[[#This Row],[الحالة العائلية]]","v":{"$error":"#VALUE!"}},{"$f":"Tableau1[[#This Row],[الدرجة]]","v":{"$error":"#VALUE!"}},{"$f":"Tableau1[[#This Row],[رقم الحساب]]","v":{"$error":"#VALUE!"}}]
[{"$f":"Tableau1[[#This Row],[الرقم]]","v":{"$error":"#VALUE!"}},{"$f":"Tableau1[[#This Row],[الاسم]]","v":{"$error":"#VALUE!"}},{"$f":"Tableau1[[#This Row],[اللقب]]","v":{"$error":"#VALUE!"}},{"$f":"Tableau1[[#This Row],[الصنف]]","v":{"$error":"#VALUE!"}},{"$f":"Tableau1[[#This Row],[الاطار]]","v":{"$error":"#VALUE!"}},{"$f":"Tableau1[[#This Row],[القسم]]","v":{"$error":"#VALUE!"}},{"$f":"Tableau1[[#This Row],[الحالة العائلية]]","v":{"$error":"#VALUE!"}},{"$f":"Tableau1[[#This Row],[الدرجة]]","v":{"$error":"#VALUE!"}},{"$f":"Tableau1[[#This Row],[رقم الحساب]]","v":{"$error":"#VALUE!"}}]
[{"$f":"Tableau1[[#This Row],[الرقم]]","v":{"$error":"#VALUE!"}},{"$f":"Tableau1[[#This Row],[الاسم]]","v":{"$error":"#VALUE!"}},{"$f":"Tableau1[[#This Row],[اللقب]]","v":{"$error":"#VALUE!"}},{"$f":"Tableau1[[#This Row],[الصنف]]","v":{"$error":"#VALUE!"}},{"$f":"Tableau1[[#This Row],[الاطار]]","v":{"$error":"#VALUE!"}},{"$f":"Tableau1[[#This Row],[القسم]]","v":{"$error":"#VALUE!"}},{"$f":"Tableau1[[#This Row],[الحالة العائلية]]","v":{"$error":"#VALUE!"}},{"$f":"Tableau1[[#This Row],[الدرجة]]","v":{"$error":"#VALUE!"}},{"$f":"Tableau1[[#This Row],[رقم الحساب]]","v":{"$error":"#VALUE!"}}]
[{"$f":"Tableau1[[#This Row],[الرقم]]","v":{"$error":"#VALUE!"}},{"$f":"Tableau1[[#This Row],[الاسم]]","v":{"$error":"#VALUE!"}},{"$f":"Tableau1[[#This Row],[اللقب]]","v":{"$error":"#VALUE!"}},{"$f":"Tableau1[[#This Row],[الصنف]]","v":{"$error":"#VALUE!"}},{"$f":"Tableau1[[#This Row],[الاطار]]","v":{"$error":"#VALUE!"}},{"$f":"Tableau1[[#This Row],[القسم]]","v":{"$error":"#VALUE!"}},{"$f":"Tableau1[[#This Row],[الحالة العائلية]]","v":{"$error":"#VALUE!"}},{"$f":"Tableau1[[#This Row],[الدرجة]]","v":{"$error":"#VALUE!"}},{"$f":"Tableau1[[#This Row],[رقم الحساب]]","v":{"$error":"#VALUE!"}}]
[{"$f":"Tableau1[[#This Row],[الرقم]]","v":{"$error":"#VALUE!"}},{"$f":"Tableau1[[#This Row],[الاسم]]","v":{"$error":"#VALUE!"}},{"$f":"Tableau1[[#This Row],[اللقب]]","v":{"$error":"#VALUE!"}},{"$f":"Tableau1[[#This Row],[الصنف]]","v":{"$error":"#VALUE!"}},{"$f":"Tableau1[[#This Row],[الاطار]]","v":{"$error":"#VALUE!"}},{"$f":"Tableau1[[#This Row],[القسم]]","v":{"$error":"#VALUE!"}},{"$f":"Tableau1[[#This Row],[الحالة العائلية]]","v":{"$error":"#VALUE!"}},{"$f":"Tableau1[[#This Row],[الدرجة]]","v":{"$error":"#VALUE!"}},{"$f":"Tableau1[[#This Row],[رقم الحساب]]","v":{"$error":"#VALUE!"}}]
[{"$f":"Tableau1[[#This Row],[الرقم]]","v":{"$error":"#VALUE!"}},{"$f":"Tableau1[[#This Row],[الاسم]]","v":{"$error":"#VALUE!"}},{"$f":"Tableau1[[#This Row],[اللقب]]","v":{"$error":"#VALUE!"}},{"$f":"Tableau1[[#This Row],[الصنف]]","v":{"$error":"#VALUE!"}},{"$f":"Tableau1[[#This Row],[الاطار]]","v":{"$error":"#VALUE!"}},{"$f":"Tableau1[[#This Row],[القسم]]","v":{"$error":"#VALUE!"}},{"$f":"Tableau1[[#This Row],[الحالة العائلية]]","v":{"$error":"#VALUE!"}},{"$f":"Tableau1[[#This Row],[الدرجة]]","v":{"$error":"#VALUE!"}},{"$f":"Tableau1[[#This Row],[رقم الحساب]]","v":{"$error":"#VALUE!"}}]
[{"$f":"Tableau1[[#This Row],[الرقم]]","v":{"$error":"#VALUE!"}},{"$f":"Tableau1[[#This Row],[الاسم]]","v":{"$error":"#VALUE!"}},{"$f":"Tableau1[[#This Row],[اللقب]]","v":{"$error":"#VALUE!"}},{"$f":"Tableau1[[#This Row],[الصنف]]","v":{"$error":"#VALUE!"}},{"$f":"Tableau1[[#This Row],[الاطار]]","v":{"$error":"#VALUE!"}},{"$f":"Tableau1[[#This Row],[القسم]]","v":{"$error":"#VALUE!"}},{"$f":"Tableau1[[#This Row],[الحالة العائلية]]","v":{"$error":"#VALUE!"}},{"$f":"Tableau1[[#This Row],[الدرجة]]","v":{"$error":"#VALUE!"}},{"$f":"Tableau1[[#This Row],[رقم الحساب]]","v":{"$error":"#VALUE!"}}]
[{"$f":"Tableau1[[#This Row],[الرقم]]","v":{"$error":"#VALUE!"}},{"$f":"Tableau1[[#This Row],[الاسم]]","v":{"$error":"#VALUE!"}},{"$f":"Tableau1[[#This Row],[اللقب]]","v":{"$error":"#VALUE!"}},{"$f":"Tableau1[[#This Row],[الصنف]]","v":{"$error":"#VALUE!"}},{"$f":"Tableau1[[#This Row],[الاطار]]","v":{"$error":"#VALUE!"}},{"$f":"Tableau1[[#This Row],[القسم]]","v":{"$error":"#VALUE!"}},{"$f":"Tableau1[[#This Row],[الحالة العائلية]]","v":{"$error":"#VALUE!"}},{"$f":"Tableau1[[#This Row],[الدرجة]]","v":{"$error":"#VALUE!"}},{"$f":"Tableau1[[#This Row],[رقم الحساب]]","v":{"$error":"#VALUE!"}}]
[{"$f":"Tableau1[[#This Row],[الرقم]]","v":{"$error":"#VALUE!"}},{"$f":"Tableau1[[#This Row],[الاسم]]","v":{"$error":"#VALUE!"}},{"$f":"Tableau1[[#This Row],[اللقب]]","v":{"$error":"#VALUE!"}},{"$f":"Tableau1[[#This Row],[الصنف]]","v":{"$error":"#VALUE!"}},{"$f":"Tableau1[[#This Row],[الاطار]]","v":{"$error":"#VALUE!"}},{"$f":"Tableau1[[#This Row],[القسم]]","v":{"$error":"#VALUE!"}},{"$f":"Tableau1[[#This Row],[الحالة العائلية]]","v":{"$error":"#VALUE!"}},{"$f":"Tableau1[[#This Row],[الدرجة]]","v":{"$error":"#VALUE!"}},{"$f":"Tableau1[[#This Row],[رقم الحساب]]","v":{"$error":"#VALUE!"}}]
[{"$f":"Tableau1[[#This Row],[الرقم]]","v":{"$error":"#VALUE!"}},{"$f":"Tableau1[[#This Row],[الاسم]]","v":{"$error":"#VALUE!"}},{"$f":"Tableau1[[#This Row],[اللقب]]","v":{"$error":"#VALUE!"}},{"$f":"Tableau1[[#This Row],[الصنف]]","v":{"$error":"#VALUE!"}},{"$f":"Tableau1[[#This Row],[الاطار]]","v":{"$error":"#VALUE!"}},{"$f":"Tableau1[[#This Row],[القسم]]","v":{"$error":"#VALUE!"}},{"$f":"Tableau1[[#This Row],[الحالة العائلية]]","v":{"$error":"#VALUE!"}},{"$f":"Tableau1[[#This Row],[الدرجة]]","v":{"$error":"#VALUE!"}},{"$f":"Tableau1[[#This Row],[رقم الحساب]]","v":{"$error":"#VALUE!"}}]
[{"$f":"Tableau1[[#This Row],[الرقم]]","v":{"$error":"#VALUE!"}},{"$f":"Tableau1[[#This Row],[الاسم]]","v":{"$error":"#VALUE!"}},{"$f":"Tableau1[[#This Row],[اللقب]]","v":{"$error":"#VALUE!"}},{"$f":"Tableau1[[#This Row],[الصنف]]","v":{"$error":"#VALUE!"}},{"$f":"Tableau1[[#This Row],[الاطار]]","v":{"$error":"#VALUE!"}},{"$f":"Tableau1[[#This Row],[القسم]]","v":{"$error":"#VALUE!"}},{"$f":"Tableau1[[#This Row],[الحالة العائلية]]","v":{"$error":"#VALUE!"}},{"$f":"Tableau1[[#This Row],[الدرجة]]","v":{"$error":"#VALUE!"}},{"$f":"Tableau1[[#This Row],[رقم الحساب]]","v":{"$error":"#VALUE!"}}]
[{"$f":"Tableau1[[#This Row],[الرقم]]","v":{"$error":"#VALUE!"}},{"$f":"Tableau1[[#This Row],[الاسم]]","v":{"$error":"#VALUE!"}},{"$f":"Tableau1[[#This Row],[اللقب]]","v":{"$error":"#VALUE!"}},{"$f":"Tableau1[[#This Row],[الصنف]]","v":{"$error":"#VALUE!"}},{"$f":"Tableau1[[#This Row],[الاطار]]","v":{"$error":"#VALUE!"}},{"$f":"Tableau1[[#This Row],[القسم]]","v":{"$error":"#VALUE!"}},{"$f":"Tableau1[[#This Row],[الحالة العائلية]]","v":{"$error":"#VALUE!"}},{"$f":"Tableau1[[#This Row],[الدرجة]]","v":{"$error":"#VALUE!"}},{"$f":"Tableau1[[#This Row],[رقم الحساب]]","v":{"$error":"#VALUE!"}}]
[{"$f":"Tableau1[[#This Row],[الرقم]]","v":{"$error":"#VALUE!"}},{"$f":"Tableau1[[#This Row],[الاسم]]","v":{"$error":"#VALUE!"}},{"$f":"Tableau1[[#This Row],[اللقب]]","v":{"$error":"#VALUE!"}},{"$f":"Tableau1[[#This Row],[الصنف]]","v":{"$error":"#VALUE!"}},{"$f":"Tableau1[[#This Row],[الاطار]]","v":{"$error":"#VALUE!"}},{"$f":"Tableau1[[#This Row],[القسم]]","v":{"$error":"#VALUE!"}},{"$f":"Tableau1[[#This Row],[الحالة العائلية]]","v":{"$error":"#VALUE!"}},{"$f":"Tableau1[[#This Row],[الدرجة]]","v":{"$error":"#VALUE!"}},{"$f":"Tableau1[[#This Row],[رقم الحساب]]","v":{"$error":"#VALUE!"}}]
[{"$f":"Tableau1[[#This Row],[الرقم]]","v":{"$error":"#VALUE!"}},{"$f":"Tableau1[[#This Row],[الاسم]]","v":{"$error":"#VALUE!"}},{"$f":"Tableau1[[#This Row],[اللقب]]","v":{"$error":"#VALUE!"}},{"$f":"Tableau1[[#This Row],[الصنف]]","v":{"$error":"#VALUE!"}},{"$f":"Tableau1[[#This Row],[الاطار]]","v":{"$error":"#VALUE!"}},{"$f":"Tableau1[[#This Row],[القسم]]","v":{"$error":"#VALUE!"}},{"$f":"Tableau1[[#This Row],[الحالة العائلية]]","v":{"$error":"#VALUE!"}},{"$f":"Tableau1[[#This Row],[الدرجة]]","v":{"$error":"#VALUE!"}},{"$f":"Tableau1[[#This Row],[رقم الحساب]]","v":{"$error":"#VALUE!"}}]
[{"$f":"Tableau1[[#This Row],[الرقم]]","v":{"$error":"#VALUE!"}},{"$f":"Tableau1[[#This Row],[الاسم]]","v":{"$error":"#VALUE!"}},{"$f":"Tableau1[[#This Row],[اللقب]]","v":{"$error":"#VALUE!"}},{"$f":"Tableau1[[#This Row],[الصنف]]","v":{"$error":"#VALUE!"}},{"$f":"Tableau1[[#This Row],[الاطار]]","v":{"$error":"#VALUE!"}},{"$f":"Tableau1[[#This Row],[القسم]]","v":{"$error":"#VALUE!"}},{"$f":"Tableau1[[#This Row],[الحالة العائلية]]","v":{"$error":"#VALUE!"}},{"$f":"Tableau1[[#This Row],[الدرجة]]","v":{"$error":"#VALUE!"}},{"$f":"Tableau1[[#This Row],[رقم الحساب]]","v":{"$error":"#VALUE!"}}]
[{"$f":"Tableau1[[#This Row],[الرقم]]","v":{"$error":"#VALUE!"}},{"$f":"Tableau1[[#This Row],[الاسم]]","v":{"$error":"#VALUE!"}},{"$f":"Tableau1[[#This Row],[اللقب]]","v":{"$error":"#VALUE!"}},{"$f":"Tableau1[[#This Row],[الصنف]]","v":{"$error":"#VALUE!"}},{"$f":"Tableau1[[#This Row],[الاطار]]","v":{"$error":"#VALUE!"}},{"$f":"Tableau1[[#This Row],[القسم]]","v":{"$error":"#VALUE!"}},{"$f":"Tableau1[[#This Row],[الحالة العائلية]]","v":{"$error":"#VALUE!"}},{"$f":"Tableau1[[#This Row],[الدرجة]]","v":{"$error":"#VALUE!"}},{"$f":"Tableau1[[#This Row],[رقم الحساب]]","v":{"$error":"#VALUE!"}}]
[{"$f":"Tableau1[[#This Row],[الرقم]]","v":{"$error":"#VALUE!"}},{"$f":"Tableau1[[#This Row],[الاسم]]","v":{"$error":"#VALUE!"}},{"$f":"Tableau1[[#This Row],[اللقب]]","v":{"$error":"#VALUE!"}},{"$f":"Tableau1[[#This Row],[الصنف]]","v":{"$error":"#VALUE!"}},{"$f":"Tableau1[[#This Row],[الاطار]]","v":{"$error":"#VALUE!"}},{"$f":"Tableau1[[#This Row],[القسم]]","v":{"$error":"#VALUE!"}},{"$f":"Tableau1[[#This Row],[الحالة العائلية]]","v":{"$error":"#VALUE!"}},{"$f":"Tableau1[[#This Row],[الدرجة]]","v":{"$error":"#VALUE!"}},{"$f":"Tableau1[[#This Row],[رقم الحساب]]","v":{"$error":"#VALUE!"}}]
[{"$f":"Tableau1[[#This Row],[الرقم]]","v":{"$error":"#VALUE!"}},{"$f":"Tableau1[[#This Row],[الاسم]]","v":{"$error":"#VALUE!"}},{"$f":"Tableau1[[#This Row],[اللقب]]","v":{"$error":"#VALUE!"}},{"$f":"Tableau1[[#This Row],[الصنف]]","v":{"$error":"#VALUE!"}},{"$f":"Tableau1[[#This Row],[الاطار]]","v":{"$error":"#VALUE!"}},{"$f":"Tableau1[[#This Row],[القسم]]","v":{"$error":"#VALUE!"}},{"$f":"Tableau1[[#This Row],[الحالة العائلية]]","v":{"$error":"#VALUE!"}},{"$f":"Tableau1[[#This Row],[الدرجة]]","v":{"$error":"#VALUE!"}},{"$f":"Tableau1[[#This Row],[رقم الحساب]]","v":{"$error":"#VALUE!"}}]
[{"$f":"Tableau1[[#This Row],[الرقم]]","v":{"$error":"#VALUE!"}},{"$f":"Tableau1[[#This Row],[الاسم]]","v":{"$error":"#VALUE!"}},{"$f":"Tableau1[[#This Row],[اللقب]]","v":{"$error":"#VALUE!"}},{"$f":"Tableau1[[#This Row],[الصنف]]","v":{"$error":"#VALUE!"}},{"$f":"Tableau1[[#This Row],[الاطار]]","v":{"$error":"#VALUE!"}},{"$f":"Tableau1[[#This Row],[القسم]]","v":{"$error":"#VALUE!"}},{"$f":"Tableau1[[#This Row],[الحالة العائلية]]","v":{"$error":"#VALUE!"}},{"$f":"Tableau1[[#This Row],[الدرجة]]","v":{"$error":"#VALUE!"}},{"$f":"Tableau1[[#This Row],[رقم الحساب]]","v":{"$error":"#VALUE!"}}]
[{"$f":"Tableau1[[#This Row],[الرقم]]","v":{"$error":"#VALUE!"}},{"$f":"Tableau1[[#This Row],[الاسم]]","v":{"$error":"#VALUE!"}},{"$f":"Tableau1[[#This Row],[اللقب]]","v":{"$error":"#VALUE!"}},{"$f":"Tableau1[[#This Row],[الصنف]]","v":{"$error":"#VALUE!"}},{"$f":"Tableau1[[#This Row],[الاطار]]","v":{"$error":"#VALUE!"}},{"$f":"Tableau1[[#This Row],[القسم]]","v":{"$error":"#VALUE!"}},{"$f":"Tableau1[[#This Row],[الحالة العائلية]]","v":{"$error":"#VALUE!"}},{"$f":"Tableau1[[#This Row],[الدرجة]]","v":{"$error":"#VALUE!"}},{"$f":"Tableau1[[#This Row],[رقم الحساب]]","v":{"$error":"#VALUE!"}}]
[{"$f":"Tableau1[[#This Row],[الرقم]]","v":{"$error":"#VALUE!"}},{"$f":"Tableau1[[#This Row],[الاسم]]","v":{"$error":"#VALUE!"}},{"$f":"Tableau1[[#This Row],[اللقب]]","v":{"$error":"#VALUE!"}},{"$f":"Tableau1[[#This Row],[الصنف]]","v":{"$error":"#VALUE!"}},{"$f":"Tableau1[[#This Row],[الاطار]]","v":{"$error":"#VALUE!"}},{"$f":"Tableau1[[#This Row],[القسم]]","v":{"$error":"#VALUE!"}},{"$f":"Tableau1[[#This Row],[الحالة العائلية]]","v":{"$error":"#VALUE!"}},{"$f":"Tableau1[[#This Row],[الدرجة]]","v":{"$error":"#VALUE!"}},{"$f":"Tableau1[[#This Row],[رقم الحساب]]","v":{"$error":"#VALUE!"}}]
[{"$f":"Tableau1[[#This Row],[الرقم]]","v":{"$error":"#VALUE!"}},{"$f":"Tableau1[[#This Row],[الاسم]]","v":{"$error":"#VALUE!"}},{"$f":"Tableau1[[#This Row],[اللقب]]","v":{"$error":"#VALUE!"}},{"$f":"Tableau1[[#This Row],[الصنف]]","v":{"$error":"#VALUE!"}},{"$f":"Tableau1[[#This Row],[الاطار]]","v":{"$error":"#VALUE!"}},{"$f":"Tableau1[[#This Row],[القسم]]","v":{"$error":"#VALUE!"}},{"$f":"Tableau1[[#This Row],[الحالة العائلية]]","v":{"$error":"#VALUE!"}},{"$f":"Tableau1[[#This Row],[الدرجة]]","v":{"$error":"#VALUE!"}},{"$f":"Tableau1[[#This Row],[رقم الحساب]]","v":{"$error":"#VALUE!"}}]
[{"$f":"Tableau1[[#This Row],[الرقم]]","v":{"$error":"#VALUE!"}},{"$f":"Tableau1[[#This Row],[الاسم]]","v":{"$error":"#VALUE!"}},{"$f":"Tableau1[[#This Row],[اللقب]]","v":{"$error":"#VALUE!"}},{"$f":"Tableau1[[#This Row],[الصنف]]","v":{"$error":"#VALUE!"}},{"$f":"Tableau1[[#This Row],[الاطار]]","v":{"$error":"#VALUE!"}},{"$f":"Tableau1[[#This Row],[القسم]]","v":{"$error":"#VALUE!"}},{"$f":"Tableau1[[#This Row],[الحالة العائلية]]","v":{"$error":"#VALUE!"}},{"$f":"Tableau1[[#This Row],[الدرجة]]","v":{"$error":"#VALUE!"}},{"$f":"Tableau1[[#This Row],[رقم الحساب]]","v":{"$error":"#VALUE!"}}]
[{"$f":"Tableau1[[#This Row],[الرقم]]","v":{"$error":"#VALUE!"}},{"$f":"Tableau1[[#This Row],[الاسم]]","v":{"$error":"#VALUE!"}},{"$f":"Tableau1[[#This Row],[اللقب]]","v":{"$error":"#VALUE!"}},{"$f":"Tableau1[[#This Row],[الصنف]]","v":{"$error":"#VALUE!"}},{"$f":"Tableau1[[#This Row],[الاطار]]","v":{"$error":"#VALUE!"}},{"$f":"Tableau1[[#This Row],[القسم]]","v":{"$error":"#VALUE!"}},{"$f":"Tableau1[[#This Row],[الحالة العائلية]]","v":{"$error":"#VALUE!"}},{"$f":"Tableau1[[#This Row],[الدرجة]]","v":{"$error":"#VALUE!"}},{"$f":"Tableau1[[#This Row],[رقم الحساب]]","v":{"$error":"#VALUE!"}}]
[{"$f":"Tableau1[[#This Row],[الرقم]]","v":{"$error":"#VALUE!"}},{"$f":"Tableau1[[#This Row],[الاسم]]","v":{"$error":"#VALUE!"}},{"$f":"Tableau1[[#This Row],[اللقب]]","v":{"$error":"#VALUE!"}},{"$f":"Tableau1[[#This Row],[الصنف]]","v":{"$error":"#VALUE!"}},{"$f":"Tableau1[[#This Row],[الاطار]]","v":{"$error":"#VALUE!"}},{"$f":"Tableau1[[#This Row],[القسم]]","v":{"$error":"#VALUE!"}},{"$f":"Tableau1[[#This Row],[الحالة العائلية]]","v":{"$error":"#VALUE!"}},{"$f":"Tableau1[[#This Row],[الدرجة]]","v":{"$error":"#VALUE!"}},{"$f":"Tableau1[[#This Row],[رقم الحساب]]","v":{"$error":"#VALUE!"}}]
[{"$f":"Tableau1[[#This Row],[الرقم]]","v":{"$error":"#VALUE!"}},{"$f":"Tableau1[[#This Row],[الاسم]]","v":{"$error":"#VALUE!"}},{"$f":"Tableau1[[#This Row],[اللقب]]","v":{"$error":"#VALUE!"}},{"$f":"Tableau1[[#This Row],[الصنف]]","v":{"$error":"#VALUE!"}},{"$f":"Tableau1[[#This Row],[الاطار]]","v":{"$error":"#VALUE!"}},{"$f":"Tableau1[[#This Row],[القسم]]","v":{"$error":"#VALUE!"}},{"$f":"Tableau1[[#This Row],[الحالة العائلية]]","v":{"$error":"#VALUE!"}},{"$f":"Tableau1[[#This Row],[الدرجة]]","v":{"$error":"#VALUE!"}},{"$f":"Tableau1[[#This Row],[رقم الحساب]]","v":{"$error":"#VALUE!"}}]
[{"$f":"Tableau1[[#This Row],[الرقم]]","v":{"$error":"#VALUE!"}},{"$f":"Tableau1[[#This Row],[الاسم]]","v":{"$error":"#VALUE!"}},{"$f":"Tableau1[[#This Row],[اللقب]]","v":{"$error":"#VALUE!"}},{"$f":"Tableau1[[#This Row],[الصنف]]","v":{"$error":"#VALUE!"}},{"$f":"Tableau1[[#This Row],[الاطار]]","v":{"$error":"#VALUE!"}},{"$f":"Tableau1[[#This Row],[القسم]]","v":{"$error":"#VALUE!"}},{"$f":"Tableau1[[#This Row],[الحالة العائلية]]","v":{"$error":"#VALUE!"}},{"$f":"Tableau1[[#This Row],[الدرجة]]","v":{"$error":"#VALUE!"}},{"$f":"Tableau1[[#This Row],[رقم الحساب]]","v":{"$error":"#VALUE!"}}]
[{"$f":"Tableau1[[#This Row],[الرقم]]","v":{"$error":"#VALUE!"}},{"$f":"Tableau1[[#This Row],[الاسم]]","v":{"$error":"#VALUE!"}},{"$f":"Tableau1[[#This Row],[اللقب]]","v":{"$error":"#VALUE!"}},{"$f":"Tableau1[[#This Row],[الصنف]]","v":{"$error":"#VALUE!"}},{"$f":"Tableau1[[#This Row],[الاطار]]","v":{"$error":"#VALUE!"}},{"$f":"Tableau1[[#This Row],[القسم]]","v":{"$error":"#VALUE!"}},{"$f":"Tableau1[[#This Row],[الحالة العائلية]]","v":{"$error":"#VALUE!"}},{"$f":"Tableau1[[#This Row],[الدرجة]]","v":{"$error":"#VALUE!"}},{"$f":"Tableau1[[#This Row],[رقم الحساب]]","v":{"$error":"#VALUE!"}}]
[{"$f":"Tableau1[[#This Row],[الرقم]]","v":{"$error":"#VALUE!"}},{"$f":"Tableau1[[#This Row],[الاسم]]","v":{"$error":"#VALUE!"}},{"$f":"Tableau1[[#This Row],[اللقب]]","v":{"$error":"#VALUE!"}},{"$f":"Tableau1[[#This Row],[الصنف]]","v":{"$error":"#VALUE!"}},{"$f":"Tableau1[[#This Row],[الاطار]]","v":{"$error":"#VALUE!"}},{"$f":"Tableau1[[#This Row],[القسم]]","v":{"$error":"#VALUE!"}},{"$f":"Tableau1[[#This Row],[الحالة العائلية]]","v":{"$error":"#VALUE!"}},{"$f":"Tableau1[[#This Row],[الدرجة]]","v":{"$error":"#VALUE!"}},{"$f":"Tableau1[[#This Row],[رقم الحساب]]","v":{"$error":"#VALUE!"}}]
[{"$f":"Tableau1[[#This Row],[الرقم]]","v":{"$error":"#VALUE!"}},{"$f":"Tableau1[[#This Row],[الاسم]]","v":{"$error":"#VALUE!"}},{"$f":"Tableau1[[#This Row],[اللقب]]","v":{"$error":"#VALUE!"}},{"$f":"Tableau1[[#This Row],[الصنف]]","v":{"$error":"#VALUE!"}},{"$f":"Tableau1[[#This Row],[الاطار]]","v":{"$error":"#VALUE!"}},{"$f":"Tableau1[[#This Row],[القسم]]","v":{"$error":"#VALUE!"}},{"$f":"Tableau1[[#This Row],[الحالة العائلية]]","v":{"$error":"#VALUE!"}},{"$f":"Tableau1[[#This Row],[الدرجة]]","v":{"$error":"#VALUE!"}},{"$f":"Tableau1[[#This Row],[رقم الحساب]]","v":{"$error":"#VALUE!"}}]
[{"$f":"Tableau1[[#This Row],[الرقم]]","v":{"$error":"#VALUE!"}},{"$f":"Tableau1[[#This Row],[الاسم]]","v":{"$error":"#VALUE!"}},{"$f":"Tableau1[[#This Row],[اللقب]]","v":{"$error":"#VALUE!"}},{"$f":"Tableau1[[#This Row],[الصنف]]","v":{"$error":"#VALUE!"}},{"$f":"Tableau1[[#This Row],[الاطار]]","v":{"$error":"#VALUE!"}},{"$f":"Tableau1[[#This Row],[القسم]]","v":{"$error":"#VALUE!"}},{"$f":"Tableau1[[#This Row],[الحالة العائلية]]","v":{"$error":"#VALUE!"}},{"$f":"Tableau1[[#This Row],[الدرجة]]","v":{"$error":"#VALUE!"}},{"$f":"Tableau1[[#This Row],[رقم الحساب]]","v":{"$error":"#VALUE!"}}]
[{"$f":"Tableau1[[#This Row],[الرقم]]","v":{"$error":"#VALUE!"}},{"$f":"Tableau1[[#This Row],[الاسم]]","v":{"$error":"#VALUE!"}},{"$f":"Tableau1[[#This Row],[اللقب]]","v":{"$error":"#VALUE!"}},{"$f":"Tableau1[[#This Row],[الصنف]]","v":{"$error":"#VALUE!"}},{"$f":"Tableau1[[#This Row],[الاطار]]","v":{"$error":"#VALUE!"}},{"$f":"Tableau1[[#This Row],[القسم]]","v":{"$error":"#VALUE!"}},{"$f":"Tableau1[[#This Row],[الحالة العائلية]]","v":{"$error":"#VALUE!"}},{"$f":"Tableau1[[#This Row],[الدرجة]]","v":{"$error":"#VALUE!"}},{"$f":"Tableau1[[#This Row],[رقم الحساب]]","v":{"$error":"#VALUE!"}}]
[{"$f":"Tableau1[[#This Row],[الرقم]]","v":{"$error":"#VALUE!"}},{"$f":"Tableau1[[#This Row],[الاسم]]","v":{"$error":"#VALUE!"}},{"$f":"Tableau1[[#This Row],[اللقب]]","v":{"$error":"#VALUE!"}},{"$f":"Tableau1[[#This Row],[الصنف]]","v":{"$error":"#VALUE!"}},{"$f":"Tableau1[[#This Row],[الاطار]]","v":{"$error":"#VALUE!"}},{"$f":"Tableau1[[#This Row],[القسم]]","v":{"$error":"#VALUE!"}},{"$f":"Tableau1[[#This Row],[الحالة العائلية]]","v":{"$error":"#VALUE!"}},{"$f":"Tableau1[[#This Row],[الدرجة]]","v":{"$error":"#VALUE!"}},{"$f":"Tableau1[[#This Row],[رقم الحساب]]","v":{"$error":"#VALUE!"}}]
[{"$f":"Tableau1[[#This Row],[الرقم]]","v":{"$error":"#VALUE!"}},{"$f":"Tableau1[[#This Row],[الاسم]]","v":{"$error":"#VALUE!"}},{"$f":"Tableau1[[#This Row],[اللقب]]","v":{"$error":"#VALUE!"}},{"$f":"Tableau1[[#This Row],[الصنف]]","v":{"$error":"#VALUE!"}},{"$f":"Tableau1[[#This Row],[الاطار]]","v":{"$error":"#VALUE!"}},{"$f":"Tableau1[[#This Row],[القسم]]","v":{"$error":"#VALUE!"}},{"$f":"Tableau1[[#This Row],[الحالة العائلية]]","v":{"$error":"#VALUE!"}},{"$f":"Tableau1[[#This Row],[الدرجة]]","v":{"$error":"#VALUE!"}},{"$f":"Tableau1[[#This Row],[رقم الحساب]]","v":{"$error":"#VALUE!"}}]
[{"$f":"Tableau1[[#This Row],[الرقم]]","v":{"$error":"#VALUE!"}},{"$f":"Tableau1[[#This Row],[الاسم]]","v":{"$error":"#VALUE!"}},{"$f":"Tableau1[[#This Row],[اللقب]]","v":{"$error":"#VALUE!"}},{"$f":"Tableau1[[#This Row],[الصنف]]","v":{"$error":"#VALUE!"}},{"$f":"Tableau1[[#This Row],[الاطار]]","v":{"$error":"#VALUE!"}},{"$f":"Tableau1[[#This Row],[القسم]]","v":{"$error":"#VALUE!"}},{"$f":"Tableau1[[#This Row],[الحالة العائلية]]","v":{"$error":"#VALUE!"}},{"$f":"Tableau1[[#This Row],[الدرجة]]","v":{"$error":"#VALUE!"}},{"$f":"Tableau1[[#This Row],[رقم الحساب]]","v":{"$error":"#VALUE!"}}]
[{"$f":"Tableau1[[#This Row],[الرقم]]","v":{"$error":"#VALUE!"}},{"$f":"Tableau1[[#This Row],[الاسم]]","v":{"$error":"#VALUE!"}},{"$f":"Tableau1[[#This Row],[اللقب]]","v":{"$error":"#VALUE!"}},{"$f":"Tableau1[[#This Row],[الصنف]]","v":{"$error":"#VALUE!"}},{"$f":"Tableau1[[#This Row],[الاطار]]","v":{"$error":"#VALUE!"}},{"$f":"Tableau1[[#This Row],[القسم]]","v":{"$error":"#VALUE!"}},{"$f":"Tableau1[[#This Row],[الحالة العائلية]]","v":{"$error":"#VALUE!"}},{"$f":"Tableau1[[#This Row],[الدرجة]]","v":{"$error":"#VALUE!"}},{"$f":"Tableau1[[#This Row],[رقم الحساب]]","v":{"$error":"#VALUE!"}}]
[{"$f":"Tableau1[[#This Row],[الرقم]]","v":{"$error":"#VALUE!"}},{"$f":"Tableau1[[#This Row],[الاسم]]","v":{"$error":"#VALUE!"}},{"$f":"Tableau1[[#This Row],[اللقب]]","v":{"$error":"#VALUE!"}},{"$f":"Tableau1[[#This Row],[الصنف]]","v":{"$error":"#VALUE!"}},{"$f":"Tableau1[[#This Row],[الاطار]]","v":{"$error":"#VALUE!"}},{"$f":"Tableau1[[#This Row],[القسم]]","v":{"$error":"#VALUE!"}},{"$f":"Tableau1[[#This Row],[الحالة العائلية]]","v":{"$error":"#VALUE!"}},{"$f":"Tableau1[[#This Row],[الدرجة]]","v":{"$error":"#VALUE!"}},{"$f":"Tableau1[[#This Row],[رقم الحساب]]","v":{"$error":"#VALUE!"}}]
[{"$f":"Tableau1[[#This Row],[الرقم]]","v":{"$error":"#VALUE!"}},{"$f":"Tableau1[[#This Row],[الاسم]]","v":{"$error":"#VALUE!"}},{"$f":"Tableau1[[#This Row],[اللقب]]","v":{"$error":"#VALUE!"}},{"$f":"Tableau1[[#This Row],[الصنف]]","v":{"$error":"#VALUE!"}},{"$f":"Tableau1[[#This Row],[الاطار]]","v":{"$error":"#VALUE!"}},{"$f":"Tableau1[[#This Row],[القسم]]","v":{"$error":"#VALUE!"}},{"$f":"Tableau1[[#This Row],[الحالة العائلية]]","v":{"$error":"#VALUE!"}},{"$f":"Tableau1[[#This Row],[الدرجة]]","v":{"$error":"#VALUE!"}},{"$f":"Tableau1[[#This Row],[رقم الحساب]]","v":{"$error":"#VALUE!"}}]
[{"$f":"Tableau1[[#This Row],[الرقم]]","v":{"$error":"#VALUE!"}},{"$f":"Tableau1[[#This Row],[الاسم]]","v":{"$error":"#VALUE!"}},{"$f":"Tableau1[[#This Row],[اللقب]]","v":{"$error":"#VALUE!"}},{"$f":"Tableau1[[#This Row],[الصنف]]","v":{"$error":"#VALUE!"}},{"$f":"Tableau1[[#This Row],[الاطار]]","v":{"$error":"#VALUE!"}},{"$f":"Tableau1[[#This Row],[القسم]]","v":{"$error":"#VALUE!"}},{"$f":"Tableau1[[#This Row],[الحالة العائلية]]","v":{"$error":"#VALUE!"}},{"$f":"Tableau1[[#This Row],[الدرجة]]","v":{"$error":"#VALUE!"}},{"$f":"Tableau1[[#This Row],[رقم الحساب]]","v":{"$error":"#VALUE!"}}]
[{"$f":"Tableau1[[#This Row],[الرقم]]","v":{"$error":"#VALUE!"}},{"$f":"Tableau1[[#This Row],[الاسم]]","v":{"$error":"#VALUE!"}},{"$f":"Tableau1[[#This Row],[اللقب]]","v":{"$error":"#VALUE!"}},{"$f":"Tableau1[[#This Row],[الصنف]]","v":{"$error":"#VALUE!"}},{"$f":"Tableau1[[#This Row],[الاطار]]","v":{"$error":"#VALUE!"}},{"$f":"Tableau1[[#This Row],[القسم]]","v":{"$error":"#VALUE!"}},{"$f":"Tableau1[[#This Row],[الحالة العائلية]]","v":{"$error":"#VALUE!"}},{"$f":"Tableau1[[#This Row],[الدرجة]]","v":{"$error":"#VALUE!"}},{"$f":"Tableau1[[#This Row],[رقم الحساب]]","v":{"$error":"#VALUE!"}}]
[{"$f":"Tableau1[[#This Row],[الرقم]]","v":{"$error":"#VALUE!"}},{"$f":"Tableau1[[#This Row],[الاسم]]","v":{"$error":"#VALUE!"}},{"$f":"Tableau1[[#This Row],[اللقب]]","v":{"$error":"#VALUE!"}},{"$f":"Tableau1[[#This Row],[الصنف]]","v":{"$error":"#VALUE!"}},{"$f":"Tableau1[[#This Row],[الاطار]]","v":{"$error":"#VALUE!"}},{"$f":"Tableau1[[#This Row],[القسم]]","v":{"$error":"#VALUE!"}},{"$f":"Tableau1[[#This Row],[الحالة العائلية]]","v":{"$error":"#VALUE!"}},{"$f":"Tableau1[[#This Row],[الدرجة]]","v":{"$error":"#VALUE!"}},{"$f":"Tableau1[[#This Row],[رقم الحساب]]","v":{"$error":"#VALUE!"}}]
[{"$f":"Tableau1[[#This Row],[الرقم]]","v":{"$error":"#VALUE!"}},{"$f":"Tableau1[[#This Row],[الاسم]]","v":{"$error":"#VALUE!"}},{"$f":"Tableau1[[#This Row],[اللقب]]","v":{"$error":"#VALUE!"}},{"$f":"Tableau1[[#This Row],[الصنف]]","v":{"$error":"#VALUE!"}},{"$f":"Tableau1[[#This Row],[الاطار]]","v":{"$error":"#VALUE!"}},{"$f":"Tableau1[[#This Row],[القسم]]","v":{"$error":"#VALUE!"}},{"$f":"Tableau1[[#This Row],[الحالة العائلية]]","v":{"$error":"#VALUE!"}},{"$f":"Tableau1[[#This Row],[الدرجة]]","v":{"$error":"#VALUE!"}},{"$f":"Tableau1[[#This Row],[رقم الحساب]]","v":{"$error":"#VALUE!"}}]
[{"$f":"Tableau1[[#This Row],[الرقم]]","v":{"$error":"#VALUE!"}},{"$f":"Tableau1[[#This Row],[الاسم]]","v":{"$error":"#VALUE!"}},{"$f":"Tableau1[[#This Row],[اللقب]]","v":{"$error":"#VALUE!"}},{"$f":"Tableau1[[#This Row],[الصنف]]","v":{"$error":"#VALUE!"}},{"$f":"Tableau1[[#This Row],[الاطار]]","v":{"$error":"#VALUE!"}},{"$f":"Tableau1[[#This Row],[القسم]]","v":{"$error":"#VALUE!"}},{"$f":"Tableau1[[#This Row],[الحالة العائلية]]","v":{"$error":"#VALUE!"}},{"$f":"Tableau1[[#This Row],[الدرجة]]","v":{"$error":"#VALUE!"}},{"$f":"Tableau1[[#This Row],[رقم الحساب]]","v":{"$error":"#VALUE!"}}]
[{"$f":"Tableau1[[#This Row],[الرقم]]","v":{"$error":"#VALUE!"}},{"$f":"Tableau1[[#This Row],[الاسم]]","v":{"$error":"#VALUE!"}},{"$f":"Tableau1[[#This Row],[اللقب]]","v":{"$error":"#VALUE!"}},{"$f":"Tableau1[[#This Row],[الصنف]]","v":{"$error":"#VALUE!"}},{"$f":"Tableau1[[#This Row],[الاطار]]","v":{"$error":"#VALUE!"}},{"$f":"Tableau1[[#This Row],[القسم]]","v":{"$error":"#VALUE!"}},{"$f":"Tableau1[[#This Row],[الحالة العائلية]]","v":{"$error":"#VALUE!"}},{"$f":"Tableau1[[#This Row],[الدرجة]]","v":{"$error":"#VALUE!"}},{"$f":"Tableau1[[#This Row],[رقم الحساب]]","v":{"$error":"#VALUE!"}}]
[{"$f":"Tableau1[[#This Row],[الرقم]]","v":{"$error":"#VALUE!"}},{"$f":"Tableau1[[#This Row],[الاسم]]","v":{"$error":"#VALUE!"}},{"$f":"Tableau1[[#This Row],[اللقب]]","v":{"$error":"#VALUE!"}},{"$f":"Tableau1[[#This Row],[الصنف]]","v":{"$error":"#VALUE!"}},{"$f":"Tableau1[[#This Row],[الاطار]]","v":{"$error":"#VALUE!"}},{"$f":"Tableau1[[#This Row],[القسم]]","v":{"$error":"#VALUE!"}},{"$f":"Tableau1[[#This Row],[الحالة العائلية]]","v":{"$error":"#VALUE!"}},{"$f":"Tableau1[[#This Row],[الدرجة]]","v":{"$error":"#VALUE!"}},{"$f":"Tableau1[[#This Row],[رقم الحساب]]","v":{"$error":"#VALUE!"}}]
[{"$f":"Tableau1[[#This Row],[الرقم]]","v":{"$error":"#VALUE!"}},{"$f":"Tableau1[[#This Row],[الاسم]]","v":{"$error":"#VALUE!"}},{"$f":"Tableau1[[#This Row],[اللقب]]","v":{"$error":"#VALUE!"}},{"$f":"Tableau1[[#This Row],[الصنف]]","v":{"$error":"#VALUE!"}},{"$f":"Tableau1[[#This Row],[الاطار]]","v":{"$error":"#VALUE!"}},{"$f":"Tableau1[[#This Row],[القسم]]","v":{"$error":"#VALUE!"}},{"$f":"Tableau1[[#This Row],[الحالة العائلية]]","v":{"$error":"#VALUE!"}},{"$f":"Tableau1[[#This Row],[الدرجة]]","v":{"$error":"#VALUE!"}},{"$f":"Tableau1[[#This Row],[رقم الحساب]]","v":{"$error":"#VALUE!"}}]
[{"$f":"Tableau1[[#This Row],[الرقم]]","v":{"$error":"#VALUE!"}},{"$f":"Tableau1[[#This Row],[الاسم]]","v":{"$error":"#VALUE!"}},{"$f":"Tableau1[[#This Row],[اللقب]]","v":{"$error":"#VALUE!"}},{"$f":"Tableau1[[#This Row],[الصنف]]","v":{"$error":"#VALUE!"}},{"$f":"Tableau1[[#This Row],[الاطار]]","v":{"$error":"#VALUE!"}},{"$f":"Tableau1[[#This Row],[القسم]]","v":{"$error":"#VALUE!"}},{"$f":"Tableau1[[#This Row],[الحالة العائلية]]","v":{"$error":"#VALUE!"}},{"$f":"Tableau1[[#This Row],[الدرجة]]","v":{"$error":"#VALUE!"}},{"$f":"Tableau1[[#This Row],[رقم الحساب]]","v":{"$error":"#VALUE!"}}]
[{"$f":"Tableau1[[#This Row],[الرقم]]","v":{"$error":"#VALUE!"}},{"$f":"Tableau1[[#This Row],[الاسم]]","v":{"$error":"#VALUE!"}},{"$f":"Tableau1[[#This Row],[اللقب]]","v":{"$error":"#VALUE!"}},{"$f":"Tableau1[[#This Row],[الصنف]]","v":{"$error":"#VALUE!"}},{"$f":"Tableau1[[#This Row],[الاطار]]","v":{"$error":"#VALUE!"}},{"$f":"Tableau1[[#This Row],[القسم]]","v":{"$error":"#VALUE!"}},{"$f":"Tableau1[[#This Row],[الحالة العائلية]]","v":{"$error":"#VALUE!"}},{"$f":"Tableau1[[#This Row],[الدرجة]]","v":{"$error":"#VALUE!"}},{"$f":"Tableau1[[#This Row],[رقم الحساب]]","v":{"$error":"#VALUE!"}}]
[{"$f":"Tableau1[[#This Row],[الرقم]]","v":{"$error":"#VALUE!"}},{"$f":"Tableau1[[#This Row],[الاسم]]","v":{"$error":"#VALUE!"}},{"$f":"Tableau1[[#This Row],[اللقب]]","v":{"$error":"#VALUE!"}},{"$f":"Tableau1[[#This Row],[الصنف]]","v":{"$error":"#VALUE!"}},{"$f":"Tableau1[[#This Row],[الاطار]]","v":{"$error":"#VALUE!"}},{"$f":"Tableau1[[#This Row],[القسم]]","v":{"$error":"#VALUE!"}},{"$f":"Tableau1[[#This Row],[الحالة العائلية]]","v":{"$error":"#VALUE!"}},{"$f":"Tableau1[[#This Row],[الدرجة]]","v":{"$error":"#VALUE!"}},{"$f":"Tableau1[[#This Row],[رقم الحساب]]","v":{"$error":"#VALUE!"}}]
[{"$f":"Tableau1[[#This Row],[الرقم]]","v":{"$error":"#VALUE!"}},{"$f":"Tableau1[[#This Row],[الاسم]]","v":{"$error":"#VALUE!"}},{"$f":"Tableau1[[#This Row],[اللقب]]","v":{"$error":"#VALUE!"}},{"$f":"Tableau1[[#This Row],[الصنف]]","v":{"$error":"#VALUE!"}},{"$f":"Tableau1[[#This Row],[الاطار]]","v":{"$error":"#VALUE!"}},{"$f":"Tableau1[[#This Row],[القسم]]","v":{"$error":"#VALUE!"}},{"$f":"Tableau1[[#This Row],[الحالة العائلية]]","v":{"$error":"#VALUE!"}},{"$f":"Tableau1[[#This Row],[الدرجة]]","v":{"$error":"#VALUE!"}},{"$f":"Tableau1[[#This Row],[رقم الحساب]]","v":{"$error":"#VALUE!"}}]
[{"$f":"Tableau1[[#This Row],[الرقم]]","v":{"$error":"#VALUE!"}},{"$f":"Tableau1[[#This Row],[الاسم]]","v":{"$error":"#VALUE!"}},{"$f":"Tableau1[[#This Row],[اللقب]]","v":{"$error":"#VALUE!"}},{"$f":"Tableau1[[#This Row],[الصنف]]","v":{"$error":"#VALUE!"}},{"$f":"Tableau1[[#This Row],[الاطار]]","v":{"$error":"#VALUE!"}},{"$f":"Tableau1[[#This Row],[القسم]]","v":{"$error":"#VALUE!"}},{"$f":"Tableau1[[#This Row],[الحالة العائلية]]","v":{"$error":"#VALUE!"}},{"$f":"Tableau1[[#This Row],[الدرجة]]","v":{"$error":"#VALUE!"}},{"$f":"Tableau1[[#This Row],[رقم الحساب]]","v":{"$error":"#VALUE!"}}]
[{"$f":"Tableau1[[#This Row],[الرقم]]","v":{"$error":"#VALUE!"}},{"$f":"Tableau1[[#This Row],[الاسم]]","v":{"$error":"#VALUE!"}},{"$f":"Tableau1[[#This Row],[اللقب]]","v":{"$error":"#VALUE!"}},{"$f":"Tableau1[[#This Row],[الصنف]]","v":{"$error":"#VALUE!"}},{"$f":"Tableau1[[#This Row],[الاطار]]","v":{"$error":"#VALUE!"}},{"$f":"Tableau1[[#This Row],[القسم]]","v":{"$error":"#VALUE!"}},{"$f":"Tableau1[[#This Row],[الحالة العائلية]]","v":{"$error":"#VALUE!"}},{"$f":"Tableau1[[#This Row],[الدرجة]]","v":{"$error":"#VALUE!"}},{"$f":"Tableau1[[#This Row],[رقم الحساب]]","v":{"$error":"#VALUE!"}}]
[{"$f":"Tableau1[[#This Row],[الرقم]]","v":{"$error":"#VALUE!"}},{"$f":"Tableau1[[#This Row],[الاسم]]","v":{"$error":"#VALUE!"}},{"$f":"Tableau1[[#This Row],[اللقب]]","v":{"$error":"#VALUE!"}},{"$f":"Tableau1[[#This Row],[الصنف]]","v":{"$error":"#VALUE!"}},{"$f":"Tableau1[[#This Row],[الاطار]]","v":{"$error":"#VALUE!"}},{"$f":"Tableau1[[#This Row],[القسم]]","v":{"$error":"#VALUE!"}},{"$f":"Tableau1[[#This Row],[الحالة العائلية]]","v":{"$error":"#VALUE!"}},{"$f":"Tableau1[[#This Row],[الدرجة]]","v":{"$error":"#VALUE!"}},{"$f":"Tableau1[[#This Row],[رقم الحساب]]","v":{"$error":"#VALUE!"}}]
[{"$f":"Tableau1[[#This Row],[الرقم]]","v":{"$error":"#VALUE!"}},{"$f":"Tableau1[[#This Row],[الاسم]]","v":{"$error":"#VALUE!"}},{"$f":"Tableau1[[#This Row],[اللقب]]","v":{"$error":"#VALUE!"}},{"$f":"Tableau1[[#This Row],[الصنف]]","v":{"$error":"#VALUE!"}},{"$f":"Tableau1[[#This Row],[الاطار]]","v":{"$error":"#VALUE!"}},{"$f":"Tableau1[[#This Row],[القسم]]","v":{"$error":"#VALUE!"}},{"$f":"Tableau1[[#This Row],[الحالة العائلية]]","v":{"$error":"#VALUE!"}},{"$f":"Tableau1[[#This Row],[الدرجة]]","v":{"$error":"#VALUE!"}},{"$f":"Tableau1[[#This Row],[رقم الحساب]]","v":{"$error":"#VALUE!"}}]

{"sheet":"Feuil9","index":8,"n_rows":210,"n_cols":61,"rows_kept":210,"cut":false,"hidden":false,"merged":[]}
["الرقم","رقم الحساب",{"$f":"Feuil3!B1","v":"الاسم"},{"$f":"Feuil3!C1","v":"اللقب"},{"$f":"Feuil3!D1","v":"الصنف"},{"$f":"Feuil3!E1","v":"الاطار"},{"$f":"Feuil3!F1","v":"القسم"},{"$f":"Feuil3!G1","v":"الحالة العائلية"},{"$f":"Feuil3!H1","v":"الدرجة"},{"$f":"Feuil3!I1","v":"رقم الحساب"},{"$f":"Feuil2!B2","v":"ujujuj"},{"$f":"Feuil2!B3","v":"uj-uju-j"},{"$f":"Feuil2!B4","v":"-jrtgth"},{"$f":"Feuil2!B5","v":0},{"$f":"Feuil2!B6","v":0},{"$f":"Feuil2!B7","v":0},{"$f":"Feuil2!B14","v":0},{"$f":"Feuil2!B15","v":0},{"$f":"Feuil2!B16","v":0},{"$f":"Feuil2!B17","v":0},{"$f":"Feuil2!B24","v":0},{"$f":"Feuil2!B25","v":0},{"$f":"Feuil2!B26","v":0},{"$f":"Feuil2!B28","v":0},{"$f":"Feuil2!B29","v":0},{"$f":"Feuil2!B30","v":0},{"$f":"Feuil2!B31","v":0},{"$f":"Feuil2!B32","v":0},{"$f":"Feuil2!E2","v":"yynynynyn"},{"$f":"Feuil2!E3","v":"nununu"},{"$f":"Feuil2!E17","v":0},{"$f":"Feuil2!E18","v":0},{"$f":"Feuil2!E19","v":0},{"$f":"Feuil2!E20","v":0},{"$f":"Feuil2!E21","v":0},{"$f":"Feuil2!E22","v":0},{"$f":"Feuil2!E23","v":0},"الشهر","السنة","التاريخ",{"$f":"Feuil4!AO1","v":"رقم الموظف المدخل"},{"$f":"Feuil4!AP1","v":"val_resul"},{"$f":"Feuil4!AQ1","v":"val_cher"}]
[{"$f":"Feuil4!A2","v":1},{"$f":"Feuil4!B2","v":1020},{"$f":"Feuil4!C2","v":"شريف"},{"$f":"Feuil4!D2","v":"عرابة"},{"$f":"Feuil4!E2","v":13},{"$f":"Feuil4!F2","v":"طب"},{"$f":"Feuil4!G2","v":14},{"$f":"Feuil4!H2","v":"أعزب"},{"$f":"Feuil4!I2","v":12},{"$f":"Feuil4!J2","v":1020},{"$f":"Feuil4!K2","v":12000},{"$f":"Feuil4!L2","v":20000},{"$f":"Feuil4!M2","v":25000},{"$f":"Feuil4!N2","v":0},{"$f":"Feuil4!O2","v":0},{"$f":"Feuil4!P2","v":0},{"$f":"Feuil4!Q2","v":0},{"$f":"Feuil4!R2","v":0},{"$f":"Feuil4!S2","v":0},{"$f":"Feuil4!T2","v":0},{"$f":"Feuil4!U2","v":30000},{"$f":"Feuil4!V2","v":40000},{"$f":"Feuil4!W2","v":30000},{"$f":"Feuil4!X2","v":30000},{"$f":"Feuil4!Y2","v":0},{"$f":"Feuil4!Z2","v":0},{"$f":"Feuil4!AA2","v":0},{"$f":"Feuil4!AB2","v":0},{"$f":"Feuil4!AC2","v":1000},{"$f":"Feuil4!AD2","v":2000},{"$f":"Feuil4!AE2","v":0},{"$f":"Feuil4!AF2","v":0},{"$f":"Feuil4!AG2","v":0},{"$f":"Feuil4!AH2","v":0},{"$f":"Feuil4!AI2","v":0},{"$f":"Feuil4!AJ2","v":0},{"$f":"Feuil4!AK2","v":0},{"$f":"Feuil4!AL2","v":"فيفري"},{"$f":"Feuil4!AM2","v":2014},{"$f":"Feuil4!AN2","v":"2013-01-11"},{"$f":"Feuil4!AO2","v":1},{"$f":"Feuil4!AP2","v":4},{"$f":"Feuil4!AQ2","v":0}]
[{"$f":"Feuil4!A3","v":2},{"$f":"Feuil4!B3","v":1000},{"$f":"Feuil4!C3","v":"خالد"},{"$f":"Feuil4!D3","v":"اقتلقل"},{"$f":"Feuil4!E3","v":6},{"$f":"Feuil4!F3","v":"لاىتات"},{"$f":"Feuil4!G3","v":2},{"$f":"Feuil4!H3","v":"متزوج"},{"$f":"Feuil4!I3","v":12},{"$f":"Feuil4!J3","v":1000},{"$f":"Feuil4!K3","v":1},{"$f":"Feuil4!L3","v":2},{"$f":"Feuil4!M3","v":3},{"$f":"Feuil4!N3","v":4},{"$f":"Feuil4!O3","v":5},{"$f":"Feuil4!P3","v":6},{"$f":"Feuil4!Q3","v":7},{"$f":"Feuil4!R3","v":8},{"$f":"Feuil4!S3","v":9},{"$f":"Feuil4!T3","v":10},{"$f":"Feuil4!U3","v":11},{"$f":"Feuil4!V3","v":12},{"$f":"Feuil4!W3","v":13},{"$f":"Feuil4!X3","v":14},{"$f":"Feuil4!Y3","v":0},{"$f":"Feuil4!Z3","v":0},{"$f":"Feuil4!AA3","v":0},{"$f":"Feuil4!AB3","v":0},{"$f":"Feuil4!AC3","v":15},{"$f":"Feuil4!AD3","v":16},{"$f":"Feuil4!AE3","v":17},{"$f":"Feuil4!AF3","v":18},{"$f":"Feuil4!AG3","v":0},{"$f":"Feuil4!AH3","v":0},{"$f":"Feuil4!AI3","v":0},{"$f":"Feuil4!AJ3","v":0},{"$f":"Feuil4!AK3","v":0},{"$f":"Feuil4!AL3","v":"مارس"},{"$f":"Feuil4!AM3","v":2016},{"$f":"Feuil4!AN3","v":"00:00:00"},{"$f":"Feuil4!AO3","v":2}]
[{"$f":"Feuil4!A4","v":3},{"$f":"Feuil4!B4","v":1230},{"$f":"Feuil4!C4","v":"تجريب"},{"$f":"Feuil4!D4","v":"البرنامج"},{"$f":"Feuil4!E4","v":12},{"$f":"Feuil4!F4","v":"استاذ"},{"$f":"Feuil4!G4","v":12},{"$f":"Feuil4!H4","v":"متزوج"},{"$f":"Feuil4!I4","v":2},{"$f":"Feuil4!J4","v":1230},{"$f":"Feuil4!K4","v":12000},{"$f":"Feuil4!L4","v":14000},{"$f":"Feuil4!M4","v":16000},{"$f":"Feuil4!N4","v":18000},{"$f":"Feuil4!O4","v":20000},{"$f":"Feuil4!P4","v":22000},{"$f":"Feuil4!Q4","v":24000},{"$f":"Feuil4!R4","v":26000},{"$f":"Feuil4!S4","v":28000},{"$f":"Feuil4!T4","v":30000},{"$f":"Feuil4!U4","v":32000},{"$f":"Feuil4!V4","v":34000},{"$f":"Feuil4!W4","v":36000},{"$f":"Feuil4!X4","v":38000},{"$f":"Feuil4!Y4","v":0},{"$f":"Feuil4!Z4","v":0},{"$f":"Feuil4!AA4","v":0},{"$f":"Feuil4!AB4","v":0},{"$f":"Feuil4!AC4","v":40000},{"$f":"Feuil4!AD4","v":42000},{"$f":"Feuil4!AE4","v":44000},{"$f":"Feuil4!AF4","v":46000},{"$f":"Feuil4!AG4","v":48000},{"$f":"Feuil4!AH4","v":50000},{"$f":"Feuil4!AI4","v":52000},{"$f":"Feuil4!AJ4","v":54000},{"$f":"Feuil4!AK4","v":56000},{"$f":"Feuil4!AL4","v":"جويلية"},{"$f":"Feuil4!AM4","v":2017},{"$f":"Feuil4!AN4","v":"14/11/2013"},{"$f":"Feuil4!AO4","v":3},null,null,null,null,null,null,null,null,null,null,null,null,null,null,null,null,null,null,null,2]
[{"$f":"Feuil4!A5","v":4},{"$f":"Feuil4!B5","v":0},{"$f":"Feuil4!C5","v":0},{"$f":"Feuil4!D5","v":0},{"$f":"Feuil4!E5","v":0},{"$f":"Feuil4!F5","v":0},{"$f":"Feuil4!G5","v":0},{"$f":"Feuil4!H5","v":0},{"$f":"Feuil4!I5","v":0},{"$f":"Feuil4!J5","v":0},{"$f":"Feuil4!K5","v":0},{"$f":"Feuil4!L5","v":0},{"$f":"Feuil4!M5","v":0},{"$f":"Feuil4!N5","v":0},{"$f":"Feuil4!O5","v":0},{"$f":"Feuil4!P5","v":0},{"$f":"Feuil4!Q5","v":0},{"$f":"Feuil4!R5","v":0},{"$f":"Feuil4!S5","v":0},{"$f":"Feuil4!T5","v":0},{"$f":"Feuil4!U5","v":0},{"$f":"Feuil4!V5","v":0},{"$f":"Feuil4!W5","v":0},{"$f":"Feuil4!X5","v":0},{"$f":"Feuil4!Y5","v":0},{"$f":"Feuil4!Z5","v":0},{"$f":"Feuil4!AA5","v":0},{"$f":"Feuil4!AB5","v":0},{"$f":"Feuil4!AC5","v":0},{"$f":"Feuil4!AD5","v":0},{"$f":"Feuil4!AE5","v":0},{"$f":"Feuil4!AF5","v":0},{"$f":"Feuil4!AG5","v":0},{"$f":"Feuil4!AH5","v":0},{"$f":"Feuil4!AI5","v":0},{"$f":"Feuil4!AJ5","v":0},{"$f":"Feuil4!AK5","v":0},{"$f":"Feuil4!AL5","v":"جانفي"},{"$f":"Feuil4!AM5","v":"Label30"},{"$f":"Feuil4!AN5","v":"2013-11-12"},{"$f":"Feuil4!AO5","v":4}]
[{"$f":"Feuil4!A6","v":0},{"$f":"Feuil4!B6","v":{"$error":"#VALUE!"}},{"$f":"Feuil4!C6","v":0},{"$f":"Feuil4!D6","v":0},{"$f":"Feuil4!E6","v":0},{"$f":"Feuil4!F6","v":0},{"$f":"Feuil4!G6","v":0},{"$f":"Feuil4!H6","v":0},{"$f":"Feuil4!I6","v":0},{"$f":"Feuil4!J6","v":0},{"$f":"Feuil4!K6","v":1},{"$f":"Feuil4!L6","v":2},{"$f":"Feuil4!M6","v":3},{"$f":"Feuil4!N6","v":0},{"$f":"Feuil4!O6","v":5},{"$f":"Feuil4!P6","v":6},{"$f":"Feuil4!Q6","v":7},{"$f":"Feuil4!R6","v":8},{"$f":"Feuil4!S6","v":9},{"$f":"Feuil4!T6","v":10},{"$f":"Feuil4!U6","v":11},{"$f":"Feuil4!V6","v":12},{"$f":"Feuil4!W6","v":13},{"$f":"Feuil4!X6","v":14},{"$f":"Feuil4!Y6","v":0},{"$f":"Feuil4!Z6","v":0},{"$f":"Feuil4!AA6","v":0},{"$f":"Feuil4!AB6","v":0},{"$f":"Feuil4!AC6","v":0},{"$f":"Feuil4!AD6","v":0},{"$f":"Feuil4!AE6","v":0},{"$f":"Feuil4!AF6","v":0},{"$f":"Feuil4!AG6","v":0},{"$f":"Feuil4!AH6","v":0},{"$f":"Feuil4!AI6","v":0},{"$f":"Feuil4!AJ6","v":0},{"$f":"Feuil4!AK6","v":0},{"$f":"Feuil4!AL6","v":0},{"$f":"Feuil4!AM6","v":"Label30"},{"$f":"Feuil4!AN6","v":"2013-01-11"},{"$f":"Feuil4!AO6","v":0}]
[{"$f":"Feuil4!A7","v":0},{"$f":"Feuil4!B7","v":{"$error":"#VALUE!"}},{"$f":"Feuil4!C7","v":0},{"$f":"Feuil4!D7","v":0},{"$f":"Feuil4!E7","v":0},{"$f":"Feuil4!F7","v":0},{"$f":"Feuil4!G7","v":0},{"$f":"Feuil4!H7","v":0},{"$f":"Feuil4!I7","v":0},{"$f":"Feuil4!J7","v":0},{"$f":"Feuil4!K7","v":0},{"$f":"Feuil4!L7","v":0},{"$f":"Feuil4!M7","v":0},{"$f":"Feuil4!N7","v":0},{"$f":"Feuil4!O7","v":0},{"$f":"Feuil4!P7","v":0},{"$f":"Feuil4!Q7","v":0},{"$f":"Feuil4!R7","v":0},{"$f":"Feuil4!S7","v":0},{"$f":"Feuil4!T7","v":0},{"$f":"Feuil4!U7","v":0},{"$f":"Feuil4!V7","v":0},{"$f":"Feuil4!W7","v":0},{"$f":"Feuil4!X7","v":0},{"$f":"Feuil4!Y7","v":0},{"$f":"Feuil4!Z7","v":0},{"$f":"Feuil4!AA7","v":0},{"$f":"Feuil4!AB7","v":0},{"$f":"Feuil4!AC7","v":0},{"$f":"Feuil4!AD7","v":0},{"$f":"Feuil4!AE7","v":0},{"$f":"Feuil4!AF7","v":0},{"$f":"Feuil4!AG7","v":0},{"$f":"Feuil4!AH7","v":0},{"$f":"Feuil4!AI7","v":0},{"$f":"Feuil4!AJ7","v":0},{"$f":"Feuil4!AK7","v":0},{"$f":"Feuil4!AL7","v":0},{"$f":"Feuil4!AM7","v":"Label30"},{"$f":"Feuil4!AN7","v":"2013-05-11"},{"$f":"Feuil4!AO7","v":0}]
[{"$f":"Feuil4!A8","v":0},{"$f":"Feuil4!B8","v":{"$error":"#VALUE!"}},{"$f":"Feuil4!C8","v":0},{"$f":"Feuil4!D8","v":0},{"$f":"Feuil4!E8","v":0},{"$f":"Feuil4!F8","v":0},{"$f":"Feuil4!G8","v":0},{"$f":"Feuil4!H8","v":0},{"$f":"Feuil4!I8","v":0},{"$f":"Feuil4!J8","v":0},{"$f":"Feuil4!K8","v":0},{"$f":"Feuil4!L8","v":0},{"$f":"Feuil4!M8","v":0},{"$f":"Feuil4!N8","v":0},{"$f":"Feuil4!O8","v":0},{"$f":"Feuil4!P8","v":0},{"$f":"Feuil4!Q8","v":0},{"$f":"Feuil4!R8","v":0},{"$f":"Feuil4!S8","v":0},{"$f":"Feuil4!T8","v":0},{"$f":"Feuil4!U8","v":0},{"$f":"Feuil4!V8","v":0},{"$f":"Feuil4!W8","v":0},{"$f":"Feuil4!X8","v":0},{"$f":"Feuil4!Y8","v":0},{"$f":"Feuil4!Z8","v":0},{"$f":"Feuil4!AA8","v":0},{"$f":"Feuil4!AB8","v":0},{"$f":"Feuil4!AC8","v":0},{"$f":"Feuil4!AD8","v":0},{"$f":"Feuil4!AE8","v":0},{"$f":"Feuil4!AF8","v":0},{"$f":"Feuil4!AG8","v":0},{"$f":"Feuil4!AH8","v":0},{"$f":"Feuil4!AI8","v":0},{"$f":"Feuil4!AJ8","v":0},{"$f":"Feuil4!AK8","v":0},{"$f":"Feuil4!AL8","v":0},{"$f":"Feuil4!AM8","v":"Label30"},{"$f":"Feuil4!AN8","v":"2013-05-11"},{"$f":"Feuil4!AO8","v":0}]
[{"$f":"Feuil4!A9","v":0},{"$f":"Feuil4!B9","v":{"$error":"#VALUE!"}},{"$f":"Feuil4!C9","v":0},{"$f":"Feuil4!D9","v":0},{"$f":"Feuil4!E9","v":0},{"$f":"Feuil4!F9","v":0},{"$f":"Feuil4!G9","v":0},{"$f":"Feuil4!H9","v":0},{"$f":"Feuil4!I9","v":0},{"$f":"Feuil4!J9","v":0},{"$f":"Feuil4!K9","v":0},{"$f":"Feuil4!L9","v":0},{"$f":"Feuil4!M9","v":0},{"$f":"Feuil4!N9","v":0},{"$f":"Feuil4!O9","v":0},{"$f":"Feuil4!P9","v":0},{"$f":"Feuil4!Q9","v":0},{"$f":"Feuil4!R9","v":0},{"$f":"Feuil4!S9","v":0},{"$f":"Feuil4!T9","v":0},{"$f":"Feuil4!U9","v":0},{"$f":"Feuil4!V9","v":0},{"$f":"Feuil4!W9","v":0},{"$f":"Feuil4!X9","v":0},{"$f":"Feuil4!Y9","v":0},{"$f":"Feuil4!Z9","v":0},{"$f":"Feuil4!AA9","v":0},{"$f":"Feuil4!AB9","v":0},{"$f":"Feuil4!AC9","v":0},{"$f":"Feuil4!AD9","v":0},{"$f":"Feuil4!AE9","v":0},{"$f":"Feuil4!AF9","v":0},{"$f":"Feuil4!AG9","v":0},{"$f":"Feuil4!AH9","v":0},{"$f":"Feuil4!AI9","v":0},{"$f":"Feuil4!AJ9","v":0},{"$f":"Feuil4!AK9","v":0},{"$f":"Feuil4!AL9","v":0},{"$f":"Feuil4!AM9","v":0},{"$f":"Feuil4!AN9","v":"00:00:00"},{"$f":"Feuil4!AO9","v":0}]
[{"$f":"Feuil4!A10","v":0},{"$f":"Feuil4!B10","v":{"$error":"#VALUE!"}},{"$f":"Feuil4!C10","v":0},{"$f":"Feuil4!D10","v":0},{"$f":"Feuil4!E10","v":0},{"$f":"Feuil4!F10","v":0},{"$f":"Feuil4!G10","v":0},{"$f":"Feuil4!H10","v":0},{"$f":"Feuil4!I10","v":0},{"$f":"Feuil4!J10","v":0},{"$f":"Feuil4!K10","v":0},{"$f":"Feuil4!L10","v":0},{"$f":"Feuil4!M10","v":0},{"$f":"Feuil4!N10","v":0},{"$f":"Feuil4!O10","v":0},{"$f":"Feuil4!P10","v":0},{"$f":"Feuil4!Q10","v":0},{"$f":"Feuil4!R10","v":0},{"$f":"Feuil4!S10","v":0},{"$f":"Feuil4!T10","v":0},{"$f":"Feuil4!U10","v":0},{"$f":"Feuil4!V10","v":0},{"$f":"Feuil4!W10","v":0},{"$f":"Feuil4!X10","v":0},{"$f":"Feuil4!Y10","v":0},{"$f":"Feuil4!Z10","v":0},{"$f":"Feuil4!AA10","v":0},{"$f":"Feuil4!AB10","v":0},{"$f":"Feuil4!AC10","v":0},{"$f":"Feuil4!AD10","v":0},{"$f":"Feuil4!AE10","v":0},{"$f":"Feuil4!AF10","v":0},{"$f":"Feuil4!AG10","v":0},{"$f":"Feuil4!AH10","v":0},{"$f":"Feuil4!AI10","v":0},{"$f":"Feuil4!AJ10","v":0},{"$f":"Feuil4!AK10","v":0},{"$f":"Feuil4!AL10","v":0},{"$f":"Feuil4!AM10","v":0},{"$f":"Feuil4!AN10","v":"00:00:00"},{"$f":"Feuil4!AO10","v":0}]
[{"$f":"Feuil4!A11","v":0},{"$f":"Feuil4!B11","v":{"$error":"#VALUE!"}},{"$f":"Feuil4!C11","v":0},{"$f":"Feuil4!D11","v":0},{"$f":"Feuil4!E11","v":0},{"$f":"Feuil4!F11","v":0},{"$f":"Feuil4!G11","v":0},{"$f":"Feuil4!H11","v":0},{"$f":"Feuil4!I11","v":0},{"$f":"Feuil4!J11","v":0},{"$f":"Feuil4!K11","v":0},{"$f":"Feuil4!L11","v":0},{"$f":"Feuil4!M11","v":0},{"$f":"Feuil4!N11","v":0},{"$f":"Feuil4!O11","v":0},{"$f":"Feuil4!P11","v":0},{"$f":"Feuil4!Q11","v":0},{"$f":"Feuil4!R11","v":0},{"$f":"Feuil4!S11","v":0},{"$f":"Feuil4!T11","v":0},{"$f":"Feuil4!U11","v":0},{"$f":"Feuil4!V11","v":0},{"$f":"Feuil4!W11","v":0},{"$f":"Feuil4!X11","v":0},{"$f":"Feuil4!Y11","v":0},{"$f":"Feuil4!Z11","v":0},{"$f":"Feuil4!AA11","v":0},{"$f":"Feuil4!AB11","v":0},{"$f":"Feuil4!AC11","v":0},{"$f":"Feuil4!AD11","v":0},{"$f":"Feuil4!AE11","v":0},{"$f":"Feuil4!AF11","v":0},{"$f":"Feuil4!AG11","v":0},{"$f":"Feuil4!AH11","v":0},{"$f":"Feuil4!AI11","v":0},{"$f":"Feuil4!AJ11","v":0},{"$f":"Feuil4!AK11","v":0},{"$f":"Feuil4!AL11","v":0},{"$f":"Feuil4!AM11","v":0},{"$f":"Feuil4!AN11","v":"00:00:00"},{"$f":"Feuil4!AO11","v":0}]
[{"$f":"Feuil4!A12","v":0},{"$f":"Feuil4!B12","v":{"$error":"#VALUE!"}},{"$f":"Feuil4!C12","v":0},{"$f":"Feuil4!D12","v":0},{"$f":"Feuil4!E12","v":0},{"$f":"Feuil4!F12","v":0},{"$f":"Feuil4!G12","v":0},{"$f":"Feuil4!H12","v":0},{"$f":"Feuil4!I12","v":0},{"$f":"Feuil4!J12","v":0},{"$f":"Feuil4!K12","v":0},{"$f":"Feuil4!L12","v":0},{"$f":"Feuil4!M12","v":0},{"$f":"Feuil4!N12","v":0},{"$f":"Feuil4!O12","v":0},{"$f":"Feuil4!P12","v":0},{"$f":"Feuil4!Q12","v":0},{"$f":"Feuil4!R12","v":0},{"$f":"Feuil4!S12","v":0},{"$f":"Feuil4!T12","v":0},{"$f":"Feuil4!U12","v":0},{"$f":"Feuil4!V12","v":0},{"$f":"Feuil4!W12","v":0},{"$f":"Feuil4!X12","v":0},{"$f":"Feuil4!Y12","v":0},{"$f":"Feuil4!Z12","v":0},{"$f":"Feuil4!AA12","v":0},{"$f":"Feuil4!AB12","v":0},{"$f":"Feuil4!AC12","v":0},{"$f":"Feuil4!AD12","v":0},{"$f":"Feuil4!AE12","v":0},{"$f":"Feuil4!AF12","v":0},{"$f":"Feuil4!AG12","v":0},{"$f":"Feuil4!AH12","v":0},{"$f":"Feuil4!AI12","v":0},{"$f":"Feuil4!AJ12","v":0},{"$f":"Feuil4!AK12","v":0},{"$f":"Feuil4!AL12","v":0},{"$f":"Feuil4!AM12","v":0},{"$f":"Feuil4!AN12","v":"00:00:00"},{"$f":"Feuil4!AO12","v":0}]
[{"$f":"Feuil4!A13","v":0},{"$f":"Feuil4!B13","v":{"$error":"#VALUE!"}},{"$f":"Feuil4!C13","v":0},{"$f":"Feuil4!D13","v":0},{"$f":"Feuil4!E13","v":0},{"$f":"Feuil4!F13","v":0},{"$f":"Feuil4!G13","v":0},{"$f":"Feuil4!H13","v":0},{"$f":"Feuil4!I13","v":0},{"$f":"Feuil4!J13","v":0},{"$f":"Feuil4!K13","v":0},{"$f":"Feuil4!L13","v":0},{"$f":"Feuil4!M13","v":0},{"$f":"Feuil4!N13","v":0},{"$f":"Feuil4!O13","v":0},{"$f":"Feuil4!P13","v":0},{"$f":"Feuil4!Q13","v":0},{"$f":"Feuil4!R13","v":0},{"$f":"Feuil4!S13","v":0},{"$f":"Feuil4!T13","v":0},{"$f":"Feuil4!U13","v":0},{"$f":"Feuil4!V13","v":0},{"$f":"Feuil4!W13","v":0},{"$f":"Feuil4!X13","v":0},{"$f":"Feuil4!Y13","v":0},{"$f":"Feuil4!Z13","v":0},{"$f":"Feuil4!AA13","v":0},{"$f":"Feuil4!AB13","v":0},{"$f":"Feuil4!AC13","v":0},{"$f":"Feuil4!AD13","v":0},{"$f":"Feuil4!AE13","v":0},{"$f":"Feuil4!AF13","v":0},{"$f":"Feuil4!AG13","v":0},{"$f":"Feuil4!AH13","v":0},{"$f":"Feuil4!AI13","v":0},{"$f":"Feuil4!AJ13","v":0},{"$f":"Feuil4!AK13","v":0},{"$f":"Feuil4!AL13","v":0},{"$f":"Feuil4!AM13","v":0},{"$f":"Feuil4!AN13","v":"00:00:00"},{"$f":"Feuil4!AO13","v":0}]
[{"$f":"Feuil4!A14","v":0},{"$f":"Feuil4!B14","v":{"$error":"#VALUE!"}},{"$f":"Feuil4!C14","v":0},{"$f":"Feuil4!D14","v":0},{"$f":"Feuil4!E14","v":0},{"$f":"Feuil4!F14","v":0},{"$f":"Feuil4!G14","v":0},{"$f":"Feuil4!H14","v":0},{"$f":"Feuil4!I14","v":0},{"$f":"Feuil4!J14","v":0},{"$f":"Feuil4!K14","v":0},{"$f":"Feuil4!L14","v":0},{"$f":"Feuil4!M14","v":0},{"$f":"Feuil4!N14","v":0},{"$f":"Feuil4!O14","v":0},{"$f":"Feuil4!P14","v":0},{"$f":"Feuil4!Q14","v":0},{"$f":"Feuil4!R14","v":0},{"$f":"Feuil4!S14","v":0},{"$f":"Feuil4!T14","v":0},{"$f":"Feuil4!U14","v":0},{"$f":"Feuil4!V14","v":0},{"$f":"Feuil4!W14","v":0},{"$f":"Feuil4!X14","v":0},{"$f":"Feuil4!Y14","v":0},{"$f":"Feuil4!Z14","v":0},{"$f":"Feuil4!AA14","v":0},{"$f":"Feuil4!AB14","v":0},{"$f":"Feuil4!AC14","v":0},{"$f":"Feuil4!AD14","v":0},{"$f":"Feuil4!AE14","v":0},{"$f":"Feuil4!AF14","v":0},{"$f":"Feuil4!AG14","v":0},{"$f":"Feuil4!AH14","v":0},{"$f":"Feuil4!AI14","v":0},{"$f":"Feuil4!AJ14","v":0},{"$f":"Feuil4!AK14","v":0},{"$f":"Feuil4!AL14","v":0},{"$f":"Feuil4!AM14","v":0},{"$f":"Feuil4!AN14","v":"00:00:00"},{"$f":"Feuil4!AO14","v":0}]
[{"$f":"Feuil4!A15","v":0},{"$f":"Feuil4!B15","v":{"$error":"#VALUE!"}},{"$f":"Feuil4!C15","v":0},{"$f":"Feuil4!D15","v":0},{"$f":"Feuil4!E15","v":0},{"$f":"Feuil4!F15","v":0},{"$f":"Feuil4!G15","v":0},{"$f":"Feuil4!H15","v":0},{"$f":"Feuil4!I15","v":0},{"$f":"Feuil4!J15","v":0},{"$f":"Feuil4!K15","v":0},{"$f":"Feuil4!L15","v":0},{"$f":"Feuil4!M15","v":0},{"$f":"Feuil4!N15","v":0},{"$f":"Feuil4!O15","v":0},{"$f":"Feuil4!P15","v":0},{"$f":"Feuil4!Q15","v":0},{"$f":"Feuil4!R15","v":0},{"$f":"Feuil4!S15","v":0},{"$f":"Feuil4!T15","v":0},{"$f":"Feuil4!U15","v":0},{"$f":"Feuil4!V15","v":0},{"$f":"Feuil4!W15","v":0},{"$f":"Feuil4!X15","v":0},{"$f":"Feuil4!Y15","v":0},{"$f":"Feuil4!Z15","v":0},{"$f":"Feuil4!AA15","v":0},{"$f":"Feuil4!AB15","v":0},{"$f":"Feuil4!AC15","v":0},{"$f":"Feuil4!AD15","v":0},{"$f":"Feuil4!AE15","v":0},{"$f":"Feuil4!AF15","v":0},{"$f":"Feuil4!AG15","v":0},{"$f":"Feuil4!AH15","v":0},{"$f":"Feuil4!AI15","v":0},{"$f":"Feuil4!AJ15","v":0},{"$f":"Feuil4!AK15","v":0},{"$f":"Feuil4!AL15","v":0},{"$f":"Feuil4!AM15","v":0},{"$f":"Feuil4!AN15","v":"00:00:00"},{"$f":"Feuil4!AO15","v":0}]
[{"$f":"Feuil4!A16","v":0},{"$f":"Feuil4!B16","v":{"$error":"#VALUE!"}},{"$f":"Feuil4!C16","v":0},{"$f":"Feuil4!D16","v":0},{"$f":"Feuil4!E16","v":0},{"$f":"Feuil4!F16","v":0},{"$f":"Feuil4!G16","v":0},{"$f":"Feuil4!H16","v":0},{"$f":"Feuil4!I16","v":0},{"$f":"Feuil4!J16","v":0},{"$f":"Feuil4!K16","v":0},{"$f":"Feuil4!L16","v":0},{"$f":"Feuil4!M16","v":0},{"$f":"Feuil4!N16","v":0},{"$f":"Feuil4!O16","v":0},{"$f":"Feuil4!P16","v":0},{"$f":"Feuil4!Q16","v":0},{"$f":"Feuil4!R16","v":0},{"$f":"Feuil4!S16","v":0},{"$f":"Feuil4!T16","v":0},{"$f":"Feuil4!U16","v":0},{"$f":"Feuil4!V16","v":0},{"$f":"Feuil4!W16","v":0},{"$f":"Feuil4!X16","v":0},{"$f":"Feuil4!Y16","v":0},{"$f":"Feuil4!Z16","v":0},{"$f":"Feuil4!AA16","v":0},{"$f":"Feuil4!AB16","v":0},{"$f":"Feuil4!AC16","v":0},{"$f":"Feuil4!AD16","v":0},{"$f":"Feuil4!AE16","v":0},{"$f":"Feuil4!AF16","v":0},{"$f":"Feuil4!AG16","v":0},{"$f":"Feuil4!AH16","v":0},{"$f":"Feuil4!AI16","v":0},{"$f":"Feuil4!AJ16","v":0},{"$f":"Feuil4!AK16","v":0},{"$f":"Feuil4!AL16","v":0},{"$f":"Feuil4!AM16","v":0},{"$f":"Feuil4!AN16","v":"00:00:00"},{"$f":"Feuil4!AO16","v":0}]
[{"$f":"Feuil4!A17","v":0},{"$f":"Feuil4!B17","v":{"$error":"#VALUE!"}},{"$f":"Feuil4!C17","v":0},{"$f":"Feuil4!D17","v":0},{"$f":"Feuil4!E17","v":0},{"$f":"Feuil4!F17","v":0},{"$f":"Feuil4!G17","v":0},{"$f":"Feuil4!H17","v":0},{"$f":"Feuil4!I17","v":0},{"$f":"Feuil4!J17","v":0},{"$f":"Feuil4!K17","v":0},{"$f":"Feuil4!L17","v":0},{"$f":"Feuil4!M17","v":0},{"$f":"Feuil4!N17","v":0},{"$f":"Feuil4!O17","v":0},{"$f":"Feuil4!P17","v":0},{"$f":"Feuil4!Q17","v":0},{"$f":"Feuil4!R17","v":0},{"$f":"Feuil4!S17","v":0},{"$f":"Feuil4!T17","v":0},{"$f":"Feuil4!U17","v":0},{"$f":"Feuil4!V17","v":0},{"$f":"Feuil4!W17","v":0},{"$f":"Feuil4!X17","v":0},{"$f":"Feuil4!Y17","v":0},{"$f":"Feuil4!Z17","v":0},{"$f":"Feuil4!AA17","v":0},{"$f":"Feuil4!AB17","v":0},{"$f":"Feuil4!AC17","v":0},{"$f":"Feuil4!AD17","v":0},{"$f":"Feuil4!AE17","v":0},{"$f":"Feuil4!AF17","v":0},{"$f":"Feuil4!AG17","v":0},{"$f":"Feuil4!AH17","v":0},{"$f":"Feuil4!AI17","v":0},{"$f":"Feuil4!AJ17","v":0},{"$f":"Feuil4!AK17","v":0},{"$f":"Feuil4!AL17","v":0},{"$f":"Feuil4!AM17","v":0},{"$f":"Feuil4!AN17","v":"00:00:00"},{"$f":"Feuil4!AO17","v":0}]
[{"$f":"Feuil4!A18","v":0},{"$f":"Feuil4!B18","v":{"$error":"#VALUE!"}},{"$f":"Feuil4!C18","v":0},{"$f":"Feuil4!D18","v":0},{"$f":"Feuil4!E18","v":0},{"$f":"Feuil4!F18","v":0},{"$f":"Feuil4!G18","v":0},{"$f":"Feuil4!H18","v":0},{"$f":"Feuil4!I18","v":0},{"$f":"Feuil4!J18","v":0},{"$f":"Feuil4!K18","v":0},{"$f":"Feuil4!L18","v":0},{"$f":"Feuil4!M18","v":0},{"$f":"Feuil4!N18","v":0},{"$f":"Feuil4!O18","v":0},{"$f":"Feuil4!P18","v":0},{"$f":"Feuil4!Q18","v":0},{"$f":"Feuil4!R18","v":0},{"$f":"Feuil4!S18","v":0},{"$f":"Feuil4!T18","v":0},{"$f":"Feuil4!U18","v":0},{"$f":"Feuil4!V18","v":0},{"$f":"Feuil4!W18","v":0},{"$f":"Feuil4!X18","v":0},{"$f":"Feuil4!Y18","v":0},{"$f":"Feuil4!Z18","v":0},{"$f":"Feuil4!AA18","v":0},{"$f":"Feuil4!AB18","v":0},{"$f":"Feuil4!AC18","v":0},{"$f":"Feuil4!AD18","v":0},{"$f":"Feuil4!AE18","v":0},{"$f":"Feuil4!AF18","v":0},{"$f":"Feuil4!AG18","v":0},{"$f":"Feuil4!AH18","v":0},{"$f":"Feuil4!AI18","v":0},{"$f":"Feuil4!AJ18","v":0},{"$f":"Feuil4!AK18","v":0},{"$f":"Feuil4!AL18","v":0},{"$f":"Feuil4!AM18","v":0},{"$f":"Feuil4!AN18","v":"00:00:00"},{"$f":"Feuil4!AO18","v":0}]
[{"$f":"Feuil4!A19","v":0},{"$f":"Feuil4!B19","v":{"$error":"#VALUE!"}},{"$f":"Feuil4!C19","v":0},{"$f":"Feuil4!D19","v":0},{"$f":"Feuil4!E19","v":0},{"$f":"Feuil4!F19","v":0},{"$f":"Feuil4!G19","v":0},{"$f":"Feuil4!H19","v":0},{"$f":"Feuil4!I19","v":0},{"$f":"Feuil4!J19","v":0},{"$f":"Feuil4!K19","v":0},{"$f":"Feuil4!L19","v":0},{"$f":"Feuil4!M19","v":0},{"$f":"Feuil4!N19","v":0},{"$f":"Feuil4!O19","v":0},{"$f":"Feuil4!P19","v":0},{"$f":"Feuil4!Q19","v":0},{"$f":"Feuil4!R19","v":0},{"$f":"Feuil4!S19","v":0},{"$f":"Feuil4!T19","v":0},{"$f":"Feuil4!U19","v":0},{"$f":"Feuil4!V19","v":0},{"$f":"Feuil4!W19","v":0},{"$f":"Feuil4!X19","v":0},{"$f":"Feuil4!Y19","v":0},{"$f":"Feuil4!Z19","v":0},{"$f":"Feuil4!AA19","v":0},{"$f":"Feuil4!AB19","v":0},{"$f":"Feuil4!AC19","v":0},{"$f":"Feuil4!AD19","v":0},{"$f":"Feuil4!AE19","v":0},{"$f":"Feuil4!AF19","v":0},{"$f":"Feuil4!AG19","v":0},{"$f":"Feuil4!AH19","v":0},{"$f":"Feuil4!AI19","v":0},{"$f":"Feuil4!AJ19","v":0},{"$f":"Feuil4!AK19","v":0},{"$f":"Feuil4!AL19","v":0},{"$f":"Feuil4!AM19","v":0},{"$f":"Feuil4!AN19","v":"00:00:00"},{"$f":"Feuil4!AO19","v":0}]
[{"$f":"Feuil4!A20","v":0},{"$f":"Feuil4!B20","v":{"$error":"#VALUE!"}},{"$f":"Feuil4!C20","v":0},{"$f":"Feuil4!D20","v":0},{"$f":"Feuil4!E20","v":0},{"$f":"Feuil4!F20","v":0},{"$f":"Feuil4!G20","v":0},{"$f":"Feuil4!H20","v":0},{"$f":"Feuil4!I20","v":0},{"$f":"Feuil4!J20","v":0},{"$f":"Feuil4!K20","v":0},{"$f":"Feuil4!L20","v":0},{"$f":"Feuil4!M20","v":0},{"$f":"Feuil4!N20","v":0},{"$f":"Feuil4!O20","v":0},{"$f":"Feuil4!P20","v":0},{"$f":"Feuil4!Q20","v":0},{"$f":"Feuil4!R20","v":0},{"$f":"Feuil4!S20","v":0},{"$f":"Feuil4!T20","v":0},{"$f":"Feuil4!U20","v":0},{"$f":"Feuil4!V20","v":0},{"$f":"Feuil4!W20","v":0},{"$f":"Feuil4!X20","v":0},{"$f":"Feuil4!Y20","v":0},{"$f":"Feuil4!Z20","v":0},{"$f":"Feuil4!AA20","v":0},{"$f":"Feuil4!AB20","v":0},{"$f":"Feuil4!AC20","v":0},{"$f":"Feuil4!AD20","v":0},{"$f":"Feuil4!AE20","v":0},{"$f":"Feuil4!AF20","v":0},{"$f":"Feuil4!AG20","v":0},{"$f":"Feuil4!AH20","v":0},{"$f":"Feuil4!AI20","v":0},{"$f":"Feuil4!AJ20","v":0},{"$f":"Feuil4!AK20","v":0},{"$f":"Feuil4!AL20","v":0},{"$f":"Feuil4!AM20","v":0},{"$f":"Feuil4!AN20","v":"00:00:00"},{"$f":"Feuil4!AO20","v":0}]
[{"$f":"Feuil4!A21","v":0},{"$f":"Feuil4!B21","v":{"$error":"#VALUE!"}},{"$f":"Feuil4!C21","v":0},{"$f":"Feuil4!D21","v":0},{"$f":"Feuil4!E21","v":0},{"$f":"Feuil4!F21","v":0},{"$f":"Feuil4!G21","v":0},{"$f":"Feuil4!H21","v":0},{"$f":"Feuil4!I21","v":0},{"$f":"Feuil4!J21","v":0},{"$f":"Feuil4!K21","v":0},{"$f":"Feuil4!L21","v":0},{"$f":"Feuil4!M21","v":0},{"$f":"Feuil4!N21","v":0},{"$f":"Feuil4!O21","v":0},{"$f":"Feuil4!P21","v":0},{"$f":"Feuil4!Q21","v":0},{"$f":"Feuil4!R21","v":0},{"$f":"Feuil4!S21","v":0},{"$f":"Feuil4!T21","v":0},{"$f":"Feuil4!U21","v":0},{"$f":"Feuil4!V21","v":0},{"$f":"Feuil4!W21","v":0},{"$f":"Feuil4!X21","v":0},{"$f":"Feuil4!Y21","v":0},{"$f":"Feuil4!Z21","v":0},{"$f":"Feuil4!AA21","v":0},{"$f":"Feuil4!AB21","v":0},{"$f":"Feuil4!AC21","v":0},{"$f":"Feuil4!AD21","v":0},{"$f":"Feuil4!AE21","v":0},{"$f":"Feuil4!AF21","v":0},{"$f":"Feuil4!AG21","v":0},{"$f":"Feuil4!AH21","v":0},{"$f":"Feuil4!AI21","v":0},{"$f":"Feuil4!AJ21","v":0},{"$f":"Feuil4!AK21","v":0},{"$f":"Feuil4!AL21","v":0},{"$f":"Feuil4!AM21","v":0},{"$f":"Feuil4!AN21","v":"00:00:00"},{"$f":"Feuil4!AO21","v":0}]
[{"$f":"Feuil4!A22","v":0},{"$f":"Feuil4!B22","v":{"$error":"#VALUE!"}},{"$f":"Feuil4!C22","v":0},{"$f":"Feuil4!D22","v":0},{"$f":"Feuil4!E22","v":0},{"$f":"Feuil4!F22","v":0},{"$f":"Feuil4!G22","v":0},{"$f":"Feuil4!H22","v":0},{"$f":"Feuil4!I22","v":0},{"$f":"Feuil4!J22","v":0},{"$f":"Feuil4!K22","v":0},{"$f":"Feuil4!L22","v":0},{"$f":"Feuil4!M22","v":0},{"$f":"Feuil4!N22","v":0},{"$f":"Feuil4!O22","v":0},{"$f":"Feuil4!P22","v":0},{"$f":"Feuil4!Q22","v":0},{"$f":"Feuil4!R22","v":0},{"$f":"Feuil4!S22","v":0},{"$f":"Feuil4!T22","v":0},{"$f":"Feuil4!U22","v":0},{"$f":"Feuil4!V22","v":0},{"$f":"Feuil4!W22","v":0},{"$f":"Feuil4!X22","v":0},{"$f":"Feuil4!Y22","v":0},{"$f":"Feuil4!Z22","v":0},{"$f":"Feuil4!AA22","v":0},{"$f":"Feuil4!AB22","v":0},{"$f":"Feuil4!AC22","v":0},{"$f":"Feuil4!AD22","v":0},{"$f":"Feuil4!AE22","v":0},{"$f":"Feuil4!AF22","v":0},{"$f":"Feuil4!AG22","v":0},{"$f":"Feuil4!AH22","v":0},{"$f":"Feuil4!AI22","v":0},{"$f":"Feuil4!AJ22","v":0},{"$f":"Feuil4!AK22","v":0},{"$f":"Feuil4!AL22","v":0},{"$f":"Feuil4!AM22","v":0},{"$f":"Feuil4!AN22","v":"00:00:00"},{"$f":"Feuil4!AO22","v":0}]
[{"$f":"Feuil4!A23","v":0},{"$f":"Feuil4!B23","v":{"$error":"#VALUE!"}},{"$f":"Feuil4!C23","v":0},{"$f":"Feuil4!D23","v":0},{"$f":"Feuil4!E23","v":0},{"$f":"Feuil4!F23","v":0},{"$f":"Feuil4!G23","v":0},{"$f":"Feuil4!H23","v":0},{"$f":"Feuil4!I23","v":0},{"$f":"Feuil4!J23","v":0},{"$f":"Feuil4!K23","v":0},{"$f":"Feuil4!L23","v":0},{"$f":"Feuil4!M23","v":0},{"$f":"Feuil4!N23","v":0},{"$f":"Feuil4!O23","v":0},{"$f":"Feuil4!P23","v":0},{"$f":"Feuil4!Q23","v":0},{"$f":"Feuil4!R23","v":0},{"$f":"Feuil4!S23","v":0},{"$f":"Feuil4!T23","v":0},{"$f":"Feuil4!U23","v":0},{"$f":"Feuil4!V23","v":0},{"$f":"Feuil4!W23","v":0},{"$f":"Feuil4!X23","v":0},{"$f":"Feuil4!Y23","v":0},{"$f":"Feuil4!Z23","v":0},{"$f":"Feuil4!AA23","v":0},{"$f":"Feuil4!AB23","v":0},{"$f":"Feuil4!AC23","v":0},{"$f":"Feuil4!AD23","v":0},{"$f":"Feuil4!AE23","v":0},{"$f":"Feuil4!AF23","v":0},{"$f":"Feuil4!AG23","v":0},{"$f":"Feuil4!AH23","v":0},{"$f":"Feuil4!AI23","v":0},{"$f":"Feuil4!AJ23","v":0},{"$f":"Feuil4!AK23","v":0},{"$f":"Feuil4!AL23","v":0},{"$f":"Feuil4!AM23","v":0},{"$f":"Feuil4!AN23","v":"00:00:00"},{"$f":"Feuil4!AO23","v":0}]
[{"$f":"Feuil4!A24","v":0},{"$f":"Feuil4!B24","v":{"$error":"#VALUE!"}},{"$f":"Feuil4!C24","v":0},{"$f":"Feuil4!D24","v":0},{"$f":"Feuil4!E24","v":0},{"$f":"Feuil4!F24","v":0},{"$f":"Feuil4!G24","v":0},{"$f":"Feuil4!H24","v":0},{"$f":"Feuil4!I24","v":0},{"$f":"Feuil4!J24","v":0},{"$f":"Feuil4!K24","v":0},{"$f":"Feuil4!L24","v":0},{"$f":"Feuil4!M24","v":0},{"$f":"Feuil4!N24","v":0},{"$f":"Feuil4!O24","v":0},{"$f":"Feuil4!P24","v":0},{"$f":"Feuil4!Q24","v":0},{"$f":"Feuil4!R24","v":0},{"$f":"Feuil4!S24","v":0},{"$f":"Feuil4!T24","v":0},{"$f":"Feuil4!U24","v":0},{"$f":"Feuil4!V24","v":0},{"$f":"Feuil4!W24","v":0},{"$f":"Feuil4!X24","v":0},{"$f":"Feuil4!Y24","v":0},{"$f":"Feuil4!Z24","v":0},{"$f":"Feuil4!AA24","v":0},{"$f":"Feuil4!AB24","v":0},{"$f":"Feuil4!AC24","v":0},{"$f":"Feuil4!AD24","v":0},{"$f":"Feuil4!AE24","v":0},{"$f":"Feuil4!AF24","v":0},{"$f":"Feuil4!AG24","v":0},{"$f":"Feuil4!AH24","v":0},{"$f":"Feuil4!AI24","v":0},{"$f":"Feuil4!AJ24","v":0},{"$f":"Feuil4!AK24","v":0},{"$f":"Feuil4!AL24","v":0},{"$f":"Feuil4!AM24","v":0},{"$f":"Feuil4!AN24","v":"00:00:00"},{"$f":"Feuil4!AO24","v":0}]
[{"$f":"Feuil4!A25","v":0},{"$f":"Feuil4!B25","v":{"$error":"#VALUE!"}},{"$f":"Feuil4!C25","v":0},{"$f":"Feuil4!D25","v":0},{"$f":"Feuil4!E25","v":0},{"$f":"Feuil4!F25","v":0},{"$f":"Feuil4!G25","v":0},{"$f":"Feuil4!H25","v":0},{"$f":"Feuil4!I25","v":0},{"$f":"Feuil4!J25","v":0},{"$f":"Feuil4!K25","v":0},{"$f":"Feuil4!L25","v":0},{"$f":"Feuil4!M25","v":0},{"$f":"Feuil4!N25","v":0},{"$f":"Feuil4!O25","v":0},{"$f":"Feuil4!P25","v":0},{"$f":"Feuil4!Q25","v":0},{"$f":"Feuil4!R25","v":0},{"$f":"Feuil4!S25","v":0},{"$f":"Feuil4!T25","v":0},{"$f":"Feuil4!U25","v":0},{"$f":"Feuil4!V25","v":0},{"$f":"Feuil4!W25","v":0},{"$f":"Feuil4!X25","v":0},{"$f":"Feuil4!Y25","v":0},{"$f":"Feuil4!Z25","v":0},{"$f":"Feuil4!AA25","v":0},{"$f":"Feuil4!AB25","v":0},{"$f":"Feuil4!AC25","v":0},{"$f":"Feuil4!AD25","v":0},{"$f":"Feuil4!AE25","v":0},{"$f":"Feuil4!AF25","v":0},{"$f":"Feuil4!AG25","v":0},{"$f":"Feuil4!AH25","v":0},{"$f":"Feuil4!AI25","v":0},{"$f":"Feuil4!AJ25","v":0},{"$f":"Feuil4!AK25","v":0},{"$f":"Feuil4!AL25","v":0},{"$f":"Feuil4!AM25","v":0},{"$f":"Feuil4!AN25","v":"00:00:00"},{"$f":"Feuil4!AO25","v":0}]
[{"$f":"Feuil4!A26","v":0},{"$f":"Feuil4!B26","v":{"$error":"#VALUE!"}},{"$f":"Feuil4!C26","v":0},{"$f":"Feuil4!D26","v":0},{"$f":"Feuil4!E26","v":0},{"$f":"Feuil4!F26","v":0},{"$f":"Feuil4!G26","v":0},{"$f":"Feuil4!H26","v":0},{"$f":"Feuil4!I26","v":0},{"$f":"Feuil4!J26","v":0},{"$f":"Feuil4!K26","v":0},{"$f":"Feuil4!L26","v":0},{"$f":"Feuil4!M26","v":0},{"$f":"Feuil4!N26","v":0},{"$f":"Feuil4!O26","v":0},{"$f":"Feuil4!P26","v":0},{"$f":"Feuil4!Q26","v":0},{"$f":"Feuil4!R26","v":0},{"$f":"Feuil4!S26","v":0},{"$f":"Feuil4!T26","v":0},{"$f":"Feuil4!U26","v":0},{"$f":"Feuil4!V26","v":0},{"$f":"Feuil4!W26","v":0},{"$f":"Feuil4!X26","v":0},{"$f":"Feuil4!Y26","v":0},{"$f":"Feuil4!Z26","v":0},{"$f":"Feuil4!AA26","v":0},{"$f":"Feuil4!AB26","v":0},{"$f":"Feuil4!AC26","v":0},{"$f":"Feuil4!AD26","v":0},{"$f":"Feuil4!AE26","v":0},{"$f":"Feuil4!AF26","v":0},{"$f":"Feuil4!AG26","v":0},{"$f":"Feuil4!AH26","v":0},{"$f":"Feuil4!AI26","v":0},{"$f":"Feuil4!AJ26","v":0},{"$f":"Feuil4!AK26","v":0},{"$f":"Feuil4!AL26","v":0},{"$f":"Feuil4!AM26","v":0},{"$f":"Feuil4!AN26","v":"00:00:00"},{"$f":"Feuil4!AO26","v":0}]
[{"$f":"Feuil4!A27","v":0},{"$f":"Feuil4!B27","v":{"$error":"#VALUE!"}},{"$f":"Feuil4!C27","v":0},{"$f":"Feuil4!D27","v":0},{"$f":"Feuil4!E27","v":0},{"$f":"Feuil4!F27","v":0},{"$f":"Feuil4!G27","v":0},{"$f":"Feuil4!H27","v":0},{"$f":"Feuil4!I27","v":0},{"$f":"Feuil4!J27","v":0},{"$f":"Feuil4!K27","v":0},{"$f":"Feuil4!L27","v":0},{"$f":"Feuil4!M27","v":0},{"$f":"Feuil4!N27","v":0},{"$f":"Feuil4!O27","v":0},{"$f":"Feuil4!P27","v":0},{"$f":"Feuil4!Q27","v":0},{"$f":"Feuil4!R27","v":0},{"$f":"Feuil4!S27","v":0},{"$f":"Feuil4!T27","v":0},{"$f":"Feuil4!U27","v":0},{"$f":"Feuil4!V27","v":0},{"$f":"Feuil4!W27","v":0},{"$f":"Feuil4!X27","v":0},{"$f":"Feuil4!Y27","v":0},{"$f":"Feuil4!Z27","v":0},{"$f":"Feuil4!AA27","v":0},{"$f":"Feuil4!AB27","v":0},{"$f":"Feuil4!AC27","v":0},{"$f":"Feuil4!AD27","v":0},{"$f":"Feuil4!AE27","v":0},{"$f":"Feuil4!AF27","v":0},{"$f":"Feuil4!AG27","v":0},{"$f":"Feuil4!AH27","v":0},{"$f":"Feuil4!AI27","v":0},{"$f":"Feuil4!AJ27","v":0},{"$f":"Feuil4!AK27","v":0},{"$f":"Feuil4!AL27","v":0},{"$f":"Feuil4!AM27","v":0},{"$f":"Feuil4!AN27","v":"00:00:00"},{"$f":"Feuil4!AO27","v":0}]
[{"$f":"Feuil4!A28","v":0},{"$f":"Feuil4!B28","v":{"$error":"#VALUE!"}},{"$f":"Feuil4!C28","v":0},{"$f":"Feuil4!D28","v":0},{"$f":"Feuil4!E28","v":0},{"$f":"Feuil4!F28","v":0},{"$f":"Feuil4!G28","v":0},{"$f":"Feuil4!H28","v":0},{"$f":"Feuil4!I28","v":0},{"$f":"Feuil4!J28","v":0},{"$f":"Feuil4!K28","v":0},{"$f":"Feuil4!L28","v":0},{"$f":"Feuil4!M28","v":0},{"$f":"Feuil4!N28","v":0},{"$f":"Feuil4!O28","v":0},{"$f":"Feuil4!P28","v":0},{"$f":"Feuil4!Q28","v":0},{"$f":"Feuil4!R28","v":0},{"$f":"Feuil4!S28","v":0},{"$f":"Feuil4!T28","v":0},{"$f":"Feuil4!U28","v":0},{"$f":"Feuil4!V28","v":0},{"$f":"Feuil4!W28","v":0},{"$f":"Feuil4!X28","v":0},{"$f":"Feuil4!Y28","v":0},{"$f":"Feuil4!Z28","v":0},{"$f":"Feuil4!AA28","v":0},{"$f":"Feuil4!AB28","v":0},{"$f":"Feuil4!AC28","v":0},{"$f":"Feuil4!AD28","v":0},{"$f":"Feuil4!AE28","v":0},{"$f":"Feuil4!AF28","v":0},{"$f":"Feuil4!AG28","v":0},{"$f":"Feuil4!AH28","v":0},{"$f":"Feuil4!AI28","v":0},{"$f":"Feuil4!AJ28","v":0},{"$f":"Feuil4!AK28","v":0},{"$f":"Feuil4!AL28","v":0},{"$f":"Feuil4!AM28","v":0},{"$f":"Feuil4!AN28","v":"00:00:00"},{"$f":"Feuil4!AO28","v":0}]
[{"$f":"Feuil4!A29","v":0},{"$f":"Feuil4!B29","v":{"$error":"#VALUE!"}},{"$f":"Feuil4!C29","v":0},{"$f":"Feuil4!D29","v":0},{"$f":"Feuil4!E29","v":0},{"$f":"Feuil4!F29","v":0},{"$f":"Feuil4!G29","v":0},{"$f":"Feuil4!H29","v":0},{"$f":"Feuil4!I29","v":0},{"$f":"Feuil4!J29","v":0},{"$f":"Feuil4!K29","v":0},{"$f":"Feuil4!L29","v":0},{"$f":"Feuil4!M29","v":0},{"$f":"Feuil4!N29","v":0},{"$f":"Feuil4!O29","v":0},{"$f":"Feuil4!P29","v":0},{"$f":"Feuil4!Q29","v":0},{"$f":"Feuil4!R29","v":0},{"$f":"Feuil4!S29","v":0},{"$f":"Feuil4!T29","v":0},{"$f":"Feuil4!U29","v":0},{"$f":"Feuil4!V29","v":0},{"$f":"Feuil4!W29","v":0},{"$f":"Feuil4!X29","v":0},{"$f":"Feuil4!Y29","v":0},{"$f":"Feuil4!Z29","v":0},{"$f":"Feuil4!AA29","v":0},{"$f":"Feuil4!AB29","v":0},{"$f":"Feuil4!AC29","v":0},{"$f":"Feuil4!AD29","v":0},{"$f":"Feuil4!AE29","v":0},{"$f":"Feuil4!AF29","v":0},{"$f":"Feuil4!AG29","v":0},{"$f":"Feuil4!AH29","v":0},{"$f":"Feuil4!AI29","v":0},{"$f":"Feuil4!AJ29","v":0},{"$f":"Feuil4!AK29","v":0},{"$f":"Feuil4!AL29","v":0},{"$f":"Feuil4!AM29","v":0},{"$f":"Feuil4!AN29","v":"00:00:00"},{"$f":"Feuil4!AO29","v":0}]
[{"$f":"Feuil4!A30","v":0},{"$f":"Feuil4!B30","v":{"$error":"#VALUE!"}},{"$f":"Feuil4!C30","v":0},{"$f":"Feuil4!D30","v":0},{"$f":"Feuil4!E30","v":0},{"$f":"Feuil4!F30","v":0},{"$f":"Feuil4!G30","v":0},{"$f":"Feuil4!H30","v":0},{"$f":"Feuil4!I30","v":0},{"$f":"Feuil4!J30","v":0},{"$f":"Feuil4!K30","v":0},{"$f":"Feuil4!L30","v":0},{"$f":"Feuil4!M30","v":0},{"$f":"Feuil4!N30","v":0},{"$f":"Feuil4!O30","v":0},{"$f":"Feuil4!P30","v":0},{"$f":"Feuil4!Q30","v":0},{"$f":"Feuil4!R30","v":0},{"$f":"Feuil4!S30","v":0},{"$f":"Feuil4!T30","v":0},{"$f":"Feuil4!U30","v":0},{"$f":"Feuil4!V30","v":0},{"$f":"Feuil4!W30","v":0},{"$f":"Feuil4!X30","v":0},{"$f":"Feuil4!Y30","v":0},{"$f":"Feuil4!Z30","v":0},{"$f":"Feuil4!AA30","v":0},{"$f":"Feuil4!AB30","v":0},{"$f":"Feuil4!AC30","v":0},{"$f":"Feuil4!AD30","v":0},{"$f":"Feuil4!AE30","v":0},{"$f":"Feuil4!AF30","v":0},{"$f":"Feuil4!AG30","v":0},{"$f":"Feuil4!AH30","v":0},{"$f":"Feuil4!AI30","v":0},{"$f":"Feuil4!AJ30","v":0},{"$f":"Feuil4!AK30","v":0},{"$f":"Feuil4!AL30","v":0},{"$f":"Feuil4!AM30","v":0},{"$f":"Feuil4!AN30","v":"00:00:00"},{"$f":"Feuil4!AO30","v":0}]
[{"$f":"Feuil4!A31","v":0},{"$f":"Feuil4!B31","v":{"$error":"#VALUE!"}},{"$f":"Feuil4!C31","v":0},{"$f":"Feuil4!D31","v":0},{"$f":"Feuil4!E31","v":0},{"$f":"Feuil4!F31","v":0},{"$f":"Feuil4!G31","v":0},{"$f":"Feuil4!H31","v":0},{"$f":"Feuil4!I31","v":0},{"$f":"Feuil4!J31","v":0},{"$f":"Feuil4!K31","v":0},{"$f":"Feuil4!L31","v":0},{"$f":"Feuil4!M31","v":0},{"$f":"Feuil4!N31","v":0},{"$f":"Feuil4!O31","v":0},{"$f":"Feuil4!P31","v":0},{"$f":"Feuil4!Q31","v":0},{"$f":"Feuil4!R31","v":0},{"$f":"Feuil4!S31","v":0},{"$f":"Feuil4!T31","v":0},{"$f":"Feuil4!U31","v":0},{"$f":"Feuil4!V31","v":0},{"$f":"Feuil4!W31","v":0},{"$f":"Feuil4!X31","v":0},{"$f":"Feuil4!Y31","v":0},{"$f":"Feuil4!Z31","v":0},{"$f":"Feuil4!AA31","v":0},{"$f":"Feuil4!AB31","v":0},{"$f":"Feuil4!AC31","v":0},{"$f":"Feuil4!AD31","v":0},{"$f":"Feuil4!AE31","v":0},{"$f":"Feuil4!AF31","v":0},{"$f":"Feuil4!AG31","v":0},{"$f":"Feuil4!AH31","v":0},{"$f":"Feuil4!AI31","v":0},{"$f":"Feuil4!AJ31","v":0},{"$f":"Feuil4!AK31","v":0},{"$f":"Feuil4!AL31","v":0},{"$f":"Feuil4!AM31","v":0},{"$f":"Feuil4!AN31","v":"00:00:00"},{"$f":"Feuil4!AO31","v":0}]
[{"$f":"Feuil4!A32","v":0},{"$f":"Feuil4!B32","v":{"$error":"#VALUE!"}},{"$f":"Feuil4!C32","v":0},{"$f":"Feuil4!D32","v":0},{"$f":"Feuil4!E32","v":0},{"$f":"Feuil4!F32","v":0},{"$f":"Feuil4!G32","v":0},{"$f":"Feuil4!H32","v":0},{"$f":"Feuil4!I32","v":0},{"$f":"Feuil4!J32","v":0},{"$f":"Feuil4!K32","v":0},{"$f":"Feuil4!L32","v":0},{"$f":"Feuil4!M32","v":0},{"$f":"Feuil4!N32","v":0},{"$f":"Feuil4!O32","v":0},{"$f":"Feuil4!P32","v":0},{"$f":"Feuil4!Q32","v":0},{"$f":"Feuil4!R32","v":0},{"$f":"Feuil4!S32","v":0},{"$f":"Feuil4!T32","v":0},{"$f":"Feuil4!U32","v":0},{"$f":"Feuil4!V32","v":0},{"$f":"Feuil4!W32","v":0},{"$f":"Feuil4!X32","v":0},{"$f":"Feuil4!Y32","v":0},{"$f":"Feuil4!Z32","v":0},{"$f":"Feuil4!AA32","v":0},{"$f":"Feuil4!AB32","v":0},{"$f":"Feuil4!AC32","v":0},{"$f":"Feuil4!AD32","v":0},{"$f":"Feuil4!AE32","v":0},{"$f":"Feuil4!AF32","v":0},{"$f":"Feuil4!AG32","v":0},{"$f":"Feuil4!AH32","v":0},{"$f":"Feuil4!AI32","v":0},{"$f":"Feuil4!AJ32","v":0},{"$f":"Feuil4!AK32","v":0},{"$f":"Feuil4!AL32","v":0},{"$f":"Feuil4!AM32","v":0},{"$f":"Feuil4!AN32","v":"00:00:00"},{"$f":"Feuil4!AO32","v":0}]
[{"$f":"Feuil4!A33","v":0},{"$f":"Feuil4!B33","v":{"$error":"#VALUE!"}},{"$f":"Feuil4!C33","v":0},{"$f":"Feuil4!D33","v":0},{"$f":"Feuil4!E33","v":0},{"$f":"Feuil4!F33","v":0},{"$f":"Feuil4!G33","v":0},{"$f":"Feuil4!H33","v":0},{"$f":"Feuil4!I33","v":0},{"$f":"Feuil4!J33","v":0},{"$f":"Feuil4!K33","v":0},{"$f":"Feuil4!L33","v":0},{"$f":"Feuil4!M33","v":0},{"$f":"Feuil4!N33","v":0},{"$f":"Feuil4!O33","v":0},{"$f":"Feuil4!P33","v":0},{"$f":"Feuil4!Q33","v":0},{"$f":"Feuil4!R33","v":0},{"$f":"Feuil4!S33","v":0},{"$f":"Feuil4!T33","v":0},{"$f":"Feuil4!U33","v":0},{"$f":"Feuil4!V33","v":0},{"$f":"Feuil4!W33","v":0},{"$f":"Feuil4!X33","v":0},{"$f":"Feuil4!Y33","v":0},{"$f":"Feuil4!Z33","v":0},{"$f":"Feuil4!AA33","v":0},{"$f":"Feuil4!AB33","v":0},{"$f":"Feuil4!AC33","v":0},{"$f":"Feuil4!AD33","v":0},{"$f":"Feuil4!AE33","v":0},{"$f":"Feuil4!AF33","v":0},{"$f":"Feuil4!AG33","v":0},{"$f":"Feuil4!AH33","v":0},{"$f":"Feuil4!AI33","v":0},{"$f":"Feuil4!AJ33","v":0},{"$f":"Feuil4!AK33","v":0},{"$f":"Feuil4!AL33","v":0},{"$f":"Feuil4!AM33","v":0},{"$f":"Feuil4!AN33","v":"00:00:00"},{"$f":"Feuil4!AO33","v":0}]
[{"$f":"Feuil4!A34","v":0},{"$f":"Feuil4!B34","v":{"$error":"#VALUE!"}},{"$f":"Feuil4!C34","v":0},{"$f":"Feuil4!D34","v":0},{"$f":"Feuil4!E34","v":0},{"$f":"Feuil4!F34","v":0},{"$f":"Feuil4!G34","v":0},{"$f":"Feuil4!H34","v":0},{"$f":"Feuil4!I34","v":0},{"$f":"Feuil4!J34","v":0},{"$f":"Feuil4!K34","v":0},{"$f":"Feuil4!L34","v":0},{"$f":"Feuil4!M34","v":0},{"$f":"Feuil4!N34","v":0},{"$f":"Feuil4!O34","v":0},{"$f":"Feuil4!P34","v":0},{"$f":"Feuil4!Q34","v":0},{"$f":"Feuil4!R34","v":0},{"$f":"Feuil4!S34","v":0},{"$f":"Feuil4!T34","v":0},{"$f":"Feuil4!U34","v":0},{"$f":"Feuil4!V34","v":0},{"$f":"Feuil4!W34","v":0},{"$f":"Feuil4!X34","v":0},{"$f":"Feuil4!Y34","v":0},{"$f":"Feuil4!Z34","v":0},{"$f":"Feuil4!AA34","v":0},{"$f":"Feuil4!AB34","v":0},{"$f":"Feuil4!AC34","v":0},{"$f":"Feuil4!AD34","v":0},{"$f":"Feuil4!AE34","v":0},{"$f":"Feuil4!AF34","v":0},{"$f":"Feuil4!AG34","v":0},{"$f":"Feuil4!AH34","v":0},{"$f":"Feuil4!AI34","v":0},{"$f":"Feuil4!AJ34","v":0},{"$f":"Feuil4!AK34","v":0},{"$f":"Feuil4!AL34","v":0},{"$f":"Feuil4!AM34","v":0},{"$f":"Feuil4!AN34","v":"00:00:00"},{"$f":"Feuil4!AO34","v":0}]
[{"$f":"Feuil4!A35","v":0},{"$f":"Feuil4!B35","v":{"$error":"#VALUE!"}},{"$f":"Feuil4!C35","v":0},{"$f":"Feuil4!D35","v":0},{"$f":"Feuil4!E35","v":0},{"$f":"Feuil4!F35","v":0},{"$f":"Feuil4!G35","v":0},{"$f":"Feuil4!H35","v":0},{"$f":"Feuil4!I35","v":0},{"$f":"Feuil4!J35","v":0},{"$f":"Feuil4!K35","v":0},{"$f":"Feuil4!L35","v":0},{"$f":"Feuil4!M35","v":0},{"$f":"Feuil4!N35","v":0},{"$f":"Feuil4!O35","v":0},{"$f":"Feuil4!P35","v":0},{"$f":"Feuil4!Q35","v":0},{"$f":"Feuil4!R35","v":0},{"$f":"Feuil4!S35","v":0},{"$f":"Feuil4!T35","v":0},{"$f":"Feuil4!U35","v":0},{"$f":"Feuil4!V35","v":0},{"$f":"Feuil4!W35","v":0},{"$f":"Feuil4!X35","v":0},{"$f":"Feuil4!Y35","v":0},{"$f":"Feuil4!Z35","v":0},{"$f":"Feuil4!AA35","v":0},{"$f":"Feuil4!AB35","v":0},{"$f":"Feuil4!AC35","v":0},{"$f":"Feuil4!AD35","v":0},{"$f":"Feuil4!AE35","v":0},{"$f":"Feuil4!AF35","v":0},{"$f":"Feuil4!AG35","v":0},{"$f":"Feuil4!AH35","v":0},{"$f":"Feuil4!AI35","v":0},{"$f":"Feuil4!AJ35","v":0},{"$f":"Feuil4!AK35","v":0},{"$f":"Feuil4!AL35","v":0},{"$f":"Feuil4!AM35","v":0},{"$f":"Feuil4!AN35","v":"00:00:00"},{"$f":"Feuil4!AO35","v":0}]
[{"$f":"Feuil4!A36","v":0},{"$f":"Feuil4!B36","v":{"$error":"#VALUE!"}},{"$f":"Feuil4!C36","v":0},{"$f":"Feuil4!D36","v":0},{"$f":"Feuil4!E36","v":0},{"$f":"Feuil4!F36","v":0},{"$f":"Feuil4!G36","v":0},{"$f":"Feuil4!H36","v":0},{"$f":"Feuil4!I36","v":0},{"$f":"Feuil4!J36","v":0},{"$f":"Feuil4!K36","v":0},{"$f":"Feuil4!L36","v":0},{"$f":"Feuil4!M36","v":0},{"$f":"Feuil4!N36","v":0},{"$f":"Feuil4!O36","v":0},{"$f":"Feuil4!P36","v":0},{"$f":"Feuil4!Q36","v":0},{"$f":"Feuil4!R36","v":0},{"$f":"Feuil4!S36","v":0},{"$f":"Feuil4!T36","v":0},{"$f":"Feuil4!U36","v":0},{"$f":"Feuil4!V36","v":0},{"$f":"Feuil4!W36","v":0},{"$f":"Feuil4!X36","v":0},{"$f":"Feuil4!Y36","v":0},{"$f":"Feuil4!Z36","v":0},{"$f":"Feuil4!AA36","v":0},{"$f":"Feuil4!AB36","v":0},{"$f":"Feuil4!AC36","v":0},{"$f":"Feuil4!AD36","v":0},{"$f":"Feuil4!AE36","v":0},{"$f":"Feuil4!AF36","v":0},{"$f":"Feuil4!AG36","v":0},{"$f":"Feuil4!AH36","v":0},{"$f":"Feuil4!AI36","v":0},{"$f":"Feuil4!AJ36","v":0},{"$f":"Feuil4!AK36","v":0},{"$f":"Feuil4!AL36","v":0},{"$f":"Feuil4!AM36","v":0},{"$f":"Feuil4!AN36","v":"00:00:00"},{"$f":"Feuil4!AO36","v":0}]
[{"$f":"Feuil4!A37","v":0},{"$f":"Feuil4!B37","v":{"$error":"#VALUE!"}},{"$f":"Feuil4!C37","v":0},{"$f":"Feuil4!D37","v":0},{"$f":"Feuil4!E37","v":0},{"$f":"Feuil4!F37","v":0},{"$f":"Feuil4!G37","v":0},{"$f":"Feuil4!H37","v":0},{"$f":"Feuil4!I37","v":0},{"$f":"Feuil4!J37","v":0},{"$f":"Feuil4!K37","v":0},{"$f":"Feuil4!L37","v":0},{"$f":"Feuil4!M37","v":0},{"$f":"Feuil4!N37","v":0},{"$f":"Feuil4!O37","v":0},{"$f":"Feuil4!P37","v":0},{"$f":"Feuil4!Q37","v":0},{"$f":"Feuil4!R37","v":0},{"$f":"Feuil4!S37","v":0},{"$f":"Feuil4!T37","v":0},{"$f":"Feuil4!U37","v":0},{"$f":"Feuil4!V37","v":0},{"$f":"Feuil4!W37","v":0},{"$f":"Feuil4!X37","v":0},{"$f":"Feuil4!Y37","v":0},{"$f":"Feuil4!Z37","v":0},{"$f":"Feuil4!AA37","v":0},{"$f":"Feuil4!AB37","v":0},{"$f":"Feuil4!AC37","v":0},{"$f":"Feuil4!AD37","v":0},{"$f":"Feuil4!AE37","v":0},{"$f":"Feuil4!AF37","v":0},{"$f":"Feuil4!AG37","v":0},{"$f":"Feuil4!AH37","v":0},{"$f":"Feuil4!AI37","v":0},{"$f":"Feuil4!AJ37","v":0},{"$f":"Feuil4!AK37","v":0},{"$f":"Feuil4!AL37","v":0},{"$f":"Feuil4!AM37","v":0},{"$f":"Feuil4!AN37","v":"00:00:00"},{"$f":"Feuil4!AO37","v":0}]
[{"$f":"Feuil4!A38","v":0},{"$f":"Feuil4!B38","v":{"$error":"#VALUE!"}},{"$f":"Feuil4!C38","v":0},{"$f":"Feuil4!D38","v":0},{"$f":"Feuil4!E38","v":0},{"$f":"Feuil4!F38","v":0},{"$f":"Feuil4!G38","v":0},{"$f":"Feuil4!H38","v":0},{"$f":"Feuil4!I38","v":0},{"$f":"Feuil4!J38","v":0},{"$f":"Feuil4!K38","v":0},{"$f":"Feuil4!L38","v":0},{"$f":"Feuil4!M38","v":0},{"$f":"Feuil4!N38","v":0},{"$f":"Feuil4!O38","v":0},{"$f":"Feuil4!P38","v":0},{"$f":"Feuil4!Q38","v":0},{"$f":"Feuil4!R38","v":0},{"$f":"Feuil4!S38","v":0},{"$f":"Feuil4!T38","v":0},{"$f":"Feuil4!U38","v":0},{"$f":"Feuil4!V38","v":0},{"$f":"Feuil4!W38","v":0},{"$f":"Feuil4!X38","v":0},{"$f":"Feuil4!Y38","v":0},{"$f":"Feuil4!Z38","v":0},{"$f":"Feuil4!AA38","v":0},{"$f":"Feuil4!AB38","v":0},{"$f":"Feuil4!AC38","v":0},{"$f":"Feuil4!AD38","v":0},{"$f":"Feuil4!AE38","v":0},{"$f":"Feuil4!AF38","v":0},{"$f":"Feuil4!AG38","v":0},{"$f":"Feuil4!AH38","v":0},{"$f":"Feuil4!AI38","v":0},{"$f":"Feuil4!AJ38","v":0},{"$f":"Feuil4!AK38","v":0},{"$f":"Feuil4!AL38","v":0},{"$f":"Feuil4!AM38","v":0},{"$f":"Feuil4!AN38","v":"00:00:00"},{"$f":"Feuil4!AO38","v":0}]
[{"$f":"Feuil4!A39","v":0},{"$f":"Feuil4!B39","v":{"$error":"#VALUE!"}},{"$f":"Feuil4!C39","v":0},{"$f":"Feuil4!D39","v":0},{"$f":"Feuil4!E39","v":0},{"$f":"Feuil4!F39","v":0},{"$f":"Feuil4!G39","v":0},{"$f":"Feuil4!H39","v":0},{"$f":"Feuil4!I39","v":0},{"$f":"Feuil4!J39","v":0},{"$f":"Feuil4!K39","v":0},{"$f":"Feuil4!L39","v":0},{"$f":"Feuil4!M39","v":0},{"$f":"Feuil4!N39","v":0},{"$f":"Feuil4!O39","v":0},{"$f":"Feuil4!P39","v":0},{"$f":"Feuil4!Q39","v":0},{"$f":"Feuil4!R39","v":0},{"$f":"Feuil4!S39","v":0},{"$f":"Feuil4!T39","v":0},{"$f":"Feuil4!U39","v":0},{"$f":"Feuil4!V39","v":0},{"$f":"Feuil4!W39","v":0},{"$f":"Feuil4!X39","v":0},{"$f":"Feuil4!Y39","v":0},{"$f":"Feuil4!Z39","v":0},{"$f":"Feuil4!AA39","v":0},{"$f":"Feuil4!AB39","v":0},{"$f":"Feuil4!AC39","v":0},{"$f":"Feuil4!AD39","v":0},{"$f":"Feuil4!AE39","v":0},{"$f":"Feuil4!AF39","v":0},{"$f":"Feuil4!AG39","v":0},{"$f":"Feuil4!AH39","v":0},{"$f":"Feuil4!AI39","v":0},{"$f":"Feuil4!AJ39","v":0},{"$f":"Feuil4!AK39","v":0},{"$f":"Feuil4!AL39","v":0},{"$f":"Feuil4!AM39","v":0},{"$f":"Feuil4!AN39","v":"00:00:00"},{"$f":"Feuil4!AO39","v":0}]
[{"$f":"Feuil4!A40","v":0},{"$f":"Feuil4!B40","v":{"$error":"#VALUE!"}},{"$f":"Feuil4!C40","v":0},{"$f":"Feuil4!D40","v":0},{"$f":"Feuil4!E40","v":0},{"$f":"Feuil4!F40","v":0},{"$f":"Feuil4!G40","v":0},{"$f":"Feuil4!H40","v":0},{"$f":"Feuil4!I40","v":0},{"$f":"Feuil4!J40","v":0},{"$f":"Feuil4!K40","v":0},{"$f":"Feuil4!L40","v":0},{"$f":"Feuil4!M40","v":0},{"$f":"Feuil4!N40","v":0},{"$f":"Feuil4!O40","v":0},{"$f":"Feuil4!P40","v":0},{"$f":"Feuil4!Q40","v":0},{"$f":"Feuil4!R40","v":0},{"$f":"Feuil4!S40","v":0},{"$f":"Feuil4!T40","v":0},{"$f":"Feuil4!U40","v":0},{"$f":"Feuil4!V40","v":0},{"$f":"Feuil4!W40","v":0},{"$f":"Feuil4!X40","v":0},{"$f":"Feuil4!Y40","v":0},{"$f":"Feuil4!Z40","v":0},{"$f":"Feuil4!AA40","v":0},{"$f":"Feuil4!AB40","v":0},{"$f":"Feuil4!AC40","v":0},{"$f":"Feuil4!AD40","v":0},{"$f":"Feuil4!AE40","v":0},{"$f":"Feuil4!AF40","v":0},{"$f":"Feuil4!AG40","v":0},{"$f":"Feuil4!AH40","v":0},{"$f":"Feuil4!AI40","v":0},{"$f":"Feuil4!AJ40","v":0},{"$f":"Feuil4!AK40","v":0},{"$f":"Feuil4!AL40","v":0},{"$f":"Feuil4!AM40","v":0},{"$f":"Feuil4!AN40","v":"00:00:00"},{"$f":"Feuil4!AO40","v":0}]
[{"$f":"Feuil4!A41","v":0},{"$f":"Feuil4!B41","v":{"$error":"#VALUE!"}},{"$f":"Feuil4!C41","v":0},{"$f":"Feuil4!D41","v":0},{"$f":"Feuil4!E41","v":0},{"$f":"Feuil4!F41","v":0},{"$f":"Feuil4!G41","v":0},{"$f":"Feuil4!H41","v":0},{"$f":"Feuil4!I41","v":0},{"$f":"Feuil4!J41","v":0},{"$f":"Feuil4!K41","v":0},{"$f":"Feuil4!L41","v":0},{"$f":"Feuil4!M41","v":0},{"$f":"Feuil4!N41","v":0},{"$f":"Feuil4!O41","v":0},{"$f":"Feuil4!P41","v":0},{"$f":"Feuil4!Q41","v":0},{"$f":"Feuil4!R41","v":0},{"$f":"Feuil4!S41","v":0},{"$f":"Feuil4!T41","v":0},{"$f":"Feuil4!U41","v":0},{"$f":"Feuil4!V41","v":0},{"$f":"Feuil4!W41","v":0},{"$f":"Feuil4!X41","v":0},{"$f":"Feuil4!Y41","v":0},{"$f":"Feuil4!Z41","v":0},{"$f":"Feuil4!AA41","v":0},{"$f":"Feuil4!AB41","v":0},{"$f":"Feuil4!AC41","v":0},{"$f":"Feuil4!AD41","v":0},{"$f":"Feuil4!AE41","v":0},{"$f":"Feuil4!AF41","v":0},{"$f":"Feuil4!AG41","v":0},{"$f":"Feuil4!AH41","v":0},{"$f":"Feuil4!AI41","v":0},{"$f":"Feuil4!AJ41","v":0},{"$f":"Feuil4!AK41","v":0},{"$f":"Feuil4!AL41","v":0},{"$f":"Feuil4!AM41","v":0},{"$f":"Feuil4!AN41","v":"00:00:00"},{"$f":"Feuil4!AO41","v":0}]
[{"$f":"Feuil4!A42","v":0},{"$f":"Feuil4!B42","v":{"$error":"#VALUE!"}},{"$f":"Feuil4!C42","v":0},{"$f":"Feuil4!D42","v":0},{"$f":"Feuil4!E42","v":0},{"$f":"Feuil4!F42","v":0},{"$f":"Feuil4!G42","v":0},{"$f":"Feuil4!H42","v":0},{"$f":"Feuil4!I42","v":0},{"$f":"Feuil4!J42","v":0},{"$f":"Feuil4!K42","v":0},{"$f":"Feuil4!L42","v":0},{"$f":"Feuil4!M42","v":0},{"$f":"Feuil4!N42","v":0},{"$f":"Feuil4!O42","v":0},{"$f":"Feuil4!P42","v":0},{"$f":"Feuil4!Q42","v":0},{"$f":"Feuil4!R42","v":0},{"$f":"Feuil4!S42","v":0},{"$f":"Feuil4!T42","v":0},{"$f":"Feuil4!U42","v":0},{"$f":"Feuil4!V42","v":0},{"$f":"Feuil4!W42","v":0},{"$f":"Feuil4!X42","v":0},{"$f":"Feuil4!Y42","v":0},{"$f":"Feuil4!Z42","v":0},{"$f":"Feuil4!AA42","v":0},{"$f":"Feuil4!AB42","v":0},{"$f":"Feuil4!AC42","v":0},{"$f":"Feuil4!AD42","v":0},{"$f":"Feuil4!AE42","v":0},{"$f":"Feuil4!AF42","v":0},{"$f":"Feuil4!AG42","v":0},{"$f":"Feuil4!AH42","v":0},{"$f":"Feuil4!AI42","v":0},{"$f":"Feuil4!AJ42","v":0},{"$f":"Feuil4!AK42","v":0},{"$f":"Feuil4!AL42","v":0},{"$f":"Feuil4!AM42","v":0},{"$f":"Feuil4!AN42","v":"00:00:00"},{"$f":"Feuil4!AO42","v":0}]
[{"$f":"Feuil4!A43","v":0},{"$f":"Feuil4!B43","v":{"$error":"#VALUE!"}},{"$f":"Feuil4!C43","v":0},{"$f":"Feuil4!D43","v":0},{"$f":"Feuil4!E43","v":0},{"$f":"Feuil4!F43","v":0},{"$f":"Feuil4!G43","v":0},{"$f":"Feuil4!H43","v":0},{"$f":"Feuil4!I43","v":0},{"$f":"Feuil4!J43","v":0},{"$f":"Feuil4!K43","v":0},{"$f":"Feuil4!L43","v":0},{"$f":"Feuil4!M43","v":0},{"$f":"Feuil4!N43","v":0},{"$f":"Feuil4!O43","v":0},{"$f":"Feuil4!P43","v":0},{"$f":"Feuil4!Q43","v":0},{"$f":"Feuil4!R43","v":0},{"$f":"Feuil4!S43","v":0},{"$f":"Feuil4!T43","v":0},{"$f":"Feuil4!U43","v":0},{"$f":"Feuil4!V43","v":0},{"$f":"Feuil4!W43","v":0},{"$f":"Feuil4!X43","v":0},{"$f":"Feuil4!Y43","v":0},{"$f":"Feuil4!Z43","v":0},{"$f":"Feuil4!AA43","v":0},{"$f":"Feuil4!AB43","v":0},{"$f":"Feuil4!AC43","v":0},{"$f":"Feuil4!AD43","v":0},{"$f":"Feuil4!AE43","v":0},{"$f":"Feuil4!AF43","v":0},{"$f":"Feuil4!AG43","v":0},{"$f":"Feuil4!AH43","v":0},{"$f":"Feuil4!AI43","v":0},{"$f":"Feuil4!AJ43","v":0},{"$f":"Feuil4!AK43","v":0},{"$f":"Feuil4!AL43","v":0},{"$f":"Feuil4!AM43","v":0},{"$f":"Feuil4!AN43","v":"00:00:00"},{"$f":"Feuil4!AO43","v":0}]
[{"$f":"Feuil4!A44","v":0},{"$f":"Feuil4!B44","v":{"$error":"#VALUE!"}},{"$f":"Feuil4!C44","v":0},{"$f":"Feuil4!D44","v":0},{"$f":"Feuil4!E44","v":0},{"$f":"Feuil4!F44","v":0},{"$f":"Feuil4!G44","v":0},{"$f":"Feuil4!H44","v":0},{"$f":"Feuil4!I44","v":0},{"$f":"Feuil4!J44","v":0},{"$f":"Feuil4!K44","v":0},{"$f":"Feuil4!L44","v":0},{"$f":"Feuil4!M44","v":0},{"$f":"Feuil4!N44","v":0},{"$f":"Feuil4!O44","v":0},{"$f":"Feuil4!P44","v":0},{"$f":"Feuil4!Q44","v":0},{"$f":"Feuil4!R44","v":0},{"$f":"Feuil4!S44","v":0},{"$f":"Feuil4!T44","v":0},{"$f":"Feuil4!U44","v":0},{"$f":"Feuil4!V44","v":0},{"$f":"Feuil4!W44","v":0},{"$f":"Feuil4!X44","v":0},{"$f":"Feuil4!Y44","v":0},{"$f":"Feuil4!Z44","v":0},{"$f":"Feuil4!AA44","v":0},{"$f":"Feuil4!AB44","v":0},{"$f":"Feuil4!AC44","v":0},{"$f":"Feuil4!AD44","v":0},{"$f":"Feuil4!AE44","v":0},{"$f":"Feuil4!AF44","v":0},{"$f":"Feuil4!AG44","v":0},{"$f":"Feuil4!AH44","v":0},{"$f":"Feuil4!AI44","v":0},{"$f":"Feuil4!AJ44","v":0},{"$f":"Feuil4!AK44","v":0},{"$f":"Feuil4!AL44","v":0},{"$f":"Feuil4!AM44","v":0},{"$f":"Feuil4!AN44","v":"00:00:00"},{"$f":"Feuil4!AO44","v":0}]
[{"$f":"Feuil4!A45","v":0},{"$f":"Feuil4!B45","v":{"$error":"#VALUE!"}},{"$f":"Feuil4!C45","v":0},{"$f":"Feuil4!D45","v":0},{"$f":"Feuil4!E45","v":0},{"$f":"Feuil4!F45","v":0},{"$f":"Feuil4!G45","v":0},{"$f":"Feuil4!H45","v":0},{"$f":"Feuil4!I45","v":0},{"$f":"Feuil4!J45","v":0},{"$f":"Feuil4!K45","v":0},{"$f":"Feuil4!L45","v":0},{"$f":"Feuil4!M45","v":0},{"$f":"Feuil4!N45","v":0},{"$f":"Feuil4!O45","v":0},{"$f":"Feuil4!P45","v":0},{"$f":"Feuil4!Q45","v":0},{"$f":"Feuil4!R45","v":0},{"$f":"Feuil4!S45","v":0},{"$f":"Feuil4!T45","v":0},{"$f":"Feuil4!U45","v":0},{"$f":"Feuil4!V45","v":0},{"$f":"Feuil4!W45","v":0},{"$f":"Feuil4!X45","v":0},{"$f":"Feuil4!Y45","v":0},{"$f":"Feuil4!Z45","v":0},{"$f":"Feuil4!AA45","v":0},{"$f":"Feuil4!AB45","v":0},{"$f":"Feuil4!AC45","v":0},{"$f":"Feuil4!AD45","v":0},{"$f":"Feuil4!AE45","v":0},{"$f":"Feuil4!AF45","v":0},{"$f":"Feuil4!AG45","v":0},{"$f":"Feuil4!AH45","v":0},{"$f":"Feuil4!AI45","v":0},{"$f":"Feuil4!AJ45","v":0},{"$f":"Feuil4!AK45","v":0},{"$f":"Feuil4!AL45","v":0},{"$f":"Feuil4!AM45","v":0},{"$f":"Feuil4!AN45","v":"00:00:00"},{"$f":"Feuil4!AO45","v":0}]
[{"$f":"Feuil4!A46","v":0},{"$f":"Feuil4!B46","v":{"$error":"#VALUE!"}},{"$f":"Feuil4!C46","v":0},{"$f":"Feuil4!D46","v":0},{"$f":"Feuil4!E46","v":0},{"$f":"Feuil4!F46","v":0},{"$f":"Feuil4!G46","v":0},{"$f":"Feuil4!H46","v":0},{"$f":"Feuil4!I46","v":0},{"$f":"Feuil4!J46","v":0},{"$f":"Feuil4!K46","v":0},{"$f":"Feuil4!L46","v":0},{"$f":"Feuil4!M46","v":0},{"$f":"Feuil4!N46","v":0},{"$f":"Feuil4!O46","v":0},{"$f":"Feuil4!P46","v":0},{"$f":"Feuil4!Q46","v":0},{"$f":"Feuil4!R46","v":0},{"$f":"Feuil4!S46","v":0},{"$f":"Feuil4!T46","v":0},{"$f":"Feuil4!U46","v":0},{"$f":"Feuil4!V46","v":0},{"$f":"Feuil4!W46","v":0},{"$f":"Feuil4!X46","v":0},{"$f":"Feuil4!Y46","v":0},{"$f":"Feuil4!Z46","v":0},{"$f":"Feuil4!AA46","v":0},{"$f":"Feuil4!AB46","v":0},{"$f":"Feuil4!AC46","v":0},{"$f":"Feuil4!AD46","v":0},{"$f":"Feuil4!AE46","v":0},{"$f":"Feuil4!AF46","v":0},{"$f":"Feuil4!AG46","v":0},{"$f":"Feuil4!AH46","v":0},{"$f":"Feuil4!AI46","v":0},{"$f":"Feuil4!AJ46","v":0},{"$f":"Feuil4!AK46","v":0},{"$f":"Feuil4!AL46","v":0},{"$f":"Feuil4!AM46","v":0},{"$f":"Feuil4!AN46","v":"00:00:00"},{"$f":"Feuil4!AO46","v":0}]
[{"$f":"Feuil4!A47","v":0},{"$f":"Feuil4!B47","v":{"$error":"#VALUE!"}},{"$f":"Feuil4!C47","v":0},{"$f":"Feuil4!D47","v":0},{"$f":"Feuil4!E47","v":0},{"$f":"Feuil4!F47","v":0},{"$f":"Feuil4!G47","v":0},{"$f":"Feuil4!H47","v":0},{"$f":"Feuil4!I47","v":0},{"$f":"Feuil4!J47","v":0},{"$f":"Feuil4!K47","v":0},{"$f":"Feuil4!L47","v":0},{"$f":"Feuil4!M47","v":0},{"$f":"Feuil4!N47","v":0},{"$f":"Feuil4!O47","v":0},{"$f":"Feuil4!P47","v":0},{"$f":"Feuil4!Q47","v":0},{"$f":"Feuil4!R47","v":0},{"$f":"Feuil4!S47","v":0},{"$f":"Feuil4!T47","v":0},{"$f":"Feuil4!U47","v":0},{"$f":"Feuil4!V47","v":0},{"$f":"Feuil4!W47","v":0},{"$f":"Feuil4!X47","v":0},{"$f":"Feuil4!Y47","v":0},{"$f":"Feuil4!Z47","v":0},{"$f":"Feuil4!AA47","v":0},{"$f":"Feuil4!AB47","v":0},{"$f":"Feuil4!AC47","v":0},{"$f":"Feuil4!AD47","v":0},{"$f":"Feuil4!AE47","v":0},{"$f":"Feuil4!AF47","v":0},{"$f":"Feuil4!AG47","v":0},{"$f":"Feuil4!AH47","v":0},{"$f":"Feuil4!AI47","v":0},{"$f":"Feuil4!AJ47","v":0},{"$f":"Feuil4!AK47","v":0},{"$f":"Feuil4!AL47","v":0},{"$f":"Feuil4!AM47","v":0},{"$f":"Feuil4!AN47","v":"00:00:00"},{"$f":"Feuil4!AO47","v":0}]
[{"$f":"Feuil4!A48","v":0},{"$f":"Feuil4!B48","v":{"$error":"#VALUE!"}},{"$f":"Feuil4!C48","v":0},{"$f":"Feuil4!D48","v":0},{"$f":"Feuil4!E48","v":0},{"$f":"Feuil4!F48","v":0},{"$f":"Feuil4!G48","v":0},{"$f":"Feuil4!H48","v":0},{"$f":"Feuil4!I48","v":0},{"$f":"Feuil4!J48","v":0},{"$f":"Feuil4!K48","v":0},{"$f":"Feuil4!L48","v":0},{"$f":"Feuil4!M48","v":0},{"$f":"Feuil4!N48","v":0},{"$f":"Feuil4!O48","v":0},{"$f":"Feuil4!P48","v":0},{"$f":"Feuil4!Q48","v":0},{"$f":"Feuil4!R48","v":0},{"$f":"Feuil4!S48","v":0},{"$f":"Feuil4!T48","v":0},{"$f":"Feuil4!U48","v":0},{"$f":"Feuil4!V48","v":0},{"$f":"Feuil4!W48","v":0},{"$f":"Feuil4!X48","v":0},{"$f":"Feuil4!Y48","v":0},{"$f":"Feuil4!Z48","v":0},{"$f":"Feuil4!AA48","v":0},{"$f":"Feuil4!AB48","v":0},{"$f":"Feuil4!AC48","v":0},{"$f":"Feuil4!AD48","v":0},{"$f":"Feuil4!AE48","v":0},{"$f":"Feuil4!AF48","v":0},{"$f":"Feuil4!AG48","v":0},{"$f":"Feuil4!AH48","v":0},{"$f":"Feuil4!AI48","v":0},{"$f":"Feuil4!AJ48","v":0},{"$f":"Feuil4!AK48","v":0},{"$f":"Feuil4!AL48","v":0},{"$f":"Feuil4!AM48","v":0},{"$f":"Feuil4!AN48","v":"00:00:00"},{"$f":"Feuil4!AO48","v":0}]
[{"$f":"Feuil4!A49","v":0},{"$f":"Feuil4!B49","v":{"$error":"#VALUE!"}},{"$f":"Feuil4!C49","v":0},{"$f":"Feuil4!D49","v":0},{"$f":"Feuil4!E49","v":0},{"$f":"Feuil4!F49","v":0},{"$f":"Feuil4!G49","v":0},{"$f":"Feuil4!H49","v":0},{"$f":"Feuil4!I49","v":0},{"$f":"Feuil4!J49","v":0},{"$f":"Feuil4!K49","v":0},{"$f":"Feuil4!L49","v":0},{"$f":"Feuil4!M49","v":0},{"$f":"Feuil4!N49","v":0},{"$f":"Feuil4!O49","v":0},{"$f":"Feuil4!P49","v":0},{"$f":"Feuil4!Q49","v":0},{"$f":"Feuil4!R49","v":0},{"$f":"Feuil4!S49","v":0},{"$f":"Feuil4!T49","v":0},{"$f":"Feuil4!U49","v":0},{"$f":"Feuil4!V49","v":0},{"$f":"Feuil4!W49","v":0},{"$f":"Feuil4!X49","v":0},{"$f":"Feuil4!Y49","v":0},{"$f":"Feuil4!Z49","v":0},{"$f":"Feuil4!AA49","v":0},{"$f":"Feuil4!AB49","v":0},{"$f":"Feuil4!AC49","v":0},{"$f":"Feuil4!AD49","v":0},{"$f":"Feuil4!AE49","v":0},{"$f":"Feuil4!AF49","v":0},{"$f":"Feuil4!AG49","v":0},{"$f":"Feuil4!AH49","v":0},{"$f":"Feuil4!AI49","v":0},{"$f":"Feuil4!AJ49","v":0},{"$f":"Feuil4!AK49","v":0},{"$f":"Feuil4!AL49","v":0},{"$f":"Feuil4!AM49","v":0},{"$f":"Feuil4!AN49","v":"00:00:00"},{"$f":"Feuil4!AO49","v":0}]
[{"$f":"Feuil4!A50","v":0},{"$f":"Feuil4!B50","v":{"$error":"#VALUE!"}},{"$f":"Feuil4!C50","v":0},{"$f":"Feuil4!D50","v":0},{"$f":"Feuil4!E50","v":0},{"$f":"Feuil4!F50","v":0},{"$f":"Feuil4!G50","v":0},{"$f":"Feuil4!H50","v":0},{"$f":"Feuil4!I50","v":0},{"$f":"Feuil4!J50","v":0},{"$f":"Feuil4!K50","v":0},{"$f":"Feuil4!L50","v":0},{"$f":"Feuil4!M50","v":0},{"$f":"Feuil4!N50","v":0},{"$f":"Feuil4!O50","v":0},{"$f":"Feuil4!P50","v":0},{"$f":"Feuil4!Q50","v":0},{"$f":"Feuil4!R50","v":0},{"$f":"Feuil4!S50","v":0},{"$f":"Feuil4!T50","v":0},{"$f":"Feuil4!U50","v":0},{"$f":"Feuil4!V50","v":0},{"$f":"Feuil4!W50","v":0},{"$f":"Feuil4!X50","v":0},{"$f":"Feuil4!Y50","v":0},{"$f":"Feuil4!Z50","v":0},{"$f":"Feuil4!AA50","v":0},{"$f":"Feuil4!AB50","v":0},{"$f":"Feuil4!AC50","v":0},{"$f":"Feuil4!AD50","v":0},{"$f":"Feuil4!AE50","v":0},{"$f":"Feuil4!AF50","v":0},{"$f":"Feuil4!AG50","v":0},{"$f":"Feuil4!AH50","v":0},{"$f":"Feuil4!AI50","v":0},{"$f":"Feuil4!AJ50","v":0},{"$f":"Feuil4!AK50","v":0},{"$f":"Feuil4!AL50","v":0},{"$f":"Feuil4!AM50","v":0},{"$f":"Feuil4!AN50","v":"00:00:00"},{"$f":"Feuil4!AO50","v":0}]
[{"$f":"Feuil4!A51","v":0},{"$f":"Feuil4!B51","v":{"$error":"#VALUE!"}},{"$f":"Feuil4!C51","v":0},{"$f":"Feuil4!D51","v":0},{"$f":"Feuil4!E51","v":0},{"$f":"Feuil4!F51","v":0},{"$f":"Feuil4!G51","v":0},{"$f":"Feuil4!H51","v":0},{"$f":"Feuil4!I51","v":0},{"$f":"Feuil4!J51","v":0},{"$f":"Feuil4!K51","v":0},{"$f":"Feuil4!L51","v":0},{"$f":"Feuil4!M51","v":0},{"$f":"Feuil4!N51","v":0},{"$f":"Feuil4!O51","v":0},{"$f":"Feuil4!P51","v":0},{"$f":"Feuil4!Q51","v":0},{"$f":"Feuil4!R51","v":0},{"$f":"Feuil4!S51","v":0},{"$f":"Feuil4!T51","v":0},{"$f":"Feuil4!U51","v":0},{"$f":"Feuil4!V51","v":0},{"$f":"Feuil4!W51","v":0},{"$f":"Feuil4!X51","v":0},{"$f":"Feuil4!Y51","v":0},{"$f":"Feuil4!Z51","v":0},{"$f":"Feuil4!AA51","v":0},{"$f":"Feuil4!AB51","v":0},{"$f":"Feuil4!AC51","v":0},{"$f":"Feuil4!AD51","v":0},{"$f":"Feuil4!AE51","v":0},{"$f":"Feuil4!AF51","v":0},{"$f":"Feuil4!AG51","v":0},{"$f":"Feuil4!AH51","v":0},{"$f":"Feuil4!AI51","v":0},{"$f":"Feuil4!AJ51","v":0},{"$f":"Feuil4!AK51","v":0},{"$f":"Feuil4!AL51","v":0},{"$f":"Feuil4!AM51","v":0},{"$f":"Feuil4!AN51","v":"00:00:00"},{"$f":"Feuil4!AO51","v":0}]
[{"$f":"Feuil4!A52","v":0},{"$f":"Feuil4!B52","v":{"$error":"#VALUE!"}},{"$f":"Feuil4!C52","v":0},{"$f":"Feuil4!D52","v":0},{"$f":"Feuil4!E52","v":0},{"$f":"Feuil4!F52","v":0},{"$f":"Feuil4!G52","v":0},{"$f":"Feuil4!H52","v":0},{"$f":"Feuil4!I52","v":0},{"$f":"Feuil4!J52","v":0},{"$f":"Feuil4!K52","v":0},{"$f":"Feuil4!L52","v":0},{"$f":"Feuil4!M52","v":0},{"$f":"Feuil4!N52","v":0},{"$f":"Feuil4!O52","v":0},{"$f":"Feuil4!P52","v":0},{"$f":"Feuil4!Q52","v":0},{"$f":"Feuil4!R52","v":0},{"$f":"Feuil4!S52","v":0},{"$f":"Feuil4!T52","v":0},{"$f":"Feuil4!U52","v":0},{"$f":"Feuil4!V52","v":0},{"$f":"Feuil4!W52","v":0},{"$f":"Feuil4!X52","v":0},{"$f":"Feuil4!Y52","v":0},{"$f":"Feuil4!Z52","v":0},{"$f":"Feuil4!AA52","v":0},{"$f":"Feuil4!AB52","v":0},{"$f":"Feuil4!AC52","v":0},{"$f":"Feuil4!AD52","v":0},{"$f":"Feuil4!AE52","v":0},{"$f":"Feuil4!AF52","v":0},{"$f":"Feuil4!AG52","v":0},{"$f":"Feuil4!AH52","v":0},{"$f":"Feuil4!AI52","v":0},{"$f":"Feuil4!AJ52","v":0},{"$f":"Feuil4!AK52","v":0},{"$f":"Feuil4!AL52","v":0},{"$f":"Feuil4!AM52","v":0},{"$f":"Feuil4!AN52","v":"00:00:00"},{"$f":"Feuil4!AO52","v":0}]
[{"$f":"Feuil4!A53","v":0},{"$f":"Feuil4!B53","v":{"$error":"#VALUE!"}},{"$f":"Feuil4!C53","v":0},{"$f":"Feuil4!D53","v":0},{"$f":"Feuil4!E53","v":0},{"$f":"Feuil4!F53","v":0},{"$f":"Feuil4!G53","v":0},{"$f":"Feuil4!H53","v":0},{"$f":"Feuil4!I53","v":0},{"$f":"Feuil4!J53","v":0},{"$f":"Feuil4!K53","v":0},{"$f":"Feuil4!L53","v":0},{"$f":"Feuil4!M53","v":0},{"$f":"Feuil4!N53","v":0},{"$f":"Feuil4!O53","v":0},{"$f":"Feuil4!P53","v":0},{"$f":"Feuil4!Q53","v":0},{"$f":"Feuil4!R53","v":0},{"$f":"Feuil4!S53","v":0},{"$f":"Feuil4!T53","v":0},{"$f":"Feuil4!U53","v":0},{"$f":"Feuil4!V53","v":0},{"$f":"Feuil4!W53","v":0},{"$f":"Feuil4!X53","v":0},{"$f":"Feuil4!Y53","v":0},{"$f":"Feuil4!Z53","v":0},{"$f":"Feuil4!AA53","v":0},{"$f":"Feuil4!AB53","v":0},{"$f":"Feuil4!AC53","v":0},{"$f":"Feuil4!AD53","v":0},{"$f":"Feuil4!AE53","v":0},{"$f":"Feuil4!AF53","v":0},{"$f":"Feuil4!AG53","v":0},{"$f":"Feuil4!AH53","v":0},{"$f":"Feuil4!AI53","v":0},{"$f":"Feuil4!AJ53","v":0},{"$f":"Feuil4!AK53","v":0},{"$f":"Feuil4!AL53","v":0},{"$f":"Feuil4!AM53","v":0},{"$f":"Feuil4!AN53","v":"00:00:00"},{"$f":"Feuil4!AO53","v":0}]
[{"$f":"Feuil4!A54","v":0},{"$f":"Feuil4!B54","v":{"$error":"#VALUE!"}},{"$f":"Feuil4!C54","v":0},{"$f":"Feuil4!D54","v":0},{"$f":"Feuil4!E54","v":0},{"$f":"Feuil4!F54","v":0},{"$f":"Feuil4!G54","v":0},{"$f":"Feuil4!H54","v":0},{"$f":"Feuil4!I54","v":0},{"$f":"Feuil4!J54","v":0},{"$f":"Feuil4!K54","v":0},{"$f":"Feuil4!L54","v":0},{"$f":"Feuil4!M54","v":0},{"$f":"Feuil4!N54","v":0},{"$f":"Feuil4!O54","v":0},{"$f":"Feuil4!P54","v":0},{"$f":"Feuil4!Q54","v":0},{"$f":"Feuil4!R54","v":0},{"$f":"Feuil4!S54","v":0},{"$f":"Feuil4!T54","v":0},{"$f":"Feuil4!U54","v":0},{"$f":"Feuil4!V54","v":0},{"$f":"Feuil4!W54","v":0},{"$f":"Feuil4!X54","v":0},{"$f":"Feuil4!Y54","v":0},{"$f":"Feuil4!Z54","v":0},{"$f":"Feuil4!AA54","v":0},{"$f":"Feuil4!AB54","v":0},{"$f":"Feuil4!AC54","v":0},{"$f":"Feuil4!AD54","v":0},{"$f":"Feuil4!AE54","v":0},{"$f":"Feuil4!AF54","v":0},{"$f":"Feuil4!AG54","v":0},{"$f":"Feuil4!AH54","v":0},{"$f":"Feuil4!AI54","v":0},{"$f":"Feuil4!AJ54","v":0},{"$f":"Feuil4!AK54","v":0},{"$f":"Feuil4!AL54","v":0},{"$f":"Feuil4!AM54","v":0},{"$f":"Feuil4!AN54","v":"00:00:00"},{"$f":"Feuil4!AO54","v":0}]
[{"$f":"Feuil4!A55","v":0},{"$f":"Feuil4!B55","v":{"$error":"#VALUE!"}},{"$f":"Feuil4!C55","v":0},{"$f":"Feuil4!D55","v":0},{"$f":"Feuil4!E55","v":0},{"$f":"Feuil4!F55","v":0},{"$f":"Feuil4!G55","v":0},{"$f":"Feuil4!H55","v":0},{"$f":"Feuil4!I55","v":0},{"$f":"Feuil4!J55","v":0},{"$f":"Feuil4!K55","v":0},{"$f":"Feuil4!L55","v":0},{"$f":"Feuil4!M55","v":0},{"$f":"Feuil4!N55","v":0},{"$f":"Feuil4!O55","v":0},{"$f":"Feuil4!P55","v":0},{"$f":"Feuil4!Q55","v":0},{"$f":"Feuil4!R55","v":0},{"$f":"Feuil4!S55","v":0},{"$f":"Feuil4!T55","v":0},{"$f":"Feuil4!U55","v":0},{"$f":"Feuil4!V55","v":0},{"$f":"Feuil4!W55","v":0},{"$f":"Feuil4!X55","v":0},{"$f":"Feuil4!Y55","v":0},{"$f":"Feuil4!Z55","v":0},{"$f":"Feuil4!AA55","v":0},{"$f":"Feuil4!AB55","v":0},{"$f":"Feuil4!AC55","v":0},{"$f":"Feuil4!AD55","v":0},{"$f":"Feuil4!AE55","v":0},{"$f":"Feuil4!AF55","v":0},{"$f":"Feuil4!AG55","v":0},{"$f":"Feuil4!AH55","v":0},{"$f":"Feuil4!AI55","v":0},{"$f":"Feuil4!AJ55","v":0},{"$f":"Feuil4!AK55","v":0},{"$f":"Feuil4!AL55","v":0},{"$f":"Feuil4!AM55","v":0},{"$f":"Feuil4!AN55","v":"00:00:00"},{"$f":"Feuil4!AO55","v":0}]
[{"$f":"Feuil4!A56","v":0},{"$f":"Feuil4!B56","v":{"$error":"#VALUE!"}},{"$f":"Feuil4!C56","v":0},{"$f":"Feuil4!D56","v":0},{"$f":"Feuil4!E56","v":0},{"$f":"Feuil4!F56","v":0},{"$f":"Feuil4!G56","v":0},{"$f":"Feuil4!H56","v":0},{"$f":"Feuil4!I56","v":0},{"$f":"Feuil4!J56","v":0},{"$f":"Feuil4!K56","v":0},{"$f":"Feuil4!L56","v":0},{"$f":"Feuil4!M56","v":0},{"$f":"Feuil4!N56","v":0},{"$f":"Feuil4!O56","v":0},{"$f":"Feuil4!P56","v":0},{"$f":"Feuil4!Q56","v":0},{"$f":"Feuil4!R56","v":0},{"$f":"Feuil4!S56","v":0},{"$f":"Feuil4!T56","v":0},{"$f":"Feuil4!U56","v":0},{"$f":"Feuil4!V56","v":0},{"$f":"Feuil4!W56","v":0},{"$f":"Feuil4!X56","v":0},{"$f":"Feuil4!Y56","v":0},{"$f":"Feuil4!Z56","v":0},{"$f":"Feuil4!AA56","v":0},{"$f":"Feuil4!AB56","v":0},{"$f":"Feuil4!AC56","v":0},{"$f":"Feuil4!AD56","v":0},{"$f":"Feuil4!AE56","v":0},{"$f":"Feuil4!AF56","v":0},{"$f":"Feuil4!AG56","v":0},{"$f":"Feuil4!AH56","v":0},{"$f":"Feuil4!AI56","v":0},{"$f":"Feuil4!AJ56","v":0},{"$f":"Feuil4!AK56","v":0},{"$f":"Feuil4!AL56","v":0},{"$f":"Feuil4!AM56","v":0},{"$f":"Feuil4!AN56","v":"00:00:00"},{"$f":"Feuil4!AO56","v":0}]
[{"$f":"Feuil4!A57","v":0},{"$f":"Feuil4!B57","v":{"$error":"#VALUE!"}},{"$f":"Feuil4!C57","v":0},{"$f":"Feuil4!D57","v":0},{"$f":"Feuil4!E57","v":0},{"$f":"Feuil4!F57","v":0},{"$f":"Feuil4!G57","v":0},{"$f":"Feuil4!H57","v":0},{"$f":"Feuil4!I57","v":0},{"$f":"Feuil4!J57","v":0},{"$f":"Feuil4!K57","v":0},{"$f":"Feuil4!L57","v":0},{"$f":"Feuil4!M57","v":0},{"$f":"Feuil4!N57","v":0},{"$f":"Feuil4!O57","v":0},{"$f":"Feuil4!P57","v":0},{"$f":"Feuil4!Q57","v":0},{"$f":"Feuil4!R57","v":0},{"$f":"Feuil4!S57","v":0},{"$f":"Feuil4!T57","v":0},{"$f":"Feuil4!U57","v":0},{"$f":"Feuil4!V57","v":0},{"$f":"Feuil4!W57","v":0},{"$f":"Feuil4!X57","v":0},{"$f":"Feuil4!Y57","v":0},{"$f":"Feuil4!Z57","v":0},{"$f":"Feuil4!AA57","v":0},{"$f":"Feuil4!AB57","v":0},{"$f":"Feuil4!AC57","v":0},{"$f":"Feuil4!AD57","v":0},{"$f":"Feuil4!AE57","v":0},{"$f":"Feuil4!AF57","v":0},{"$f":"Feuil4!AG57","v":0},{"$f":"Feuil4!AH57","v":0},{"$f":"Feuil4!AI57","v":0},{"$f":"Feuil4!AJ57","v":0},{"$f":"Feuil4!AK57","v":0},{"$f":"Feuil4!AL57","v":0},{"$f":"Feuil4!AM57","v":0},{"$f":"Feuil4!AN57","v":"00:00:00"},{"$f":"Feuil4!AO57","v":0}]
[{"$f":"Feuil4!A58","v":0},{"$f":"Feuil4!B58","v":{"$error":"#VALUE!"}},{"$f":"Feuil4!C58","v":0},{"$f":"Feuil4!D58","v":0},{"$f":"Feuil4!E58","v":0},{"$f":"Feuil4!F58","v":0},{"$f":"Feuil4!G58","v":0},{"$f":"Feuil4!H58","v":0},{"$f":"Feuil4!I58","v":0},{"$f":"Feuil4!J58","v":0},{"$f":"Feuil4!K58","v":0},{"$f":"Feuil4!L58","v":0},{"$f":"Feuil4!M58","v":0},{"$f":"Feuil4!N58","v":0},{"$f":"Feuil4!O58","v":0},{"$f":"Feuil4!P58","v":0},{"$f":"Feuil4!Q58","v":0},{"$f":"Feuil4!R58","v":0},{"$f":"Feuil4!S58","v":0},{"$f":"Feuil4!T58","v":0},{"$f":"Feuil4!U58","v":0},{"$f":"Feuil4!V58","v":0},{"$f":"Feuil4!W58","v":0},{"$f":"Feuil4!X58","v":0},{"$f":"Feuil4!Y58","v":0},{"$f":"Feuil4!Z58","v":0},{"$f":"Feuil4!AA58","v":0},{"$f":"Feuil4!AB58","v":0},{"$f":"Feuil4!AC58","v":0},{"$f":"Feuil4!AD58","v":0},{"$f":"Feuil4!AE58","v":0},{"$f":"Feuil4!AF58","v":0},{"$f":"Feuil4!AG58","v":0},{"$f":"Feuil4!AH58","v":0},{"$f":"Feuil4!AI58","v":0},{"$f":"Feuil4!AJ58","v":0},{"$f":"Feuil4!AK58","v":0},{"$f":"Feuil4!AL58","v":0},{"$f":"Feuil4!AM58","v":0},{"$f":"Feuil4!AN58","v":"00:00:00"},{"$f":"Feuil4!AO58","v":0}]
[{"$f":"Feuil4!A59","v":0},{"$f":"Feuil4!B59","v":{"$error":"#VALUE!"}},{"$f":"Feuil4!C59","v":0},{"$f":"Feuil4!D59","v":0},{"$f":"Feuil4!E59","v":0},{"$f":"Feuil4!F59","v":0},{"$f":"Feuil4!G59","v":0},{"$f":"Feuil4!H59","v":0},{"$f":"Feuil4!I59","v":0},{"$f":"Feuil4!J59","v":0},{"$f":"Feuil4!K59","v":0},{"$f":"Feuil4!L59","v":0},{"$f":"Feuil4!M59","v":0},{"$f":"Feuil4!N59","v":0},{"$f":"Feuil4!O59","v":0},{"$f":"Feuil4!P59","v":0},{"$f":"Feuil4!Q59","v":0},{"$f":"Feuil4!R59","v":0},{"$f":"Feuil4!S59","v":0},{"$f":"Feuil4!T59","v":0},{"$f":"Feuil4!U59","v":0},{"$f":"Feuil4!V59","v":0},{"$f":"Feuil4!W59","v":0},{"$f":"Feuil4!X59","v":0},{"$f":"Feuil4!Y59","v":0},{"$f":"Feuil4!Z59","v":0},{"$f":"Feuil4!AA59","v":0},{"$f":"Feuil4!AB59","v":0},{"$f":"Feuil4!AC59","v":0},{"$f":"Feuil4!AD59","v":0},{"$f":"Feuil4!AE59","v":0},{"$f":"Feuil4!AF59","v":0},{"$f":"Feuil4!AG59","v":0},{"$f":"Feuil4!AH59","v":0},{"$f":"Feuil4!AI59","v":0},{"$f":"Feuil4!AJ59","v":0},{"$f":"Feuil4!AK59","v":0},{"$f":"Feuil4!AL59","v":0},{"$f":"Feuil4!AM59","v":0},{"$f":"Feuil4!AN59","v":"00:00:00"},{"$f":"Feuil4!AO59","v":0}]
[{"$f":"Feuil4!A60","v":0},{"$f":"Feuil4!B60","v":{"$error":"#VALUE!"}},{"$f":"Feuil4!C60","v":0},{"$f":"Feuil4!D60","v":0},{"$f":"Feuil4!E60","v":0},{"$f":"Feuil4!F60","v":0},{"$f":"Feuil4!G60","v":0},{"$f":"Feuil4!H60","v":0},{"$f":"Feuil4!I60","v":0},{"$f":"Feuil4!J60","v":0},{"$f":"Feuil4!K60","v":0},{"$f":"Feuil4!L60","v":0},{"$f":"Feuil4!M60","v":0},{"$f":"Feuil4!N60","v":0},{"$f":"Feuil4!O60","v":0},{"$f":"Feuil4!P60","v":0},{"$f":"Feuil4!Q60","v":0},{"$f":"Feuil4!R60","v":0},{"$f":"Feuil4!S60","v":0},{"$f":"Feuil4!T60","v":0},{"$f":"Feuil4!U60","v":0},{"$f":"Feuil4!V60","v":0},{"$f":"Feuil4!W60","v":0},{"$f":"Feuil4!X60","v":0},{"$f":"Feuil4!Y60","v":0},{"$f":"Feuil4!Z60","v":0},{"$f":"Feuil4!AA60","v":0},{"$f":"Feuil4!AB60","v":0},{"$f":"Feuil4!AC60","v":0},{"$f":"Feuil4!AD60","v":0},{"$f":"Feuil4!AE60","v":0},{"$f":"Feuil4!AF60","v":0},{"$f":"Feuil4!AG60","v":0},{"$f":"Feuil4!AH60","v":0},{"$f":"Feuil4!AI60","v":0},{"$f":"Feuil4!AJ60","v":0},{"$f":"Feuil4!AK60","v":0},{"$f":"Feuil4!AL60","v":0},{"$f":"Feuil4!AM60","v":0},{"$f":"Feuil4!AN60","v":"00:00:00"},{"$f":"Feuil4!AO60","v":0}]
[{"$f":"Feuil4!A61","v":0},{"$f":"Feuil4!B61","v":{"$error":"#VALUE!"}},{"$f":"Feuil4!C61","v":0},{"$f":"Feuil4!D61","v":0},{"$f":"Feuil4!E61","v":0},{"$f":"Feuil4!F61","v":0},{"$f":"Feuil4!G61","v":0},{"$f":"Feuil4!H61","v":0},{"$f":"Feuil4!I61","v":0},{"$f":"Feuil4!J61","v":0},{"$f":"Feuil4!K61","v":0},{"$f":"Feuil4!L61","v":0},{"$f":"Feuil4!M61","v":0},{"$f":"Feuil4!N61","v":0},{"$f":"Feuil4!O61","v":0},{"$f":"Feuil4!P61","v":0},{"$f":"Feuil4!Q61","v":0},{"$f":"Feuil4!R61","v":0},{"$f":"Feuil4!S61","v":0},{"$f":"Feuil4!T61","v":0},{"$f":"Feuil4!U61","v":0},{"$f":"Feuil4!V61","v":0},{"$f":"Feuil4!W61","v":0},{"$f":"Feuil4!X61","v":0},{"$f":"Feuil4!Y61","v":0},{"$f":"Feuil4!Z61","v":0},{"$f":"Feuil4!AA61","v":0},{"$f":"Feuil4!AB61","v":0},{"$f":"Feuil4!AC61","v":0},{"$f":"Feuil4!AD61","v":0},{"$f":"Feuil4!AE61","v":0},{"$f":"Feuil4!AF61","v":0},{"$f":"Feuil4!AG61","v":0},{"$f":"Feuil4!AH61","v":0},{"$f":"Feuil4!AI61","v":0},{"$f":"Feuil4!AJ61","v":0},{"$f":"Feuil4!AK61","v":0},{"$f":"Feuil4!AL61","v":0},{"$f":"Feuil4!AM61","v":0},{"$f":"Feuil4!AN61","v":"00:00:00"},{"$f":"Feuil4!AO61","v":0}]
[{"$f":"Feuil4!A62","v":0},{"$f":"Feuil4!B62","v":{"$error":"#VALUE!"}},{"$f":"Feuil4!C62","v":0},{"$f":"Feuil4!D62","v":0},{"$f":"Feuil4!E62","v":0},{"$f":"Feuil4!F62","v":0},{"$f":"Feuil4!G62","v":0},{"$f":"Feuil4!H62","v":0},{"$f":"Feuil4!I62","v":0},{"$f":"Feuil4!J62","v":0},{"$f":"Feuil4!K62","v":0},{"$f":"Feuil4!L62","v":0},{"$f":"Feuil4!M62","v":0},{"$f":"Feuil4!N62","v":0},{"$f":"Feuil4!O62","v":0},{"$f":"Feuil4!P62","v":0},{"$f":"Feuil4!Q62","v":0},{"$f":"Feuil4!R62","v":0},{"$f":"Feuil4!S62","v":0},{"$f":"Feuil4!T62","v":0},{"$f":"Feuil4!U62","v":0},{"$f":"Feuil4!V62","v":0},{"$f":"Feuil4!W62","v":0},{"$f":"Feuil4!X62","v":0},{"$f":"Feuil4!Y62","v":0},{"$f":"Feuil4!Z62","v":0},{"$f":"Feuil4!AA62","v":0},{"$f":"Feuil4!AB62","v":0},{"$f":"Feuil4!AC62","v":0},{"$f":"Feuil4!AD62","v":0},{"$f":"Feuil4!AE62","v":0},{"$f":"Feuil4!AF62","v":0},{"$f":"Feuil4!AG62","v":0},{"$f":"Feuil4!AH62","v":0},{"$f":"Feuil4!AI62","v":0},{"$f":"Feuil4!AJ62","v":0},{"$f":"Feuil4!AK62","v":0},{"$f":"Feuil4!AL62","v":0},{"$f":"Feuil4!AM62","v":0},{"$f":"Feuil4!AN62","v":"00:00:00"},{"$f":"Feuil4!AO62","v":0}]
[{"$f":"Feuil4!A63","v":0},{"$f":"Feuil4!B63","v":{"$error":"#VALUE!"}},{"$f":"Feuil4!C63","v":0},{"$f":"Feuil4!D63","v":0},{"$f":"Feuil4!E63","v":0},{"$f":"Feuil4!F63","v":0},{"$f":"Feuil4!G63","v":0},{"$f":"Feuil4!H63","v":0},{"$f":"Feuil4!I63","v":0},{"$f":"Feuil4!J63","v":0},{"$f":"Feuil4!K63","v":0},{"$f":"Feuil4!L63","v":0},{"$f":"Feuil4!M63","v":0},{"$f":"Feuil4!N63","v":0},{"$f":"Feuil4!O63","v":0},{"$f":"Feuil4!P63","v":0},{"$f":"Feuil4!Q63","v":0},{"$f":"Feuil4!R63","v":0},{"$f":"Feuil4!S63","v":0},{"$f":"Feuil4!T63","v":0},{"$f":"Feuil4!U63","v":0},{"$f":"Feuil4!V63","v":0},{"$f":"Feuil4!W63","v":0},{"$f":"Feuil4!X63","v":0},{"$f":"Feuil4!Y63","v":0},{"$f":"Feuil4!Z63","v":0},{"$f":"Feuil4!AA63","v":0},{"$f":"Feuil4!AB63","v":0},{"$f":"Feuil4!AC63","v":0},{"$f":"Feuil4!AD63","v":0},{"$f":"Feuil4!AE63","v":0},{"$f":"Feuil4!AF63","v":0},{"$f":"Feuil4!AG63","v":0},{"$f":"Feuil4!AH63","v":0},{"$f":"Feuil4!AI63","v":0},{"$f":"Feuil4!AJ63","v":0},{"$f":"Feuil4!AK63","v":0},{"$f":"Feuil4!AL63","v":0},{"$f":"Feuil4!AM63","v":0},{"$f":"Feuil4!AN63","v":"00:00:00"},{"$f":"Feuil4!AO63","v":0}]
[{"$f":"Feuil4!A64","v":0},{"$f":"Feuil4!B64","v":{"$error":"#VALUE!"}},{"$f":"Feuil4!C64","v":0},{"$f":"Feuil4!D64","v":0},{"$f":"Feuil4!E64","v":0},{"$f":"Feuil4!F64","v":0},{"$f":"Feuil4!G64","v":0},{"$f":"Feuil4!H64","v":0},{"$f":"Feuil4!I64","v":0},{"$f":"Feuil4!J64","v":0},{"$f":"Feuil4!K64","v":0},{"$f":"Feuil4!L64","v":0},{"$f":"Feuil4!M64","v":0},{"$f":"Feuil4!N64","v":0},{"$f":"Feuil4!O64","v":0},{"$f":"Feuil4!P64","v":0},{"$f":"Feuil4!Q64","v":0},{"$f":"Feuil4!R64","v":0},{"$f":"Feuil4!S64","v":0},{"$f":"Feuil4!T64","v":0},{"$f":"Feuil4!U64","v":0},{"$f":"Feuil4!V64","v":0},{"$f":"Feuil4!W64","v":0},{"$f":"Feuil4!X64","v":0},{"$f":"Feuil4!Y64","v":0},{"$f":"Feuil4!Z64","v":0},{"$f":"Feuil4!AA64","v":0},{"$f":"Feuil4!AB64","v":0},{"$f":"Feuil4!AC64","v":0},{"$f":"Feuil4!AD64","v":0},{"$f":"Feuil4!AE64","v":0},{"$f":"Feuil4!AF64","v":0},{"$f":"Feuil4!AG64","v":0},{"$f":"Feuil4!AH64","v":0},{"$f":"Feuil4!AI64","v":0},{"$f":"Feuil4!AJ64","v":0},{"$f":"Feuil4!AK64","v":0},{"$f":"Feuil4!AL64","v":0},{"$f":"Feuil4!AM64","v":0},{"$f":"Feuil4!AN64","v":"00:00:00"},{"$f":"Feuil4!AO64","v":0}]
[{"$f":"Feuil4!A65","v":0},{"$f":"Feuil4!B65","v":{"$error":"#VALUE!"}},{"$f":"Feuil4!C65","v":0},{"$f":"Feuil4!D65","v":0},{"$f":"Feuil4!E65","v":0},{"$f":"Feuil4!F65","v":0},{"$f":"Feuil4!G65","v":0},{"$f":"Feuil4!H65","v":0},{"$f":"Feuil4!I65","v":0},{"$f":"Feuil4!J65","v":0},{"$f":"Feuil4!K65","v":0},{"$f":"Feuil4!L65","v":0},{"$f":"Feuil4!M65","v":0},{"$f":"Feuil4!N65","v":0},{"$f":"Feuil4!O65","v":0},{"$f":"Feuil4!P65","v":0},{"$f":"Feuil4!Q65","v":0},{"$f":"Feuil4!R65","v":0},{"$f":"Feuil4!S65","v":0},{"$f":"Feuil4!T65","v":0},{"$f":"Feuil4!U65","v":0},{"$f":"Feuil4!V65","v":0},{"$f":"Feuil4!W65","v":0},{"$f":"Feuil4!X65","v":0},{"$f":"Feuil4!Y65","v":0},{"$f":"Feuil4!Z65","v":0},{"$f":"Feuil4!AA65","v":0},{"$f":"Feuil4!AB65","v":0},{"$f":"Feuil4!AC65","v":0},{"$f":"Feuil4!AD65","v":0},{"$f":"Feuil4!AE65","v":0},{"$f":"Feuil4!AF65","v":0},{"$f":"Feuil4!AG65","v":0},{"$f":"Feuil4!AH65","v":0},{"$f":"Feuil4!AI65","v":0},{"$f":"Feuil4!AJ65","v":0},{"$f":"Feuil4!AK65","v":0},{"$f":"Feuil4!AL65","v":0},{"$f":"Feuil4!AM65","v":0},{"$f":"Feuil4!AN65","v":"00:00:00"},{"$f":"Feuil4!AO65","v":0}]
[{"$f":"Feuil4!A66","v":0},{"$f":"Feuil4!B66","v":{"$error":"#VALUE!"}},{"$f":"Feuil4!C66","v":0},{"$f":"Feuil4!D66","v":0},{"$f":"Feuil4!E66","v":0},{"$f":"Feuil4!F66","v":0},{"$f":"Feuil4!G66","v":0},{"$f":"Feuil4!H66","v":0},{"$f":"Feuil4!I66","v":0},{"$f":"Feuil4!J66","v":0},{"$f":"Feuil4!K66","v":0},{"$f":"Feuil4!L66","v":0},{"$f":"Feuil4!M66","v":0},{"$f":"Feuil4!N66","v":0},{"$f":"Feuil4!O66","v":0},{"$f":"Feuil4!P66","v":0},{"$f":"Feuil4!Q66","v":0},{"$f":"Feuil4!R66","v":0},{"$f":"Feuil4!S66","v":0},{"$f":"Feuil4!T66","v":0},{"$f":"Feuil4!U66","v":0},{"$f":"Feuil4!V66","v":0},{"$f":"Feuil4!W66","v":0},{"$f":"Feuil4!X66","v":0},{"$f":"Feuil4!Y66","v":0},{"$f":"Feuil4!Z66","v":0},{"$f":"Feuil4!AA66","v":0},{"$f":"Feuil4!AB66","v":0},{"$f":"Feuil4!AC66","v":0},{"$f":"Feuil4!AD66","v":0},{"$f":"Feuil4!AE66","v":0},{"$f":"Feuil4!AF66","v":0},{"$f":"Feuil4!AG66","v":0},{"$f":"Feuil4!AH66","v":0},{"$f":"Feuil4!AI66","v":0},{"$f":"Feuil4!AJ66","v":0},{"$f":"Feuil4!AK66","v":0},{"$f":"Feuil4!AL66","v":0},{"$f":"Feuil4!AM66","v":0},{"$f":"Feuil4!AN66","v":"00:00:00"},{"$f":"Feuil4!AO66","v":0}]
[{"$f":"Feuil4!A67","v":0},{"$f":"Feuil4!B67","v":{"$error":"#VALUE!"}},{"$f":"Feuil4!C67","v":0},{"$f":"Feuil4!D67","v":0},{"$f":"Feuil4!E67","v":0},{"$f":"Feuil4!F67","v":0},{"$f":"Feuil4!G67","v":0},{"$f":"Feuil4!H67","v":0},{"$f":"Feuil4!I67","v":0},{"$f":"Feuil4!J67","v":0},{"$f":"Feuil4!K67","v":0},{"$f":"Feuil4!L67","v":0},{"$f":"Feuil4!M67","v":0},{"$f":"Feuil4!N67","v":0},{"$f":"Feuil4!O67","v":0},{"$f":"Feuil4!P67","v":0},{"$f":"Feuil4!Q67","v":0},{"$f":"Feuil4!R67","v":0},{"$f":"Feuil4!S67","v":0},{"$f":"Feuil4!T67","v":0},{"$f":"Feuil4!U67","v":0},{"$f":"Feuil4!V67","v":0},{"$f":"Feuil4!W67","v":0},{"$f":"Feuil4!X67","v":0},{"$f":"Feuil4!Y67","v":0},{"$f":"Feuil4!Z67","v":0},{"$f":"Feuil4!AA67","v":0},{"$f":"Feuil4!AB67","v":0},{"$f":"Feuil4!AC67","v":0},{"$f":"Feuil4!AD67","v":0},{"$f":"Feuil4!AE67","v":0},{"$f":"Feuil4!AF67","v":0},{"$f":"Feuil4!AG67","v":0},{"$f":"Feuil4!AH67","v":0},{"$f":"Feuil4!AI67","v":0},{"$f":"Feuil4!AJ67","v":0},{"$f":"Feuil4!AK67","v":0},{"$f":"Feuil4!AL67","v":0},{"$f":"Feuil4!AM67","v":0},{"$f":"Feuil4!AN67","v":"00:00:00"},{"$f":"Feuil4!AO67","v":0}]
[{"$f":"Feuil4!A68","v":0},{"$f":"Feuil4!B68","v":{"$error":"#VALUE!"}},{"$f":"Feuil4!C68","v":0},{"$f":"Feuil4!D68","v":0},{"$f":"Feuil4!E68","v":0},{"$f":"Feuil4!F68","v":0},{"$f":"Feuil4!G68","v":0},{"$f":"Feuil4!H68","v":0},{"$f":"Feuil4!I68","v":0},{"$f":"Feuil4!J68","v":0},{"$f":"Feuil4!K68","v":0},{"$f":"Feuil4!L68","v":0},{"$f":"Feuil4!M68","v":0},{"$f":"Feuil4!N68","v":0},{"$f":"Feuil4!O68","v":0},{"$f":"Feuil4!P68","v":0},{"$f":"Feuil4!Q68","v":0},{"$f":"Feuil4!R68","v":0},{"$f":"Feuil4!S68","v":0},{"$f":"Feuil4!T68","v":0},{"$f":"Feuil4!U68","v":0},{"$f":"Feuil4!V68","v":0},{"$f":"Feuil4!W68","v":0},{"$f":"Feuil4!X68","v":0},{"$f":"Feuil4!Y68","v":0},{"$f":"Feuil4!Z68","v":0},{"$f":"Feuil4!AA68","v":0},{"$f":"Feuil4!AB68","v":0},{"$f":"Feuil4!AC68","v":0},{"$f":"Feuil4!AD68","v":0},{"$f":"Feuil4!AE68","v":0},{"$f":"Feuil4!AF68","v":0},{"$f":"Feuil4!AG68","v":0},{"$f":"Feuil4!AH68","v":0},{"$f":"Feuil4!AI68","v":0},{"$f":"Feuil4!AJ68","v":0},{"$f":"Feuil4!AK68","v":0},{"$f":"Feuil4!AL68","v":0},{"$f":"Feuil4!AM68","v":0},{"$f":"Feuil4!AN68","v":"00:00:00"},{"$f":"Feuil4!AO68","v":0}]
[{"$f":"Feuil4!A69","v":0},{"$f":"Feuil4!B69","v":{"$error":"#VALUE!"}},{"$f":"Feuil4!C69","v":0},{"$f":"Feuil4!D69","v":0},{"$f":"Feuil4!E69","v":0},{"$f":"Feuil4!F69","v":0},{"$f":"Feuil4!G69","v":0},{"$f":"Feuil4!H69","v":0},{"$f":"Feuil4!I69","v":0},{"$f":"Feuil4!J69","v":0},{"$f":"Feuil4!K69","v":0},{"$f":"Feuil4!L69","v":0},{"$f":"Feuil4!M69","v":0},{"$f":"Feuil4!N69","v":0},{"$f":"Feuil4!O69","v":0},{"$f":"Feuil4!P69","v":0},{"$f":"Feuil4!Q69","v":0},{"$f":"Feuil4!R69","v":0},{"$f":"Feuil4!S69","v":0},{"$f":"Feuil4!T69","v":0},{"$f":"Feuil4!U69","v":0},{"$f":"Feuil4!V69","v":0},{"$f":"Feuil4!W69","v":0},{"$f":"Feuil4!X69","v":0},{"$f":"Feuil4!Y69","v":0},{"$f":"Feuil4!Z69","v":0},{"$f":"Feuil4!AA69","v":0},{"$f":"Feuil4!AB69","v":0},{"$f":"Feuil4!AC69","v":0},{"$f":"Feuil4!AD69","v":0},{"$f":"Feuil4!AE69","v":0},{"$f":"Feuil4!AF69","v":0},{"$f":"Feuil4!AG69","v":0},{"$f":"Feuil4!AH69","v":0},{"$f":"Feuil4!AI69","v":0},{"$f":"Feuil4!AJ69","v":0},{"$f":"Feuil4!AK69","v":0},{"$f":"Feuil4!AL69","v":0},{"$f":"Feuil4!AM69","v":0},{"$f":"Feuil4!AN69","v":"00:00:00"},{"$f":"Feuil4!AO69","v":0}]
[{"$f":"Feuil4!A70","v":0},{"$f":"Feuil4!B70","v":{"$error":"#VALUE!"}},{"$f":"Feuil4!C70","v":0},{"$f":"Feuil4!D70","v":0},{"$f":"Feuil4!E70","v":0},{"$f":"Feuil4!F70","v":0},{"$f":"Feuil4!G70","v":0},{"$f":"Feuil4!H70","v":0},{"$f":"Feuil4!I70","v":0},{"$f":"Feuil4!J70","v":0},{"$f":"Feuil4!K70","v":0},{"$f":"Feuil4!L70","v":0},{"$f":"Feuil4!M70","v":0},{"$f":"Feuil4!N70","v":0},{"$f":"Feuil4!O70","v":0},{"$f":"Feuil4!P70","v":0},{"$f":"Feuil4!Q70","v":0},{"$f":"Feuil4!R70","v":0},{"$f":"Feuil4!S70","v":0},{"$f":"Feuil4!T70","v":0},{"$f":"Feuil4!U70","v":0},{"$f":"Feuil4!V70","v":0},{"$f":"Feuil4!W70","v":0},{"$f":"Feuil4!X70","v":0},{"$f":"Feuil4!Y70","v":0},{"$f":"Feuil4!Z70","v":0},{"$f":"Feuil4!AA70","v":0},{"$f":"Feuil4!AB70","v":0},{"$f":"Feuil4!AC70","v":0},{"$f":"Feuil4!AD70","v":0},{"$f":"Feuil4!AE70","v":0},{"$f":"Feuil4!AF70","v":0},{"$f":"Feuil4!AG70","v":0},{"$f":"Feuil4!AH70","v":0},{"$f":"Feuil4!AI70","v":0},{"$f":"Feuil4!AJ70","v":0},{"$f":"Feuil4!AK70","v":0},{"$f":"Feuil4!AL70","v":0},{"$f":"Feuil4!AM70","v":0},{"$f":"Feuil4!AN70","v":"00:00:00"},{"$f":"Feuil4!AO70","v":0}]
[{"$f":"Feuil4!A71","v":0},{"$f":"Feuil4!B71","v":{"$error":"#VALUE!"}},{"$f":"Feuil4!C71","v":0},{"$f":"Feuil4!D71","v":0},{"$f":"Feuil4!E71","v":0},{"$f":"Feuil4!F71","v":0},{"$f":"Feuil4!G71","v":0},{"$f":"Feuil4!H71","v":0},{"$f":"Feuil4!I71","v":0},{"$f":"Feuil4!J71","v":0},{"$f":"Feuil4!K71","v":0},{"$f":"Feuil4!L71","v":0},{"$f":"Feuil4!M71","v":0},{"$f":"Feuil4!N71","v":0},{"$f":"Feuil4!O71","v":0},{"$f":"Feuil4!P71","v":0},{"$f":"Feuil4!Q71","v":0},{"$f":"Feuil4!R71","v":0},{"$f":"Feuil4!S71","v":0},{"$f":"Feuil4!T71","v":0},{"$f":"Feuil4!U71","v":0},{"$f":"Feuil4!V71","v":0},{"$f":"Feuil4!W71","v":0},{"$f":"Feuil4!X71","v":0},{"$f":"Feuil4!Y71","v":0},{"$f":"Feuil4!Z71","v":0},{"$f":"Feuil4!AA71","v":0},{"$f":"Feuil4!AB71","v":0},{"$f":"Feuil4!AC71","v":0},{"$f":"Feuil4!AD71","v":0},{"$f":"Feuil4!AE71","v":0},{"$f":"Feuil4!AF71","v":0},{"$f":"Feuil4!AG71","v":0},{"$f":"Feuil4!AH71","v":0},{"$f":"Feuil4!AI71","v":0},{"$f":"Feuil4!AJ71","v":0},{"$f":"Feuil4!AK71","v":0},{"$f":"Feuil4!AL71","v":0},{"$f":"Feuil4!AM71","v":0},{"$f":"Feuil4!AN71","v":"00:00:00"},{"$f":"Feuil4!AO71","v":0}]
[{"$f":"Feuil4!A72","v":0},{"$f":"Feuil4!B72","v":{"$error":"#VALUE!"}},{"$f":"Feuil4!C72","v":0},{"$f":"Feuil4!D72","v":0},{"$f":"Feuil4!E72","v":0},{"$f":"Feuil4!F72","v":0},{"$f":"Feuil4!G72","v":0},{"$f":"Feuil4!H72","v":0},{"$f":"Feuil4!I72","v":0},{"$f":"Feuil4!J72","v":0},{"$f":"Feuil4!K72","v":0},{"$f":"Feuil4!L72","v":0},{"$f":"Feuil4!M72","v":0},{"$f":"Feuil4!N72","v":0},{"$f":"Feuil4!O72","v":0},{"$f":"Feuil4!P72","v":0},{"$f":"Feuil4!Q72","v":0},{"$f":"Feuil4!R72","v":0},{"$f":"Feuil4!S72","v":0},{"$f":"Feuil4!T72","v":0},{"$f":"Feuil4!U72","v":0},{"$f":"Feuil4!V72","v":0},{"$f":"Feuil4!W72","v":0},{"$f":"Feuil4!X72","v":0},{"$f":"Feuil4!Y72","v":0},{"$f":"Feuil4!Z72","v":0},{"$f":"Feuil4!AA72","v":0},{"$f":"Feuil4!AB72","v":0},{"$f":"Feuil4!AC72","v":0},{"$f":"Feuil4!AD72","v":0},{"$f":"Feuil4!AE72","v":0},{"$f":"Feuil4!AF72","v":0},{"$f":"Feuil4!AG72","v":0},{"$f":"Feuil4!AH72","v":0},{"$f":"Feuil4!AI72","v":0},{"$f":"Feuil4!AJ72","v":0},{"$f":"Feuil4!AK72","v":0},{"$f":"Feuil4!AL72","v":0},{"$f":"Feuil4!AM72","v":0},{"$f":"Feuil4!AN72","v":"00:00:00"},{"$f":"Feuil4!AO72","v":0}]
[{"$f":"Feuil4!A73","v":0},{"$f":"Feuil4!B73","v":{"$error":"#VALUE!"}},{"$f":"Feuil4!C73","v":0},{"$f":"Feuil4!D73","v":0},{"$f":"Feuil4!E73","v":0},{"$f":"Feuil4!F73","v":0},{"$f":"Feuil4!G73","v":0},{"$f":"Feuil4!H73","v":0},{"$f":"Feuil4!I73","v":0},{"$f":"Feuil4!J73","v":0},{"$f":"Feuil4!K73","v":0},{"$f":"Feuil4!L73","v":0},{"$f":"Feuil4!M73","v":0},{"$f":"Feuil4!N73","v":0},{"$f":"Feuil4!O73","v":0},{"$f":"Feuil4!P73","v":0},{"$f":"Feuil4!Q73","v":0},{"$f":"Feuil4!R73","v":0},{"$f":"Feuil4!S73","v":0},{"$f":"Feuil4!T73","v":0},{"$f":"Feuil4!U73","v":0},{"$f":"Feuil4!V73","v":0},{"$f":"Feuil4!W73","v":0},{"$f":"Feuil4!X73","v":0},{"$f":"Feuil4!Y73","v":0},{"$f":"Feuil4!Z73","v":0},{"$f":"Feuil4!AA73","v":0},{"$f":"Feuil4!AB73","v":0},{"$f":"Feuil4!AC73","v":0},{"$f":"Feuil4!AD73","v":0},{"$f":"Feuil4!AE73","v":0},{"$f":"Feuil4!AF73","v":0},{"$f":"Feuil4!AG73","v":0},{"$f":"Feuil4!AH73","v":0},{"$f":"Feuil4!AI73","v":0},{"$f":"Feuil4!AJ73","v":0},{"$f":"Feuil4!AK73","v":0},{"$f":"Feuil4!AL73","v":0},{"$f":"Feuil4!AM73","v":0},{"$f":"Feuil4!AN73","v":"00:00:00"},{"$f":"Feuil4!AO73","v":0}]
[{"$f":"Feuil4!A74","v":0},{"$f":"Feuil4!B74","v":{"$error":"#VALUE!"}},{"$f":"Feuil4!C74","v":0},{"$f":"Feuil4!D74","v":0},{"$f":"Feuil4!E74","v":0},{"$f":"Feuil4!F74","v":0},{"$f":"Feuil4!G74","v":0},{"$f":"Feuil4!H74","v":0},{"$f":"Feuil4!I74","v":0},{"$f":"Feuil4!J74","v":0},{"$f":"Feuil4!K74","v":0},{"$f":"Feuil4!L74","v":0},{"$f":"Feuil4!M74","v":0},{"$f":"Feuil4!N74","v":0},{"$f":"Feuil4!O74","v":0},{"$f":"Feuil4!P74","v":0},{"$f":"Feuil4!Q74","v":0},{"$f":"Feuil4!R74","v":0},{"$f":"Feuil4!S74","v":0},{"$f":"Feuil4!T74","v":0},{"$f":"Feuil4!U74","v":0},{"$f":"Feuil4!V74","v":0},{"$f":"Feuil4!W74","v":0},{"$f":"Feuil4!X74","v":0},{"$f":"Feuil4!Y74","v":0},{"$f":"Feuil4!Z74","v":0},{"$f":"Feuil4!AA74","v":0},{"$f":"Feuil4!AB74","v":0},{"$f":"Feuil4!AC74","v":0},{"$f":"Feuil4!AD74","v":0},{"$f":"Feuil4!AE74","v":0},{"$f":"Feuil4!AF74","v":0},{"$f":"Feuil4!AG74","v":0},{"$f":"Feuil4!AH74","v":0},{"$f":"Feuil4!AI74","v":0},{"$f":"Feuil4!AJ74","v":0},{"$f":"Feuil4!AK74","v":0},{"$f":"Feuil4!AL74","v":0},{"$f":"Feuil4!AM74","v":0},{"$f":"Feuil4!AN74","v":"00:00:00"},{"$f":"Feuil4!AO74","v":0}]
[{"$f":"Feuil4!A75","v":0},{"$f":"Feuil4!B75","v":{"$error":"#VALUE!"}},{"$f":"Feuil4!C75","v":0},{"$f":"Feuil4!D75","v":0},{"$f":"Feuil4!E75","v":0},{"$f":"Feuil4!F75","v":0},{"$f":"Feuil4!G75","v":0},{"$f":"Feuil4!H75","v":0},{"$f":"Feuil4!I75","v":0},{"$f":"Feuil4!J75","v":0},{"$f":"Feuil4!K75","v":0},{"$f":"Feuil4!L75","v":0},{"$f":"Feuil4!M75","v":0},{"$f":"Feuil4!N75","v":0},{"$f":"Feuil4!O75","v":0},{"$f":"Feuil4!P75","v":0},{"$f":"Feuil4!Q75","v":0},{"$f":"Feuil4!R75","v":0},{"$f":"Feuil4!S75","v":0},{"$f":"Feuil4!T75","v":0},{"$f":"Feuil4!U75","v":0},{"$f":"Feuil4!V75","v":0},{"$f":"Feuil4!W75","v":0},{"$f":"Feuil4!X75","v":0},{"$f":"Feuil4!Y75","v":0},{"$f":"Feuil4!Z75","v":0},{"$f":"Feuil4!AA75","v":0},{"$f":"Feuil4!AB75","v":0},{"$f":"Feuil4!AC75","v":0},{"$f":"Feuil4!AD75","v":0},{"$f":"Feuil4!AE75","v":0},{"$f":"Feuil4!AF75","v":0},{"$f":"Feuil4!AG75","v":0},{"$f":"Feuil4!AH75","v":0},{"$f":"Feuil4!AI75","v":0},{"$f":"Feuil4!AJ75","v":0},{"$f":"Feuil4!AK75","v":0},{"$f":"Feuil4!AL75","v":0},{"$f":"Feuil4!AM75","v":0},{"$f":"Feuil4!AN75","v":"00:00:00"},{"$f":"Feuil4!AO75","v":0}]
[{"$f":"Feuil4!A76","v":0},{"$f":"Feuil4!B76","v":{"$error":"#VALUE!"}},{"$f":"Feuil4!C76","v":0},{"$f":"Feuil4!D76","v":0},{"$f":"Feuil4!E76","v":0},{"$f":"Feuil4!F76","v":0},{"$f":"Feuil4!G76","v":0},{"$f":"Feuil4!H76","v":0},{"$f":"Feuil4!I76","v":0},{"$f":"Feuil4!J76","v":0},{"$f":"Feuil4!K76","v":0},{"$f":"Feuil4!L76","v":0},{"$f":"Feuil4!M76","v":0},{"$f":"Feuil4!N76","v":0},{"$f":"Feuil4!O76","v":0},{"$f":"Feuil4!P76","v":0},{"$f":"Feuil4!Q76","v":0},{"$f":"Feuil4!R76","v":0},{"$f":"Feuil4!S76","v":0},{"$f":"Feuil4!T76","v":0},{"$f":"Feuil4!U76","v":0},{"$f":"Feuil4!V76","v":0},{"$f":"Feuil4!W76","v":0},{"$f":"Feuil4!X76","v":0},{"$f":"Feuil4!Y76","v":0},{"$f":"Feuil4!Z76","v":0},{"$f":"Feuil4!AA76","v":0},{"$f":"Feuil4!AB76","v":0},{"$f":"Feuil4!AC76","v":0},{"$f":"Feuil4!AD76","v":0},{"$f":"Feuil4!AE76","v":0},{"$f":"Feuil4!AF76","v":0},{"$f":"Feuil4!AG76","v":0},{"$f":"Feuil4!AH76","v":0},{"$f":"Feuil4!AI76","v":0},{"$f":"Feuil4!AJ76","v":0},{"$f":"Feuil4!AK76","v":0},{"$f":"Feuil4!AL76","v":0},{"$f":"Feuil4!AM76","v":0},{"$f":"Feuil4!AN76","v":"00:00:00"},{"$f":"Feuil4!AO76","v":0}]
[{"$f":"Feuil4!A77","v":0},{"$f":"Feuil4!B77","v":{"$error":"#VALUE!"}},{"$f":"Feuil4!C77","v":0},{"$f":"Feuil4!D77","v":0},{"$f":"Feuil4!E77","v":0},{"$f":"Feuil4!F77","v":0},{"$f":"Feuil4!G77","v":0},{"$f":"Feuil4!H77","v":0},{"$f":"Feuil4!I77","v":0},{"$f":"Feuil4!J77","v":0},{"$f":"Feuil4!K77","v":0},{"$f":"Feuil4!L77","v":0},{"$f":"Feuil4!M77","v":0},{"$f":"Feuil4!N77","v":0},{"$f":"Feuil4!O77","v":0},{"$f":"Feuil4!P77","v":0},{"$f":"Feuil4!Q77","v":0},{"$f":"Feuil4!R77","v":0},{"$f":"Feuil4!S77","v":0},{"$f":"Feuil4!T77","v":0},{"$f":"Feuil4!U77","v":0},{"$f":"Feuil4!V77","v":0},{"$f":"Feuil4!W77","v":0},{"$f":"Feuil4!X77","v":0},{"$f":"Feuil4!Y77","v":0},{"$f":"Feuil4!Z77","v":0},{"$f":"Feuil4!AA77","v":0},{"$f":"Feuil4!AB77","v":0},{"$f":"Feuil4!AC77","v":0},{"$f":"Feuil4!AD77","v":0},{"$f":"Feuil4!AE77","v":0},{"$f":"Feuil4!AF77","v":0},{"$f":"Feuil4!AG77","v":0},{"$f":"Feuil4!AH77","v":0},{"$f":"Feuil4!AI77","v":0},{"$f":"Feuil4!AJ77","v":0},{"$f":"Feuil4!AK77","v":0},{"$f":"Feuil4!AL77","v":0},{"$f":"Feuil4!AM77","v":0},{"$f":"Feuil4!AN77","v":"00:00:00"},{"$f":"Feuil4!AO77","v":0}]
[{"$f":"Feuil4!A78","v":0},{"$f":"Feuil4!B78","v":{"$error":"#VALUE!"}},{"$f":"Feuil4!C78","v":0},{"$f":"Feuil4!D78","v":0},{"$f":"Feuil4!E78","v":0},{"$f":"Feuil4!F78","v":0},{"$f":"Feuil4!G78","v":0},{"$f":"Feuil4!H78","v":0},{"$f":"Feuil4!I78","v":0},{"$f":"Feuil4!J78","v":0},{"$f":"Feuil4!K78","v":0},{"$f":"Feuil4!L78","v":0},{"$f":"Feuil4!M78","v":0},{"$f":"Feuil4!N78","v":0},{"$f":"Feuil4!O78","v":0},{"$f":"Feuil4!P78","v":0},{"$f":"Feuil4!Q78","v":0},{"$f":"Feuil4!R78","v":0},{"$f":"Feuil4!S78","v":0},{"$f":"Feuil4!T78","v":0},{"$f":"Feuil4!U78","v":0},{"$f":"Feuil4!V78","v":0},{"$f":"Feuil4!W78","v":0},{"$f":"Feuil4!X78","v":0},{"$f":"Feuil4!Y78","v":0},{"$f":"Feuil4!Z78","v":0},{"$f":"Feuil4!AA78","v":0},{"$f":"Feuil4!AB78","v":0},{"$f":"Feuil4!AC78","v":0},{"$f":"Feuil4!AD78","v":0},{"$f":"Feuil4!AE78","v":0},{"$f":"Feuil4!AF78","v":0},{"$f":"Feuil4!AG78","v":0},{"$f":"Feuil4!AH78","v":0},{"$f":"Feuil4!AI78","v":0},{"$f":"Feuil4!AJ78","v":0},{"$f":"Feuil4!AK78","v":0},{"$f":"Feuil4!AL78","v":0},{"$f":"Feuil4!AM78","v":0},{"$f":"Feuil4!AN78","v":"00:00:00"},{"$f":"Feuil4!AO78","v":0}]
[{"$f":"Feuil4!A79","v":0},{"$f":"Feuil4!B79","v":{"$error":"#VALUE!"}},{"$f":"Feuil4!C79","v":0},{"$f":"Feuil4!D79","v":0},{"$f":"Feuil4!E79","v":0},{"$f":"Feuil4!F79","v":0},{"$f":"Feuil4!G79","v":0},{"$f":"Feuil4!H79","v":0},{"$f":"Feuil4!I79","v":0},{"$f":"Feuil4!J79","v":0},{"$f":"Feuil4!K79","v":0},{"$f":"Feuil4!L79","v":0},{"$f":"Feuil4!M79","v":0},{"$f":"Feuil4!N79","v":0},{"$f":"Feuil4!O79","v":0},{"$f":"Feuil4!P79","v":0},{"$f":"Feuil4!Q79","v":0},{"$f":"Feuil4!R79","v":0},{"$f":"Feuil4!S79","v":0},{"$f":"Feuil4!T79","v":0},{"$f":"Feuil4!U79","v":0},{"$f":"Feuil4!V79","v":0},{"$f":"Feuil4!W79","v":0},{"$f":"Feuil4!X79","v":0},{"$f":"Feuil4!Y79","v":0},{"$f":"Feuil4!Z79","v":0},{"$f":"Feuil4!AA79","v":0},{"$f":"Feuil4!AB79","v":0},{"$f":"Feuil4!AC79","v":0},{"$f":"Feuil4!AD79","v":0},{"$f":"Feuil4!AE79","v":0},{"$f":"Feuil4!AF79","v":0},{"$f":"Feuil4!AG79","v":0},{"$f":"Feuil4!AH79","v":0},{"$f":"Feuil4!AI79","v":0},{"$f":"Feuil4!AJ79","v":0},{"$f":"Feuil4!AK79","v":0},{"$f":"Feuil4!AL79","v":0},{"$f":"Feuil4!AM79","v":0},{"$f":"Feuil4!AN79","v":"00:00:00"},{"$f":"Feuil4!AO79","v":0}]
[{"$f":"Feuil4!A80","v":0},{"$f":"Feuil4!B80","v":{"$error":"#VALUE!"}},{"$f":"Feuil4!C80","v":0},{"$f":"Feuil4!D80","v":0},{"$f":"Feuil4!E80","v":0},{"$f":"Feuil4!F80","v":0},{"$f":"Feuil4!G80","v":0},{"$f":"Feuil4!H80","v":0},{"$f":"Feuil4!I80","v":0},{"$f":"Feuil4!J80","v":0},{"$f":"Feuil4!K80","v":0},{"$f":"Feuil4!L80","v":0},{"$f":"Feuil4!M80","v":0},{"$f":"Feuil4!N80","v":0},{"$f":"Feuil4!O80","v":0},{"$f":"Feuil4!P80","v":0},{"$f":"Feuil4!Q80","v":0},{"$f":"Feuil4!R80","v":0},{"$f":"Feuil4!S80","v":0},{"$f":"Feuil4!T80","v":0},{"$f":"Feuil4!U80","v":0},{"$f":"Feuil4!V80","v":0},{"$f":"Feuil4!W80","v":0},{"$f":"Feuil4!X80","v":0},{"$f":"Feuil4!Y80","v":0},{"$f":"Feuil4!Z80","v":0},{"$f":"Feuil4!AA80","v":0},{"$f":"Feuil4!AB80","v":0},{"$f":"Feuil4!AC80","v":0},{"$f":"Feuil4!AD80","v":0},{"$f":"Feuil4!AE80","v":0},{"$f":"Feuil4!AF80","v":0},{"$f":"Feuil4!AG80","v":0},{"$f":"Feuil4!AH80","v":0},{"$f":"Feuil4!AI80","v":0},{"$f":"Feuil4!AJ80","v":0},{"$f":"Feuil4!AK80","v":0},{"$f":"Feuil4!AL80","v":0},{"$f":"Feuil4!AM80","v":0},{"$f":"Feuil4!AN80","v":"00:00:00"},{"$f":"Feuil4!AO80","v":0}]
[{"$f":"Feuil4!A81","v":0},{"$f":"Feuil4!B81","v":{"$error":"#VALUE!"}},{"$f":"Feuil4!C81","v":0},{"$f":"Feuil4!D81","v":0},{"$f":"Feuil4!E81","v":0},{"$f":"Feuil4!F81","v":0},{"$f":"Feuil4!G81","v":0},{"$f":"Feuil4!H81","v":0},{"$f":"Feuil4!I81","v":0},{"$f":"Feuil4!J81","v":0},{"$f":"Feuil4!K81","v":0},{"$f":"Feuil4!L81","v":0},{"$f":"Feuil4!M81","v":0},{"$f":"Feuil4!N81","v":0},{"$f":"Feuil4!O81","v":0},{"$f":"Feuil4!P81","v":0},{"$f":"Feuil4!Q81","v":0},{"$f":"Feuil4!R81","v":0},{"$f":"Feuil4!S81","v":0},{"$f":"Feuil4!T81","v":0},{"$f":"Feuil4!U81","v":0},{"$f":"Feuil4!V81","v":0},{"$f":"Feuil4!W81","v":0},{"$f":"Feuil4!X81","v":0},{"$f":"Feuil4!Y81","v":0},{"$f":"Feuil4!Z81","v":0},{"$f":"Feuil4!AA81","v":0},{"$f":"Feuil4!AB81","v":0},{"$f":"Feuil4!AC81","v":0},{"$f":"Feuil4!AD81","v":0},{"$f":"Feuil4!AE81","v":0},{"$f":"Feuil4!AF81","v":0},{"$f":"Feuil4!AG81","v":0},{"$f":"Feuil4!AH81","v":0},{"$f":"Feuil4!AI81","v":0},{"$f":"Feuil4!AJ81","v":0},{"$f":"Feuil4!AK81","v":0},{"$f":"Feuil4!AL81","v":0},{"$f":"Feuil4!AM81","v":0},{"$f":"Feuil4!AN81","v":"00:00:00"},{"$f":"Feuil4!AO81","v":0}]
[{"$f":"Feuil4!A82","v":0},{"$f":"Feuil4!B82","v":{"$error":"#VALUE!"}},{"$f":"Feuil4!C82","v":0},{"$f":"Feuil4!D82","v":0},{"$f":"Feuil4!E82","v":0},{"$f":"Feuil4!F82","v":0},{"$f":"Feuil4!G82","v":0},{"$f":"Feuil4!H82","v":0},{"$f":"Feuil4!I82","v":0},{"$f":"Feuil4!J82","v":0},{"$f":"Feuil4!K82","v":0},{"$f":"Feuil4!L82","v":0},{"$f":"Feuil4!M82","v":0},{"$f":"Feuil4!N82","v":0},{"$f":"Feuil4!O82","v":0},{"$f":"Feuil4!P82","v":0},{"$f":"Feuil4!Q82","v":0},{"$f":"Feuil4!R82","v":0},{"$f":"Feuil4!S82","v":0},{"$f":"Feuil4!T82","v":0},{"$f":"Feuil4!U82","v":0},{"$f":"Feuil4!V82","v":0},{"$f":"Feuil4!W82","v":0},{"$f":"Feuil4!X82","v":0},{"$f":"Feuil4!Y82","v":0},{"$f":"Feuil4!Z82","v":0},{"$f":"Feuil4!AA82","v":0},{"$f":"Feuil4!AB82","v":0},{"$f":"Feuil4!AC82","v":0},{"$f":"Feuil4!AD82","v":0},{"$f":"Feuil4!AE82","v":0},{"$f":"Feuil4!AF82","v":0},{"$f":"Feuil4!AG82","v":0},{"$f":"Feuil4!AH82","v":0},{"$f":"Feuil4!AI82","v":0},{"$f":"Feuil4!AJ82","v":0},{"$f":"Feuil4!AK82","v":0},{"$f":"Feuil4!AL82","v":0},{"$f":"Feuil4!AM82","v":0},{"$f":"Feuil4!AN82","v":"00:00:00"},{"$f":"Feuil4!AO82","v":0}]
[{"$f":"Feuil4!A83","v":0},{"$f":"Feuil4!B83","v":{"$error":"#VALUE!"}},{"$f":"Feuil4!C83","v":0},{"$f":"Feuil4!D83","v":0},{"$f":"Feuil4!E83","v":0},{"$f":"Feuil4!F83","v":0},{"$f":"Feuil4!G83","v":0},{"$f":"Feuil4!H83","v":0},{"$f":"Feuil4!I83","v":0},{"$f":"Feuil4!J83","v":0},{"$f":"Feuil4!K83","v":0},{"$f":"Feuil4!L83","v":0},{"$f":"Feuil4!M83","v":0},{"$f":"Feuil4!N83","v":0},{"$f":"Feuil4!O83","v":0},{"$f":"Feuil4!P83","v":0},{"$f":"Feuil4!Q83","v":0},{"$f":"Feuil4!R83","v":0},{"$f":"Feuil4!S83","v":0},{"$f":"Feuil4!T83","v":0},{"$f":"Feuil4!U83","v":0},{"$f":"Feuil4!V83","v":0},{"$f":"Feuil4!W83","v":0},{"$f":"Feuil4!X83","v":0},{"$f":"Feuil4!Y83","v":0},{"$f":"Feuil4!Z83","v":0},{"$f":"Feuil4!AA83","v":0},{"$f":"Feuil4!AB83","v":0},{"$f":"Feuil4!AC83","v":0},{"$f":"Feuil4!AD83","v":0},{"$f":"Feuil4!AE83","v":0},{"$f":"Feuil4!AF83","v":0},{"$f":"Feuil4!AG83","v":0},{"$f":"Feuil4!AH83","v":0},{"$f":"Feuil4!AI83","v":0},{"$f":"Feuil4!AJ83","v":0},{"$f":"Feuil4!AK83","v":0},{"$f":"Feuil4!AL83","v":0},{"$f":"Feuil4!AM83","v":0},{"$f":"Feuil4!AN83","v":"00:00:00"},{"$f":"Feuil4!AO83","v":0}]
[{"$f":"Feuil4!A84","v":0},{"$f":"Feuil4!B84","v":{"$error":"#VALUE!"}},{"$f":"Feuil4!C84","v":0},{"$f":"Feuil4!D84","v":0},{"$f":"Feuil4!E84","v":0},{"$f":"Feuil4!F84","v":0},{"$f":"Feuil4!G84","v":0},{"$f":"Feuil4!H84","v":0},{"$f":"Feuil4!I84","v":0},{"$f":"Feuil4!J84","v":0},{"$f":"Feuil4!K84","v":0},{"$f":"Feuil4!L84","v":0},{"$f":"Feuil4!M84","v":0},{"$f":"Feuil4!N84","v":0},{"$f":"Feuil4!O84","v":0},{"$f":"Feuil4!P84","v":0},{"$f":"Feuil4!Q84","v":0},{"$f":"Feuil4!R84","v":0},{"$f":"Feuil4!S84","v":0},{"$f":"Feuil4!T84","v":0},{"$f":"Feuil4!U84","v":0},{"$f":"Feuil4!V84","v":0},{"$f":"Feuil4!W84","v":0},{"$f":"Feuil4!X84","v":0},{"$f":"Feuil4!Y84","v":0},{"$f":"Feuil4!Z84","v":0},{"$f":"Feuil4!AA84","v":0},{"$f":"Feuil4!AB84","v":0},{"$f":"Feuil4!AC84","v":0},{"$f":"Feuil4!AD84","v":0},{"$f":"Feuil4!AE84","v":0},{"$f":"Feuil4!AF84","v":0},{"$f":"Feuil4!AG84","v":0},{"$f":"Feuil4!AH84","v":0},{"$f":"Feuil4!AI84","v":0},{"$f":"Feuil4!AJ84","v":0},{"$f":"Feuil4!AK84","v":0},{"$f":"Feuil4!AL84","v":0},{"$f":"Feuil4!AM84","v":0},{"$f":"Feuil4!AN84","v":"00:00:00"},{"$f":"Feuil4!AO84","v":0}]
[{"$f":"Feuil4!A85","v":0},{"$f":"Feuil4!B85","v":{"$error":"#VALUE!"}},{"$f":"Feuil4!C85","v":0},{"$f":"Feuil4!D85","v":0},{"$f":"Feuil4!E85","v":0},{"$f":"Feuil4!F85","v":0},{"$f":"Feuil4!G85","v":0},{"$f":"Feuil4!H85","v":0},{"$f":"Feuil4!I85","v":0},{"$f":"Feuil4!J85","v":0},{"$f":"Feuil4!K85","v":0},{"$f":"Feuil4!L85","v":0},{"$f":"Feuil4!M85","v":0},{"$f":"Feuil4!N85","v":0},{"$f":"Feuil4!O85","v":0},{"$f":"Feuil4!P85","v":0},{"$f":"Feuil4!Q85","v":0},{"$f":"Feuil4!R85","v":0},{"$f":"Feuil4!S85","v":0},{"$f":"Feuil4!T85","v":0},{"$f":"Feuil4!U85","v":0},{"$f":"Feuil4!V85","v":0},{"$f":"Feuil4!W85","v":0},{"$f":"Feuil4!X85","v":0},{"$f":"Feuil4!Y85","v":0},{"$f":"Feuil4!Z85","v":0},{"$f":"Feuil4!AA85","v":0},{"$f":"Feuil4!AB85","v":0},{"$f":"Feuil4!AC85","v":0},{"$f":"Feuil4!AD85","v":0},{"$f":"Feuil4!AE85","v":0},{"$f":"Feuil4!AF85","v":0},{"$f":"Feuil4!AG85","v":0},{"$f":"Feuil4!AH85","v":0},{"$f":"Feuil4!AI85","v":0},{"$f":"Feuil4!AJ85","v":0},{"$f":"Feuil4!AK85","v":0},{"$f":"Feuil4!AL85","v":0},{"$f":"Feuil4!AM85","v":0},{"$f":"Feuil4!AN85","v":"00:00:00"},{"$f":"Feuil4!AO85","v":0}]
[{"$f":"Feuil4!A86","v":0},{"$f":"Feuil4!B86","v":{"$error":"#VALUE!"}},{"$f":"Feuil4!C86","v":0},{"$f":"Feuil4!D86","v":0},{"$f":"Feuil4!E86","v":0},{"$f":"Feuil4!F86","v":0},{"$f":"Feuil4!G86","v":0},{"$f":"Feuil4!H86","v":0},{"$f":"Feuil4!I86","v":0},{"$f":"Feuil4!J86","v":0},{"$f":"Feuil4!K86","v":0},{"$f":"Feuil4!L86","v":0},{"$f":"Feuil4!M86","v":0},{"$f":"Feuil4!N86","v":0},{"$f":"Feuil4!O86","v":0},{"$f":"Feuil4!P86","v":0},{"$f":"Feuil4!Q86","v":0},{"$f":"Feuil4!R86","v":0},{"$f":"Feuil4!S86","v":0},{"$f":"Feuil4!T86","v":0},{"$f":"Feuil4!U86","v":0},{"$f":"Feuil4!V86","v":0},{"$f":"Feuil4!W86","v":0},{"$f":"Feuil4!X86","v":0},{"$f":"Feuil4!Y86","v":0},{"$f":"Feuil4!Z86","v":0},{"$f":"Feuil4!AA86","v":0},{"$f":"Feuil4!AB86","v":0},{"$f":"Feuil4!AC86","v":0},{"$f":"Feuil4!AD86","v":0},{"$f":"Feuil4!AE86","v":0},{"$f":"Feuil4!AF86","v":0},{"$f":"Feuil4!AG86","v":0},{"$f":"Feuil4!AH86","v":0},{"$f":"Feuil4!AI86","v":0},{"$f":"Feuil4!AJ86","v":0},{"$f":"Feuil4!AK86","v":0},{"$f":"Feuil4!AL86","v":0},{"$f":"Feuil4!AM86","v":0},{"$f":"Feuil4!AN86","v":"00:00:00"},{"$f":"Feuil4!AO86","v":0}]
[{"$f":"Feuil4!A87","v":0},{"$f":"Feuil4!B87","v":{"$error":"#VALUE!"}},{"$f":"Feuil4!C87","v":0},{"$f":"Feuil4!D87","v":0},{"$f":"Feuil4!E87","v":0},{"$f":"Feuil4!F87","v":0},{"$f":"Feuil4!G87","v":0},{"$f":"Feuil4!H87","v":0},{"$f":"Feuil4!I87","v":0},{"$f":"Feuil4!J87","v":0},{"$f":"Feuil4!K87","v":0},{"$f":"Feuil4!L87","v":0},{"$f":"Feuil4!M87","v":0},{"$f":"Feuil4!N87","v":0},{"$f":"Feuil4!O87","v":0},{"$f":"Feuil4!P87","v":0},{"$f":"Feuil4!Q87","v":0},{"$f":"Feuil4!R87","v":0},{"$f":"Feuil4!S87","v":0},{"$f":"Feuil4!T87","v":0},{"$f":"Feuil4!U87","v":0},{"$f":"Feuil4!V87","v":0},{"$f":"Feuil4!W87","v":0},{"$f":"Feuil4!X87","v":0},{"$f":"Feuil4!Y87","v":0},{"$f":"Feuil4!Z87","v":0},{"$f":"Feuil4!AA87","v":0},{"$f":"Feuil4!AB87","v":0},{"$f":"Feuil4!AC87","v":0},{"$f":"Feuil4!AD87","v":0},{"$f":"Feuil4!AE87","v":0},{"$f":"Feuil4!AF87","v":0},{"$f":"Feuil4!AG87","v":0},{"$f":"Feuil4!AH87","v":0},{"$f":"Feuil4!AI87","v":0},{"$f":"Feuil4!AJ87","v":0},{"$f":"Feuil4!AK87","v":0},{"$f":"Feuil4!AL87","v":0},{"$f":"Feuil4!AM87","v":0},{"$f":"Feuil4!AN87","v":"00:00:00"},{"$f":"Feuil4!AO87","v":0}]
[{"$f":"Feuil4!A88","v":0},{"$f":"Feuil4!B88","v":{"$error":"#VALUE!"}},{"$f":"Feuil4!C88","v":0},{"$f":"Feuil4!D88","v":0},{"$f":"Feuil4!E88","v":0},{"$f":"Feuil4!F88","v":0},{"$f":"Feuil4!G88","v":0},{"$f":"Feuil4!H88","v":0},{"$f":"Feuil4!I88","v":0},{"$f":"Feuil4!J88","v":0},{"$f":"Feuil4!K88","v":0},{"$f":"Feuil4!L88","v":0},{"$f":"Feuil4!M88","v":0},{"$f":"Feuil4!N88","v":0},{"$f":"Feuil4!O88","v":0},{"$f":"Feuil4!P88","v":0},{"$f":"Feuil4!Q88","v":0},{"$f":"Feuil4!R88","v":0},{"$f":"Feuil4!S88","v":0},{"$f":"Feuil4!T88","v":0},{"$f":"Feuil4!U88","v":0},{"$f":"Feuil4!V88","v":0},{"$f":"Feuil4!W88","v":0},{"$f":"Feuil4!X88","v":0},{"$f":"Feuil4!Y88","v":0},{"$f":"Feuil4!Z88","v":0},{"$f":"Feuil4!AA88","v":0},{"$f":"Feuil4!AB88","v":0},{"$f":"Feuil4!AC88","v":0},{"$f":"Feuil4!AD88","v":0},{"$f":"Feuil4!AE88","v":0},{"$f":"Feuil4!AF88","v":0},{"$f":"Feuil4!AG88","v":0},{"$f":"Feuil4!AH88","v":0},{"$f":"Feuil4!AI88","v":0},{"$f":"Feuil4!AJ88","v":0},{"$f":"Feuil4!AK88","v":0},{"$f":"Feuil4!AL88","v":0},{"$f":"Feuil4!AM88","v":0},{"$f":"Feuil4!AN88","v":"00:00:00"},{"$f":"Feuil4!AO88","v":0}]
[{"$f":"Feuil4!A89","v":0},{"$f":"Feuil4!B89","v":{"$error":"#VALUE!"}},{"$f":"Feuil4!C89","v":0},{"$f":"Feuil4!D89","v":0},{"$f":"Feuil4!E89","v":0},{"$f":"Feuil4!F89","v":0},{"$f":"Feuil4!G89","v":0},{"$f":"Feuil4!H89","v":0},{"$f":"Feuil4!I89","v":0},{"$f":"Feuil4!J89","v":0},{"$f":"Feuil4!K89","v":0},{"$f":"Feuil4!L89","v":0},{"$f":"Feuil4!M89","v":0},{"$f":"Feuil4!N89","v":0},{"$f":"Feuil4!O89","v":0},{"$f":"Feuil4!P89","v":0},{"$f":"Feuil4!Q89","v":0},{"$f":"Feuil4!R89","v":0},{"$f":"Feuil4!S89","v":0},{"$f":"Feuil4!T89","v":0},{"$f":"Feuil4!U89","v":0},{"$f":"Feuil4!V89","v":0},{"$f":"Feuil4!W89","v":0},{"$f":"Feuil4!X89","v":0},{"$f":"Feuil4!Y89","v":0},{"$f":"Feuil4!Z89","v":0},{"$f":"Feuil4!AA89","v":0},{"$f":"Feuil4!AB89","v":0},{"$f":"Feuil4!AC89","v":0},{"$f":"Feuil4!AD89","v":0},{"$f":"Feuil4!AE89","v":0},{"$f":"Feuil4!AF89","v":0},{"$f":"Feuil4!AG89","v":0},{"$f":"Feuil4!AH89","v":0},{"$f":"Feuil4!AI89","v":0},{"$f":"Feuil4!AJ89","v":0},{"$f":"Feuil4!AK89","v":0},{"$f":"Feuil4!AL89","v":0},{"$f":"Feuil4!AM89","v":0},{"$f":"Feuil4!AN89","v":"00:00:00"},{"$f":"Feuil4!AO89","v":0}]
[{"$f":"Feuil4!A90","v":0},{"$f":"Feuil4!B90","v":{"$error":"#VALUE!"}},{"$f":"Feuil4!C90","v":0},{"$f":"Feuil4!D90","v":0},{"$f":"Feuil4!E90","v":0},{"$f":"Feuil4!F90","v":0},{"$f":"Feuil4!G90","v":0},{"$f":"Feuil4!H90","v":0},{"$f":"Feuil4!I90","v":0},{"$f":"Feuil4!J90","v":0},{"$f":"Feuil4!K90","v":0},{"$f":"Feuil4!L90","v":0},{"$f":"Feuil4!M90","v":0},{"$f":"Feuil4!N90","v":0},{"$f":"Feuil4!O90","v":0},{"$f":"Feuil4!P90","v":0},{"$f":"Feuil4!Q90","v":0},{"$f":"Feuil4!R90","v":0},{"$f":"Feuil4!S90","v":0},{"$f":"Feuil4!T90","v":0},{"$f":"Feuil4!U90","v":0},{"$f":"Feuil4!V90","v":0},{"$f":"Feuil4!W90","v":0},{"$f":"Feuil4!X90","v":0},{"$f":"Feuil4!Y90","v":0},{"$f":"Feuil4!Z90","v":0},{"$f":"Feuil4!AA90","v":0},{"$f":"Feuil4!AB90","v":0},{"$f":"Feuil4!AC90","v":0},{"$f":"Feuil4!AD90","v":0},{"$f":"Feuil4!AE90","v":0},{"$f":"Feuil4!AF90","v":0},{"$f":"Feuil4!AG90","v":0},{"$f":"Feuil4!AH90","v":0},{"$f":"Feuil4!AI90","v":0},{"$f":"Feuil4!AJ90","v":0},{"$f":"Feuil4!AK90","v":0},{"$f":"Feuil4!AL90","v":0},{"$f":"Feuil4!AM90","v":0},{"$f":"Feuil4!AN90","v":"00:00:00"},{"$f":"Feuil4!AO90","v":0}]
[{"$f":"Feuil4!A91","v":0},{"$f":"Feuil4!B91","v":{"$error":"#VALUE!"}},{"$f":"Feuil4!C91","v":0},{"$f":"Feuil4!D91","v":0},{"$f":"Feuil4!E91","v":0},{"$f":"Feuil4!F91","v":0},{"$f":"Feuil4!G91","v":0},{"$f":"Feuil4!H91","v":0},{"$f":"Feuil4!I91","v":0},{"$f":"Feuil4!J91","v":0},{"$f":"Feuil4!K91","v":0},{"$f":"Feuil4!L91","v":0},{"$f":"Feuil4!M91","v":0},{"$f":"Feuil4!N91","v":0},{"$f":"Feuil4!O91","v":0},{"$f":"Feuil4!P91","v":0},{"$f":"Feuil4!Q91","v":0},{"$f":"Feuil4!R91","v":0},{"$f":"Feuil4!S91","v":0},{"$f":"Feuil4!T91","v":0},{"$f":"Feuil4!U91","v":0},{"$f":"Feuil4!V91","v":0},{"$f":"Feuil4!W91","v":0},{"$f":"Feuil4!X91","v":0},{"$f":"Feuil4!Y91","v":0},{"$f":"Feuil4!Z91","v":0},{"$f":"Feuil4!AA91","v":0},{"$f":"Feuil4!AB91","v":0},{"$f":"Feuil4!AC91","v":0},{"$f":"Feuil4!AD91","v":0},{"$f":"Feuil4!AE91","v":0},{"$f":"Feuil4!AF91","v":0},{"$f":"Feuil4!AG91","v":0},{"$f":"Feuil4!AH91","v":0},{"$f":"Feuil4!AI91","v":0},{"$f":"Feuil4!AJ91","v":0},{"$f":"Feuil4!AK91","v":0},{"$f":"Feuil4!AL91","v":0},{"$f":"Feuil4!AM91","v":0},{"$f":"Feuil4!AN91","v":"00:00:00"},{"$f":"Feuil4!AO91","v":0}]
[{"$f":"Feuil4!A92","v":0},{"$f":"Feuil4!B92","v":{"$error":"#VALUE!"}},{"$f":"Feuil4!C92","v":0},{"$f":"Feuil4!D92","v":0},{"$f":"Feuil4!E92","v":0},{"$f":"Feuil4!F92","v":0},{"$f":"Feuil4!G92","v":0},{"$f":"Feuil4!H92","v":0},{"$f":"Feuil4!I92","v":0},{"$f":"Feuil4!J92","v":0},{"$f":"Feuil4!K92","v":0},{"$f":"Feuil4!L92","v":0},{"$f":"Feuil4!M92","v":0},{"$f":"Feuil4!N92","v":0},{"$f":"Feuil4!O92","v":0},{"$f":"Feuil4!P92","v":0},{"$f":"Feuil4!Q92","v":0},{"$f":"Feuil4!R92","v":0},{"$f":"Feuil4!S92","v":0},{"$f":"Feuil4!T92","v":0},{"$f":"Feuil4!U92","v":0},{"$f":"Feuil4!V92","v":0},{"$f":"Feuil4!W92","v":0},{"$f":"Feuil4!X92","v":0},{"$f":"Feuil4!Y92","v":0},{"$f":"Feuil4!Z92","v":0},{"$f":"Feuil4!AA92","v":0},{"$f":"Feuil4!AB92","v":0},{"$f":"Feuil4!AC92","v":0},{"$f":"Feuil4!AD92","v":0},{"$f":"Feuil4!AE92","v":0},{"$f":"Feuil4!AF92","v":0},{"$f":"Feuil4!AG92","v":0},{"$f":"Feuil4!AH92","v":0},{"$f":"Feuil4!AI92","v":0},{"$f":"Feuil4!AJ92","v":0},{"$f":"Feuil4!AK92","v":0},{"$f":"Feuil4!AL92","v":0},{"$f":"Feuil4!AM92","v":0},{"$f":"Feuil4!AN92","v":"00:00:00"},{"$f":"Feuil4!AO92","v":0}]
[{"$f":"Feuil4!A93","v":0},{"$f":"Feuil4!B93","v":{"$error":"#VALUE!"}},{"$f":"Feuil4!C93","v":0},{"$f":"Feuil4!D93","v":0},{"$f":"Feuil4!E93","v":0},{"$f":"Feuil4!F93","v":0},{"$f":"Feuil4!G93","v":0},{"$f":"Feuil4!H93","v":0},{"$f":"Feuil4!I93","v":0},{"$f":"Feuil4!J93","v":0},{"$f":"Feuil4!K93","v":0},{"$f":"Feuil4!L93","v":0},{"$f":"Feuil4!M93","v":0},{"$f":"Feuil4!N93","v":0},{"$f":"Feuil4!O93","v":0},{"$f":"Feuil4!P93","v":0},{"$f":"Feuil4!Q93","v":0},{"$f":"Feuil4!R93","v":0},{"$f":"Feuil4!S93","v":0},{"$f":"Feuil4!T93","v":0},{"$f":"Feuil4!U93","v":0},{"$f":"Feuil4!V93","v":0},{"$f":"Feuil4!W93","v":0},{"$f":"Feuil4!X93","v":0},{"$f":"Feuil4!Y93","v":0},{"$f":"Feuil4!Z93","v":0},{"$f":"Feuil4!AA93","v":0},{"$f":"Feuil4!AB93","v":0},{"$f":"Feuil4!AC93","v":0},{"$f":"Feuil4!AD93","v":0},{"$f":"Feuil4!AE93","v":0},{"$f":"Feuil4!AF93","v":0},{"$f":"Feuil4!AG93","v":0},{"$f":"Feuil4!AH93","v":0},{"$f":"Feuil4!AI93","v":0},{"$f":"Feuil4!AJ93","v":0},{"$f":"Feuil4!AK93","v":0},{"$f":"Feuil4!AL93","v":0},{"$f":"Feuil4!AM93","v":0},{"$f":"Feuil4!AN93","v":"00:00:00"},{"$f":"Feuil4!AO93","v":0}]
[{"$f":"Feuil4!A94","v":0},{"$f":"Feuil4!B94","v":{"$error":"#VALUE!"}},{"$f":"Feuil4!C94","v":0},{"$f":"Feuil4!D94","v":0},{"$f":"Feuil4!E94","v":0},{"$f":"Feuil4!F94","v":0},{"$f":"Feuil4!G94","v":0},{"$f":"Feuil4!H94","v":0},{"$f":"Feuil4!I94","v":0},{"$f":"Feuil4!J94","v":0},{"$f":"Feuil4!K94","v":0},{"$f":"Feuil4!L94","v":0},{"$f":"Feuil4!M94","v":0},{"$f":"Feuil4!N94","v":0},{"$f":"Feuil4!O94","v":0},{"$f":"Feuil4!P94","v":0},{"$f":"Feuil4!Q94","v":0},{"$f":"Feuil4!R94","v":0},{"$f":"Feuil4!S94","v":0},{"$f":"Feuil4!T94","v":0},{"$f":"Feuil4!U94","v":0},{"$f":"Feuil4!V94","v":0},{"$f":"Feuil4!W94","v":0},{"$f":"Feuil4!X94","v":0},{"$f":"Feuil4!Y94","v":0},{"$f":"Feuil4!Z94","v":0},{"$f":"Feuil4!AA94","v":0},{"$f":"Feuil4!AB94","v":0},{"$f":"Feuil4!AC94","v":0},{"$f":"Feuil4!AD94","v":0},{"$f":"Feuil4!AE94","v":0},{"$f":"Feuil4!AF94","v":0},{"$f":"Feuil4!AG94","v":0},{"$f":"Feuil4!AH94","v":0},{"$f":"Feuil4!AI94","v":0},{"$f":"Feuil4!AJ94","v":0},{"$f":"Feuil4!AK94","v":0},{"$f":"Feuil4!AL94","v":0},{"$f":"Feuil4!AM94","v":0},{"$f":"Feuil4!AN94","v":"00:00:00"},{"$f":"Feuil4!AO94","v":0}]
[{"$f":"Feuil4!A95","v":0},{"$f":"Feuil4!B95","v":{"$error":"#VALUE!"}},{"$f":"Feuil4!C95","v":0},{"$f":"Feuil4!D95","v":0},{"$f":"Feuil4!E95","v":0},{"$f":"Feuil4!F95","v":0},{"$f":"Feuil4!G95","v":0},{"$f":"Feuil4!H95","v":0},{"$f":"Feuil4!I95","v":0},{"$f":"Feuil4!J95","v":0},{"$f":"Feuil4!K95","v":0},{"$f":"Feuil4!L95","v":0},{"$f":"Feuil4!M95","v":0},{"$f":"Feuil4!N95","v":0},{"$f":"Feuil4!O95","v":0},{"$f":"Feuil4!P95","v":0},{"$f":"Feuil4!Q95","v":0},{"$f":"Feuil4!R95","v":0},{"$f":"Feuil4!S95","v":0},{"$f":"Feuil4!T95","v":0},{"$f":"Feuil4!U95","v":0},{"$f":"Feuil4!V95","v":0},{"$f":"Feuil4!W95","v":0},{"$f":"Feuil4!X95","v":0},{"$f":"Feuil4!Y95","v":0},{"$f":"Feuil4!Z95","v":0},{"$f":"Feuil4!AA95","v":0},{"$f":"Feuil4!AB95","v":0},{"$f":"Feuil4!AC95","v":0},{"$f":"Feuil4!AD95","v":0},{"$f":"Feuil4!AE95","v":0},{"$f":"Feuil4!AF95","v":0},{"$f":"Feuil4!AG95","v":0},{"$f":"Feuil4!AH95","v":0},{"$f":"Feuil4!AI95","v":0},{"$f":"Feuil4!AJ95","v":0},{"$f":"Feuil4!AK95","v":0},{"$f":"Feuil4!AL95","v":0},{"$f":"Feuil4!AM95","v":0},{"$f":"Feuil4!AN95","v":"00:00:00"},{"$f":"Feuil4!AO95","v":0}]
[{"$f":"Feuil4!A96","v":0},{"$f":"Feuil4!B96","v":{"$error":"#VALUE!"}},{"$f":"Feuil4!C96","v":0},{"$f":"Feuil4!D96","v":0},{"$f":"Feuil4!E96","v":0},{"$f":"Feuil4!F96","v":0},{"$f":"Feuil4!G96","v":0},{"$f":"Feuil4!H96","v":0},{"$f":"Feuil4!I96","v":0},{"$f":"Feuil4!J96","v":0},{"$f":"Feuil4!K96","v":0},{"$f":"Feuil4!L96","v":0},{"$f":"Feuil4!M96","v":0},{"$f":"Feuil4!N96","v":0},{"$f":"Feuil4!O96","v":0},{"$f":"Feuil4!P96","v":0},{"$f":"Feuil4!Q96","v":0},{"$f":"Feuil4!R96","v":0},{"$f":"Feuil4!S96","v":0},{"$f":"Feuil4!T96","v":0},{"$f":"Feuil4!U96","v":0},{"$f":"Feuil4!V96","v":0},{"$f":"Feuil4!W96","v":0},{"$f":"Feuil4!X96","v":0},{"$f":"Feuil4!Y96","v":0},{"$f":"Feuil4!Z96","v":0},{"$f":"Feuil4!AA96","v":0},{"$f":"Feuil4!AB96","v":0},{"$f":"Feuil4!AC96","v":0},{"$f":"Feuil4!AD96","v":0},{"$f":"Feuil4!AE96","v":0},{"$f":"Feuil4!AF96","v":0},{"$f":"Feuil4!AG96","v":0},{"$f":"Feuil4!AH96","v":0},{"$f":"Feuil4!AI96","v":0},{"$f":"Feuil4!AJ96","v":0},{"$f":"Feuil4!AK96","v":0},{"$f":"Feuil4!AL96","v":0},{"$f":"Feuil4!AM96","v":0},{"$f":"Feuil4!AN96","v":"00:00:00"},{"$f":"Feuil4!AO96","v":0}]
[{"$f":"Feuil4!A97","v":0},{"$f":"Feuil4!B97","v":{"$error":"#VALUE!"}},{"$f":"Feuil4!C97","v":0},{"$f":"Feuil4!D97","v":0},{"$f":"Feuil4!E97","v":0},{"$f":"Feuil4!F97","v":0},{"$f":"Feuil4!G97","v":0},{"$f":"Feuil4!H97","v":0},{"$f":"Feuil4!I97","v":0},{"$f":"Feuil4!J97","v":0},{"$f":"Feuil4!K97","v":0},{"$f":"Feuil4!L97","v":0},{"$f":"Feuil4!M97","v":0},{"$f":"Feuil4!N97","v":0},{"$f":"Feuil4!O97","v":0},{"$f":"Feuil4!P97","v":0},{"$f":"Feuil4!Q97","v":0},{"$f":"Feuil4!R97","v":0},{"$f":"Feuil4!S97","v":0},{"$f":"Feuil4!T97","v":0},{"$f":"Feuil4!U97","v":0},{"$f":"Feuil4!V97","v":0},{"$f":"Feuil4!W97","v":0},{"$f":"Feuil4!X97","v":0},{"$f":"Feuil4!Y97","v":0},{"$f":"Feuil4!Z97","v":0},{"$f":"Feuil4!AA97","v":0},{"$f":"Feuil4!AB97","v":0},{"$f":"Feuil4!AC97","v":0},{"$f":"Feuil4!AD97","v":0},{"$f":"Feuil4!AE97","v":0},{"$f":"Feuil4!AF97","v":0},{"$f":"Feuil4!AG97","v":0},{"$f":"Feuil4!AH97","v":0},{"$f":"Feuil4!AI97","v":0},{"$f":"Feuil4!AJ97","v":0},{"$f":"Feuil4!AK97","v":0},{"$f":"Feuil4!AL97","v":0},{"$f":"Feuil4!AM97","v":0},{"$f":"Feuil4!AN97","v":"00:00:00"},{"$f":"Feuil4!AO97","v":0}]
[{"$f":"Feuil4!A98","v":0},{"$f":"Feuil4!B98","v":{"$error":"#VALUE!"}},{"$f":"Feuil4!C98","v":0},{"$f":"Feuil4!D98","v":0},{"$f":"Feuil4!E98","v":0},{"$f":"Feuil4!F98","v":0},{"$f":"Feuil4!G98","v":0},{"$f":"Feuil4!H98","v":0},{"$f":"Feuil4!I98","v":0},{"$f":"Feuil4!J98","v":0},{"$f":"Feuil4!K98","v":0},{"$f":"Feuil4!L98","v":0},{"$f":"Feuil4!M98","v":0},{"$f":"Feuil4!N98","v":0},{"$f":"Feuil4!O98","v":0},{"$f":"Feuil4!P98","v":0},{"$f":"Feuil4!Q98","v":0},{"$f":"Feuil4!R98","v":0},{"$f":"Feuil4!S98","v":0},{"$f":"Feuil4!T98","v":0},{"$f":"Feuil4!U98","v":0},{"$f":"Feuil4!V98","v":0},{"$f":"Feuil4!W98","v":0},{"$f":"Feuil4!X98","v":0},{"$f":"Feuil4!Y98","v":0},{"$f":"Feuil4!Z98","v":0},{"$f":"Feuil4!AA98","v":0},{"$f":"Feuil4!AB98","v":0},{"$f":"Feuil4!AC98","v":0},{"$f":"Feuil4!AD98","v":0},{"$f":"Feuil4!AE98","v":0},{"$f":"Feuil4!AF98","v":0},{"$f":"Feuil4!AG98","v":0},{"$f":"Feuil4!AH98","v":0},{"$f":"Feuil4!AI98","v":0},{"$f":"Feuil4!AJ98","v":0},{"$f":"Feuil4!AK98","v":0},{"$f":"Feuil4!AL98","v":0},{"$f":"Feuil4!AM98","v":0},{"$f":"Feuil4!AN98","v":"00:00:00"},{"$f":"Feuil4!AO98","v":0}]
[{"$f":"Feuil4!A99","v":0},{"$f":"Feuil4!B99","v":{"$error":"#VALUE!"}},{"$f":"Feuil4!C99","v":0},{"$f":"Feuil4!D99","v":0},{"$f":"Feuil4!E99","v":0},{"$f":"Feuil4!F99","v":0},{"$f":"Feuil4!G99","v":0},{"$f":"Feuil4!H99","v":0},{"$f":"Feuil4!I99","v":0},{"$f":"Feuil4!J99","v":0},{"$f":"Feuil4!K99","v":0},{"$f":"Feuil4!L99","v":0},{"$f":"Feuil4!M99","v":0},{"$f":"Feuil4!N99","v":0},{"$f":"Feuil4!O99","v":0},{"$f":"Feuil4!P99","v":0},{"$f":"Feuil4!Q99","v":0},{"$f":"Feuil4!R99","v":0},{"$f":"Feuil4!S99","v":0},{"$f":"Feuil4!T99","v":0},{"$f":"Feuil4!U99","v":0},{"$f":"Feuil4!V99","v":0},{"$f":"Feuil4!W99","v":0},{"$f":"Feuil4!X99","v":0},{"$f":"Feuil4!Y99","v":0},{"$f":"Feuil4!Z99","v":0},{"$f":"Feuil4!AA99","v":0},{"$f":"Feuil4!AB99","v":0},{"$f":"Feuil4!AC99","v":0},{"$f":"Feuil4!AD99","v":0},{"$f":"Feuil4!AE99","v":0},{"$f":"Feuil4!AF99","v":0},{"$f":"Feuil4!AG99","v":0},{"$f":"Feuil4!AH99","v":0},{"$f":"Feuil4!AI99","v":0},{"$f":"Feuil4!AJ99","v":0},{"$f":"Feuil4!AK99","v":0},{"$f":"Feuil4!AL99","v":0},{"$f":"Feuil4!AM99","v":0},{"$f":"Feuil4!AN99","v":"00:00:00"},{"$f":"Feuil4!AO99","v":0}]
[{"$f":"Feuil4!A100","v":0},{"$f":"Feuil4!B100","v":{"$error":"#VALUE!"}},{"$f":"Feuil4!C100","v":0},{"$f":"Feuil4!D100","v":0},{"$f":"Feuil4!E100","v":0},{"$f":"Feuil4!F100","v":0},{"$f":"Feuil4!G100","v":0},{"$f":"Feuil4!H100","v":0},{"$f":"Feuil4!I100","v":0},{"$f":"Feuil4!J100","v":0},{"$f":"Feuil4!K100","v":0},{"$f":"Feuil4!L100","v":0},{"$f":"Feuil4!M100","v":0},{"$f":"Feuil4!N100","v":0},{"$f":"Feuil4!O100","v":0},{"$f":"Feuil4!P100","v":0},{"$f":"Feuil4!Q100","v":0},{"$f":"Feuil4!R100","v":0},{"$f":"Feuil4!S100","v":0},{"$f":"Feuil4!T100","v":0},{"$f":"Feuil4!U100","v":0},{"$f":"Feuil4!V100","v":0},{"$f":"Feuil4!W100","v":0},{"$f":"Feuil4!X100","v":0},{"$f":"Feuil4!Y100","v":0},{"$f":"Feuil4!Z100","v":0},{"$f":"Feuil4!AA100","v":0},{"$f":"Feuil4!AB100","v":0},{"$f":"Feuil4!AC100","v":0},{"$f":"Feuil4!AD100","v":0},{"$f":"Feuil4!AE100","v":0},{"$f":"Feuil4!AF100","v":0},{"$f":"Feuil4!AG100","v":0},{"$f":"Feuil4!AH100","v":0},{"$f":"Feuil4!AI100","v":0},{"$f":"Feuil4!AJ100","v":0},{"$f":"Feuil4!AK100","v":0},{"$f":"Feuil4!AL100","v":0},{"$f":"Feuil4!AM100","v":0},{"$f":"Feuil4!AN100","v":"00:00:00"},{"$f":"Feuil4!AO100","v":0}]
[{"$f":"Feuil4!A101","v":0},{"$f":"Feuil4!B101","v":{"$error":"#VALUE!"}},{"$f":"Feuil4!C101","v":0},{"$f":"Feuil4!D101","v":0},{"$f":"Feuil4!E101","v":0},{"$f":"Feuil4!F101","v":0},{"$f":"Feuil4!G101","v":0},{"$f":"Feuil4!H101","v":0},{"$f":"Feuil4!I101","v":0},{"$f":"Feuil4!J101","v":0},{"$f":"Feuil4!K101","v":0},{"$f":"Feuil4!L101","v":0},{"$f":"Feuil4!M101","v":0},{"$f":"Feuil4!N101","v":0},{"$f":"Feuil4!O101","v":0},{"$f":"Feuil4!P101","v":0},{"$f":"Feuil4!Q101","v":0},{"$f":"Feuil4!R101","v":0},{"$f":"Feuil4!S101","v":0},{"$f":"Feuil4!T101","v":0},{"$f":"Feuil4!U101","v":0},{"$f":"Feuil4!V101","v":0},{"$f":"Feuil4!W101","v":0},{"$f":"Feuil4!X101","v":0},{"$f":"Feuil4!Y101","v":0},{"$f":"Feuil4!Z101","v":0},{"$f":"Feuil4!AA101","v":0},{"$f":"Feuil4!AB101","v":0},{"$f":"Feuil4!AC101","v":0},{"$f":"Feuil4!AD101","v":0},{"$f":"Feuil4!AE101","v":0},{"$f":"Feuil4!AF101","v":0},{"$f":"Feuil4!AG101","v":0},{"$f":"Feuil4!AH101","v":0},{"$f":"Feuil4!AI101","v":0},{"$f":"Feuil4!AJ101","v":0},{"$f":"Feuil4!AK101","v":0},{"$f":"Feuil4!AL101","v":0},{"$f":"Feuil4!AM101","v":0},{"$f":"Feuil4!AN101","v":"00:00:00"},{"$f":"Feuil4!AO101","v":0}]
[{"$f":"Feuil4!A102","v":0},{"$f":"Feuil4!B102","v":{"$error":"#VALUE!"}},{"$f":"Feuil4!C102","v":0},{"$f":"Feuil4!D102","v":0},{"$f":"Feuil4!E102","v":0},{"$f":"Feuil4!F102","v":0},{"$f":"Feuil4!G102","v":0},{"$f":"Feuil4!H102","v":0},{"$f":"Feuil4!I102","v":0},{"$f":"Feuil4!J102","v":0},{"$f":"Feuil4!K102","v":0},{"$f":"Feuil4!L102","v":0},{"$f":"Feuil4!M102","v":0},{"$f":"Feuil4!N102","v":0},{"$f":"Feuil4!O102","v":0},{"$f":"Feuil4!P102","v":0},{"$f":"Feuil4!Q102","v":0},{"$f":"Feuil4!R102","v":0},{"$f":"Feuil4!S102","v":0},{"$f":"Feuil4!T102","v":0},{"$f":"Feuil4!U102","v":0},{"$f":"Feuil4!V102","v":0},{"$f":"Feuil4!W102","v":0},{"$f":"Feuil4!X102","v":0},{"$f":"Feuil4!Y102","v":0},{"$f":"Feuil4!Z102","v":0},{"$f":"Feuil4!AA102","v":0},{"$f":"Feuil4!AB102","v":0},{"$f":"Feuil4!AC102","v":0},{"$f":"Feuil4!AD102","v":0},{"$f":"Feuil4!AE102","v":0},{"$f":"Feuil4!AF102","v":0},{"$f":"Feuil4!AG102","v":0},{"$f":"Feuil4!AH102","v":0},{"$f":"Feuil4!AI102","v":0},{"$f":"Feuil4!AJ102","v":0},{"$f":"Feuil4!AK102","v":0},{"$f":"Feuil4!AL102","v":0},{"$f":"Feuil4!AM102","v":0},{"$f":"Feuil4!AN102","v":"00:00:00"},{"$f":"Feuil4!AO102","v":0}]
[{"$f":"Feuil4!A103","v":0},{"$f":"Feuil4!B103","v":{"$error":"#VALUE!"}},{"$f":"Feuil4!C103","v":0},{"$f":"Feuil4!D103","v":0},{"$f":"Feuil4!E103","v":0},{"$f":"Feuil4!F103","v":0},{"$f":"Feuil4!G103","v":0},{"$f":"Feuil4!H103","v":0},{"$f":"Feuil4!I103","v":0},{"$f":"Feuil4!J103","v":0},{"$f":"Feuil4!K103","v":0},{"$f":"Feuil4!L103","v":0},{"$f":"Feuil4!M103","v":0},{"$f":"Feuil4!N103","v":0},{"$f":"Feuil4!O103","v":0},{"$f":"Feuil4!P103","v":0},{"$f":"Feuil4!Q103","v":0},{"$f":"Feuil4!R103","v":0},{"$f":"Feuil4!S103","v":0},{"$f":"Feuil4!T103","v":0},{"$f":"Feuil4!U103","v":0},{"$f":"Feuil4!V103","v":0},{"$f":"Feuil4!W103","v":0},{"$f":"Feuil4!X103","v":0},{"$f":"Feuil4!Y103","v":0},{"$f":"Feuil4!Z103","v":0},{"$f":"Feuil4!AA103","v":0},{"$f":"Feuil4!AB103","v":0},{"$f":"Feuil4!AC103","v":0},{"$f":"Feuil4!AD103","v":0},{"$f":"Feuil4!AE103","v":0},{"$f":"Feuil4!AF103","v":0},{"$f":"Feuil4!AG103","v":0},{"$f":"Feuil4!AH103","v":0},{"$f":"Feuil4!AI103","v":0},{"$f":"Feuil4!AJ103","v":0},{"$f":"Feuil4!AK103","v":0},{"$f":"Feuil4!AL103","v":0},{"$f":"Feuil4!AM103","v":0},{"$f":"Feuil4!AN103","v":"00:00:00"},{"$f":"Feuil4!AO103","v":0}]
[{"$f":"Feuil4!A104","v":0},{"$f":"Feuil4!B104","v":{"$error":"#VALUE!"}},{"$f":"Feuil4!C104","v":0},{"$f":"Feuil4!D104","v":0},{"$f":"Feuil4!E104","v":0},{"$f":"Feuil4!F104","v":0},{"$f":"Feuil4!G104","v":0},{"$f":"Feuil4!H104","v":0},{"$f":"Feuil4!I104","v":0},{"$f":"Feuil4!J104","v":0},{"$f":"Feuil4!K104","v":0},{"$f":"Feuil4!L104","v":0},{"$f":"Feuil4!M104","v":0},{"$f":"Feuil4!N104","v":0},{"$f":"Feuil4!O104","v":0},{"$f":"Feuil4!P104","v":0},{"$f":"Feuil4!Q104","v":0},{"$f":"Feuil4!R104","v":0},{"$f":"Feuil4!S104","v":0},{"$f":"Feuil4!T104","v":0},{"$f":"Feuil4!U104","v":0},{"$f":"Feuil4!V104","v":0},{"$f":"Feuil4!W104","v":0},{"$f":"Feuil4!X104","v":0},{"$f":"Feuil4!Y104","v":0},{"$f":"Feuil4!Z104","v":0},{"$f":"Feuil4!AA104","v":0},{"$f":"Feuil4!AB104","v":0},{"$f":"Feuil4!AC104","v":0},{"$f":"Feuil4!AD104","v":0},{"$f":"Feuil4!AE104","v":0},{"$f":"Feuil4!AF104","v":0},{"$f":"Feuil4!AG104","v":0},{"$f":"Feuil4!AH104","v":0},{"$f":"Feuil4!AI104","v":0},{"$f":"Feuil4!AJ104","v":0},{"$f":"Feuil4!AK104","v":0},{"$f":"Feuil4!AL104","v":0},{"$f":"Feuil4!AM104","v":0},{"$f":"Feuil4!AN104","v":"00:00:00"},{"$f":"Feuil4!AO104","v":0}]
[{"$f":"Feuil4!A105","v":0},{"$f":"Feuil4!B105","v":{"$error":"#VALUE!"}},{"$f":"Feuil4!C105","v":0},{"$f":"Feuil4!D105","v":0},{"$f":"Feuil4!E105","v":0},{"$f":"Feuil4!F105","v":0},{"$f":"Feuil4!G105","v":0},{"$f":"Feuil4!H105","v":0},{"$f":"Feuil4!I105","v":0},{"$f":"Feuil4!J105","v":0},{"$f":"Feuil4!K105","v":0},{"$f":"Feuil4!L105","v":0},{"$f":"Feuil4!M105","v":0},{"$f":"Feuil4!N105","v":0},{"$f":"Feuil4!O105","v":0},{"$f":"Feuil4!P105","v":0},{"$f":"Feuil4!Q105","v":0},{"$f":"Feuil4!R105","v":0},{"$f":"Feuil4!S105","v":0},{"$f":"Feuil4!T105","v":0},{"$f":"Feuil4!U105","v":0},{"$f":"Feuil4!V105","v":0},{"$f":"Feuil4!W105","v":0},{"$f":"Feuil4!X105","v":0},{"$f":"Feuil4!Y105","v":0},{"$f":"Feuil4!Z105","v":0},{"$f":"Feuil4!AA105","v":0},{"$f":"Feuil4!AB105","v":0},{"$f":"Feuil4!AC105","v":0},{"$f":"Feuil4!AD105","v":0},{"$f":"Feuil4!AE105","v":0},{"$f":"Feuil4!AF105","v":0},{"$f":"Feuil4!AG105","v":0},{"$f":"Feuil4!AH105","v":0},{"$f":"Feuil4!AI105","v":0},{"$f":"Feuil4!AJ105","v":0},{"$f":"Feuil4!AK105","v":0},{"$f":"Feuil4!AL105","v":0},{"$f":"Feuil4!AM105","v":0},{"$f":"Feuil4!AN105","v":"00:00:00"},{"$f":"Feuil4!AO105","v":0}]
[{"$f":"Feuil4!A106","v":0},{"$f":"Feuil4!B106","v":{"$error":"#VALUE!"}},{"$f":"Feuil4!C106","v":0},{"$f":"Feuil4!D106","v":0},{"$f":"Feuil4!E106","v":0},{"$f":"Feuil4!F106","v":0},{"$f":"Feuil4!G106","v":0},{"$f":"Feuil4!H106","v":0},{"$f":"Feuil4!I106","v":0},{"$f":"Feuil4!J106","v":0},{"$f":"Feuil4!K106","v":0},{"$f":"Feuil4!L106","v":0},{"$f":"Feuil4!M106","v":0},{"$f":"Feuil4!N106","v":0},{"$f":"Feuil4!O106","v":0},{"$f":"Feuil4!P106","v":0},{"$f":"Feuil4!Q106","v":0},{"$f":"Feuil4!R106","v":0},{"$f":"Feuil4!S106","v":0},{"$f":"Feuil4!T106","v":0},{"$f":"Feuil4!U106","v":0},{"$f":"Feuil4!V106","v":0},{"$f":"Feuil4!W106","v":0},{"$f":"Feuil4!X106","v":0},{"$f":"Feuil4!Y106","v":0},{"$f":"Feuil4!Z106","v":0},{"$f":"Feuil4!AA106","v":0},{"$f":"Feuil4!AB106","v":0},{"$f":"Feuil4!AC106","v":0},{"$f":"Feuil4!AD106","v":0},{"$f":"Feuil4!AE106","v":0},{"$f":"Feuil4!AF106","v":0},{"$f":"Feuil4!AG106","v":0},{"$f":"Feuil4!AH106","v":0},{"$f":"Feuil4!AI106","v":0},{"$f":"Feuil4!AJ106","v":0},{"$f":"Feuil4!AK106","v":0},{"$f":"Feuil4!AL106","v":0},{"$f":"Feuil4!AM106","v":0},{"$f":"Feuil4!AN106","v":"00:00:00"},{"$f":"Feuil4!AO106","v":0}]
[{"$f":"Feuil4!A107","v":0},{"$f":"Feuil4!B107","v":{"$error":"#VALUE!"}},{"$f":"Feuil4!C107","v":0},{"$f":"Feuil4!D107","v":0},{"$f":"Feuil4!E107","v":0},{"$f":"Feuil4!F107","v":0},{"$f":"Feuil4!G107","v":0},{"$f":"Feuil4!H107","v":0},{"$f":"Feuil4!I107","v":0},{"$f":"Feuil4!J107","v":0},{"$f":"Feuil4!K107","v":0},{"$f":"Feuil4!L107","v":0},{"$f":"Feuil4!M107","v":0},{"$f":"Feuil4!N107","v":0},{"$f":"Feuil4!O107","v":0},{"$f":"Feuil4!P107","v":0},{"$f":"Feuil4!Q107","v":0},{"$f":"Feuil4!R107","v":0},{"$f":"Feuil4!S107","v":0},{"$f":"Feuil4!T107","v":0},{"$f":"Feuil4!U107","v":0},{"$f":"Feuil4!V107","v":0},{"$f":"Feuil4!W107","v":0},{"$f":"Feuil4!X107","v":0},{"$f":"Feuil4!Y107","v":0},{"$f":"Feuil4!Z107","v":0},{"$f":"Feuil4!AA107","v":0},{"$f":"Feuil4!AB107","v":0},{"$f":"Feuil4!AC107","v":0},{"$f":"Feuil4!AD107","v":0},{"$f":"Feuil4!AE107","v":0},{"$f":"Feuil4!AF107","v":0},{"$f":"Feuil4!AG107","v":0},{"$f":"Feuil4!AH107","v":0},{"$f":"Feuil4!AI107","v":0},{"$f":"Feuil4!AJ107","v":0},{"$f":"Feuil4!AK107","v":0},{"$f":"Feuil4!AL107","v":0},{"$f":"Feuil4!AM107","v":0},{"$f":"Feuil4!AN107","v":"00:00:00"},{"$f":"Feuil4!AO107","v":0}]
[{"$f":"Feuil4!A108","v":0},{"$f":"Feuil4!B108","v":{"$error":"#VALUE!"}},{"$f":"Feuil4!C108","v":0},{"$f":"Feuil4!D108","v":0},{"$f":"Feuil4!E108","v":0},{"$f":"Feuil4!F108","v":0},{"$f":"Feuil4!G108","v":0},{"$f":"Feuil4!H108","v":0},{"$f":"Feuil4!I108","v":0},{"$f":"Feuil4!J108","v":0},{"$f":"Feuil4!K108","v":0},{"$f":"Feuil4!L108","v":0},{"$f":"Feuil4!M108","v":0},{"$f":"Feuil4!N108","v":0},{"$f":"Feuil4!O108","v":0},{"$f":"Feuil4!P108","v":0},{"$f":"Feuil4!Q108","v":0},{"$f":"Feuil4!R108","v":0},{"$f":"Feuil4!S108","v":0},{"$f":"Feuil4!T108","v":0},{"$f":"Feuil4!U108","v":0},{"$f":"Feuil4!V108","v":0},{"$f":"Feuil4!W108","v":0},{"$f":"Feuil4!X108","v":0},{"$f":"Feuil4!Y108","v":0},{"$f":"Feuil4!Z108","v":0},{"$f":"Feuil4!AA108","v":0},{"$f":"Feuil4!AB108","v":0},{"$f":"Feuil4!AC108","v":0},{"$f":"Feuil4!AD108","v":0},{"$f":"Feuil4!AE108","v":0},{"$f":"Feuil4!AF108","v":0},{"$f":"Feuil4!AG108","v":0},{"$f":"Feuil4!AH108","v":0},{"$f":"Feuil4!AI108","v":0},{"$f":"Feuil4!AJ108","v":0},{"$f":"Feuil4!AK108","v":0},{"$f":"Feuil4!AL108","v":0},{"$f":"Feuil4!AM108","v":0},{"$f":"Feuil4!AN108","v":"00:00:00"},{"$f":"Feuil4!AO108","v":0}]
[{"$f":"Feuil4!A109","v":0},{"$f":"Feuil4!B109","v":{"$error":"#VALUE!"}},{"$f":"Feuil4!C109","v":0},{"$f":"Feuil4!D109","v":0},{"$f":"Feuil4!E109","v":0},{"$f":"Feuil4!F109","v":0},{"$f":"Feuil4!G109","v":0},{"$f":"Feuil4!H109","v":0},{"$f":"Feuil4!I109","v":0},{"$f":"Feuil4!J109","v":0},{"$f":"Feuil4!K109","v":0},{"$f":"Feuil4!L109","v":0},{"$f":"Feuil4!M109","v":0},{"$f":"Feuil4!N109","v":0},{"$f":"Feuil4!O109","v":0},{"$f":"Feuil4!P109","v":0},{"$f":"Feuil4!Q109","v":0},{"$f":"Feuil4!R109","v":0},{"$f":"Feuil4!S109","v":0},{"$f":"Feuil4!T109","v":0},{"$f":"Feuil4!U109","v":0},{"$f":"Feuil4!V109","v":0},{"$f":"Feuil4!W109","v":0},{"$f":"Feuil4!X109","v":0},{"$f":"Feuil4!Y109","v":0},{"$f":"Feuil4!Z109","v":0},{"$f":"Feuil4!AA109","v":0},{"$f":"Feuil4!AB109","v":0},{"$f":"Feuil4!AC109","v":0},{"$f":"Feuil4!AD109","v":0},{"$f":"Feuil4!AE109","v":0},{"$f":"Feuil4!AF109","v":0},{"$f":"Feuil4!AG109","v":0},{"$f":"Feuil4!AH109","v":0},{"$f":"Feuil4!AI109","v":0},{"$f":"Feuil4!AJ109","v":0},{"$f":"Feuil4!AK109","v":0},{"$f":"Feuil4!AL109","v":0},{"$f":"Feuil4!AM109","v":0},{"$f":"Feuil4!AN109","v":"00:00:00"},{"$f":"Feuil4!AO109","v":0}]
[{"$f":"Feuil4!A110","v":0},{"$f":"Feuil4!B110","v":{"$error":"#VALUE!"}},{"$f":"Feuil4!C110","v":0},{"$f":"Feuil4!D110","v":0},{"$f":"Feuil4!E110","v":0},{"$f":"Feuil4!F110","v":0},{"$f":"Feuil4!G110","v":0},{"$f":"Feuil4!H110","v":0},{"$f":"Feuil4!I110","v":0},{"$f":"Feuil4!J110","v":0},{"$f":"Feuil4!K110","v":0},{"$f":"Feuil4!L110","v":0},{"$f":"Feuil4!M110","v":0},{"$f":"Feuil4!N110","v":0},{"$f":"Feuil4!O110","v":0},{"$f":"Feuil4!P110","v":0},{"$f":"Feuil4!Q110","v":0},{"$f":"Feuil4!R110","v":0},{"$f":"Feuil4!S110","v":0},{"$f":"Feuil4!T110","v":0},{"$f":"Feuil4!U110","v":0},{"$f":"Feuil4!V110","v":0},{"$f":"Feuil4!W110","v":0},{"$f":"Feuil4!X110","v":0},{"$f":"Feuil4!Y110","v":0},{"$f":"Feuil4!Z110","v":0},{"$f":"Feuil4!AA110","v":0},{"$f":"Feuil4!AB110","v":0},{"$f":"Feuil4!AC110","v":0},{"$f":"Feuil4!AD110","v":0},{"$f":"Feuil4!AE110","v":0},{"$f":"Feuil4!AF110","v":0},{"$f":"Feuil4!AG110","v":0},{"$f":"Feuil4!AH110","v":0},{"$f":"Feuil4!AI110","v":0},{"$f":"Feuil4!AJ110","v":0},{"$f":"Feuil4!AK110","v":0},{"$f":"Feuil4!AL110","v":0},{"$f":"Feuil4!AM110","v":0},{"$f":"Feuil4!AN110","v":"00:00:00"},{"$f":"Feuil4!AO110","v":0}]
[{"$f":"Feuil4!A111","v":0},{"$f":"Feuil4!B111","v":{"$error":"#VALUE!"}},{"$f":"Feuil4!C111","v":0},{"$f":"Feuil4!D111","v":0},{"$f":"Feuil4!E111","v":0},{"$f":"Feuil4!F111","v":0},{"$f":"Feuil4!G111","v":0},{"$f":"Feuil4!H111","v":0},{"$f":"Feuil4!I111","v":0},{"$f":"Feuil4!J111","v":0},{"$f":"Feuil4!K111","v":0},{"$f":"Feuil4!L111","v":0},{"$f":"Feuil4!M111","v":0},{"$f":"Feuil4!N111","v":0},{"$f":"Feuil4!O111","v":0},{"$f":"Feuil4!P111","v":0},{"$f":"Feuil4!Q111","v":0},{"$f":"Feuil4!R111","v":0},{"$f":"Feuil4!S111","v":0},{"$f":"Feuil4!T111","v":0},{"$f":"Feuil4!U111","v":0},{"$f":"Feuil4!V111","v":0},{"$f":"Feuil4!W111","v":0},{"$f":"Feuil4!X111","v":0},{"$f":"Feuil4!Y111","v":0},{"$f":"Feuil4!Z111","v":0},{"$f":"Feuil4!AA111","v":0},{"$f":"Feuil4!AB111","v":0},{"$f":"Feuil4!AC111","v":0},{"$f":"Feuil4!AD111","v":0},{"$f":"Feuil4!AE111","v":0},{"$f":"Feuil4!AF111","v":0},{"$f":"Feuil4!AG111","v":0},{"$f":"Feuil4!AH111","v":0},{"$f":"Feuil4!AI111","v":0},{"$f":"Feuil4!AJ111","v":0},{"$f":"Feuil4!AK111","v":0},{"$f":"Feuil4!AL111","v":0},{"$f":"Feuil4!AM111","v":0},{"$f":"Feuil4!AN111","v":"00:00:00"},{"$f":"Feuil4!AO111","v":0}]
[{"$f":"Feuil4!A112","v":0},{"$f":"Feuil4!B112","v":{"$error":"#VALUE!"}},{"$f":"Feuil4!C112","v":0},{"$f":"Feuil4!D112","v":0},{"$f":"Feuil4!E112","v":0},{"$f":"Feuil4!F112","v":0},{"$f":"Feuil4!G112","v":0},{"$f":"Feuil4!H112","v":0},{"$f":"Feuil4!I112","v":0},{"$f":"Feuil4!J112","v":0},{"$f":"Feuil4!K112","v":0},{"$f":"Feuil4!L112","v":0},{"$f":"Feuil4!M112","v":0},{"$f":"Feuil4!N112","v":0},{"$f":"Feuil4!O112","v":0},{"$f":"Feuil4!P112","v":0},{"$f":"Feuil4!Q112","v":0},{"$f":"Feuil4!R112","v":0},{"$f":"Feuil4!S112","v":0},{"$f":"Feuil4!T112","v":0},{"$f":"Feuil4!U112","v":0},{"$f":"Feuil4!V112","v":0},{"$f":"Feuil4!W112","v":0},{"$f":"Feuil4!X112","v":0},{"$f":"Feuil4!Y112","v":0},{"$f":"Feuil4!Z112","v":0},{"$f":"Feuil4!AA112","v":0},{"$f":"Feuil4!AB112","v":0},{"$f":"Feuil4!AC112","v":0},{"$f":"Feuil4!AD112","v":0},{"$f":"Feuil4!AE112","v":0},{"$f":"Feuil4!AF112","v":0},{"$f":"Feuil4!AG112","v":0},{"$f":"Feuil4!AH112","v":0},{"$f":"Feuil4!AI112","v":0},{"$f":"Feuil4!AJ112","v":0},{"$f":"Feuil4!AK112","v":0},{"$f":"Feuil4!AL112","v":0},{"$f":"Feuil4!AM112","v":0},{"$f":"Feuil4!AN112","v":"00:00:00"},{"$f":"Feuil4!AO112","v":0}]
[{"$f":"Feuil4!A113","v":0},{"$f":"Feuil4!B113","v":{"$error":"#VALUE!"}},{"$f":"Feuil4!C113","v":0},{"$f":"Feuil4!D113","v":0},{"$f":"Feuil4!E113","v":0},{"$f":"Feuil4!F113","v":0},{"$f":"Feuil4!G113","v":0},{"$f":"Feuil4!H113","v":0},{"$f":"Feuil4!I113","v":0},{"$f":"Feuil4!J113","v":0},{"$f":"Feuil4!K113","v":0},{"$f":"Feuil4!L113","v":0},{"$f":"Feuil4!M113","v":0},{"$f":"Feuil4!N113","v":0},{"$f":"Feuil4!O113","v":0},{"$f":"Feuil4!P113","v":0},{"$f":"Feuil4!Q113","v":0},{"$f":"Feuil4!R113","v":0},{"$f":"Feuil4!S113","v":0},{"$f":"Feuil4!T113","v":0},{"$f":"Feuil4!U113","v":0},{"$f":"Feuil4!V113","v":0},{"$f":"Feuil4!W113","v":0},{"$f":"Feuil4!X113","v":0},{"$f":"Feuil4!Y113","v":0},{"$f":"Feuil4!Z113","v":0},{"$f":"Feuil4!AA113","v":0},{"$f":"Feuil4!AB113","v":0},{"$f":"Feuil4!AC113","v":0},{"$f":"Feuil4!AD113","v":0},{"$f":"Feuil4!AE113","v":0},{"$f":"Feuil4!AF113","v":0},{"$f":"Feuil4!AG113","v":0},{"$f":"Feuil4!AH113","v":0},{"$f":"Feuil4!AI113","v":0},{"$f":"Feuil4!AJ113","v":0},{"$f":"Feuil4!AK113","v":0},{"$f":"Feuil4!AL113","v":0},{"$f":"Feuil4!AM113","v":0},{"$f":"Feuil4!AN113","v":"00:00:00"},{"$f":"Feuil4!AO113","v":0}]
[{"$f":"Feuil4!A114","v":0},{"$f":"Feuil4!B114","v":{"$error":"#VALUE!"}},{"$f":"Feuil4!C114","v":0},{"$f":"Feuil4!D114","v":0},{"$f":"Feuil4!E114","v":0},{"$f":"Feuil4!F114","v":0},{"$f":"Feuil4!G114","v":0},{"$f":"Feuil4!H114","v":0},{"$f":"Feuil4!I114","v":0},{"$f":"Feuil4!J114","v":0},{"$f":"Feuil4!K114","v":0},{"$f":"Feuil4!L114","v":0},{"$f":"Feuil4!M114","v":0},{"$f":"Feuil4!N114","v":0},{"$f":"Feuil4!O114","v":0},{"$f":"Feuil4!P114","v":0},{"$f":"Feuil4!Q114","v":0},{"$f":"Feuil4!R114","v":0},{"$f":"Feuil4!S114","v":0},{"$f":"Feuil4!T114","v":0},{"$f":"Feuil4!U114","v":0},{"$f":"Feuil4!V114","v":0},{"$f":"Feuil4!W114","v":0},{"$f":"Feuil4!X114","v":0},{"$f":"Feuil4!Y114","v":0},{"$f":"Feuil4!Z114","v":0},{"$f":"Feuil4!AA114","v":0},{"$f":"Feuil4!AB114","v":0},{"$f":"Feuil4!AC114","v":0},{"$f":"Feuil4!AD114","v":0},{"$f":"Feuil4!AE114","v":0},{"$f":"Feuil4!AF114","v":0},{"$f":"Feuil4!AG114","v":0},{"$f":"Feuil4!AH114","v":0},{"$f":"Feuil4!AI114","v":0},{"$f":"Feuil4!AJ114","v":0},{"$f":"Feuil4!AK114","v":0},{"$f":"Feuil4!AL114","v":0},{"$f":"Feuil4!AM114","v":0},{"$f":"Feuil4!AN114","v":"00:00:00"},{"$f":"Feuil4!AO114","v":0}]
[{"$f":"Feuil4!A115","v":0},{"$f":"Feuil4!B115","v":{"$error":"#VALUE!"}},{"$f":"Feuil4!C115","v":0},{"$f":"Feuil4!D115","v":0},{"$f":"Feuil4!E115","v":0},{"$f":"Feuil4!F115","v":0},{"$f":"Feuil4!G115","v":0},{"$f":"Feuil4!H115","v":0},{"$f":"Feuil4!I115","v":0},{"$f":"Feuil4!J115","v":0},{"$f":"Feuil4!K115","v":0},{"$f":"Feuil4!L115","v":0},{"$f":"Feuil4!M115","v":0},{"$f":"Feuil4!N115","v":0},{"$f":"Feuil4!O115","v":0},{"$f":"Feuil4!P115","v":0},{"$f":"Feuil4!Q115","v":0},{"$f":"Feuil4!R115","v":0},{"$f":"Feuil4!S115","v":0},{"$f":"Feuil4!T115","v":0},{"$f":"Feuil4!U115","v":0},{"$f":"Feuil4!V115","v":0},{"$f":"Feuil4!W115","v":0},{"$f":"Feuil4!X115","v":0},{"$f":"Feuil4!Y115","v":0},{"$f":"Feuil4!Z115","v":0},{"$f":"Feuil4!AA115","v":0},{"$f":"Feuil4!AB115","v":0},{"$f":"Feuil4!AC115","v":0},{"$f":"Feuil4!AD115","v":0},{"$f":"Feuil4!AE115","v":0},{"$f":"Feuil4!AF115","v":0},{"$f":"Feuil4!AG115","v":0},{"$f":"Feuil4!AH115","v":0},{"$f":"Feuil4!AI115","v":0},{"$f":"Feuil4!AJ115","v":0},{"$f":"Feuil4!AK115","v":0},{"$f":"Feuil4!AL115","v":0},{"$f":"Feuil4!AM115","v":0},{"$f":"Feuil4!AN115","v":"00:00:00"},{"$f":"Feuil4!AO115","v":0}]
[{"$f":"Feuil4!A116","v":0},{"$f":"Feuil4!B116","v":{"$error":"#VALUE!"}},{"$f":"Feuil4!C116","v":0},{"$f":"Feuil4!D116","v":0},{"$f":"Feuil4!E116","v":0},{"$f":"Feuil4!F116","v":0},{"$f":"Feuil4!G116","v":0},{"$f":"Feuil4!H116","v":0},{"$f":"Feuil4!I116","v":0},{"$f":"Feuil4!J116","v":0},{"$f":"Feuil4!K116","v":0},{"$f":"Feuil4!L116","v":0},{"$f":"Feuil4!M116","v":0},{"$f":"Feuil4!N116","v":0},{"$f":"Feuil4!O116","v":0},{"$f":"Feuil4!P116","v":0},{"$f":"Feuil4!Q116","v":0},{"$f":"Feuil4!R116","v":0},{"$f":"Feuil4!S116","v":0},{"$f":"Feuil4!T116","v":0},{"$f":"Feuil4!U116","v":0},{"$f":"Feuil4!V116","v":0},{"$f":"Feuil4!W116","v":0},{"$f":"Feuil4!X116","v":0},{"$f":"Feuil4!Y116","v":0},{"$f":"Feuil4!Z116","v":0},{"$f":"Feuil4!AA116","v":0},{"$f":"Feuil4!AB116","v":0},{"$f":"Feuil4!AC116","v":0},{"$f":"Feuil4!AD116","v":0},{"$f":"Feuil4!AE116","v":0},{"$f":"Feuil4!AF116","v":0},{"$f":"Feuil4!AG116","v":0},{"$f":"Feuil4!AH116","v":0},{"$f":"Feuil4!AI116","v":0},{"$f":"Feuil4!AJ116","v":0},{"$f":"Feuil4!AK116","v":0},{"$f":"Feuil4!AL116","v":0},{"$f":"Feuil4!AM116","v":0},{"$f":"Feuil4!AN116","v":"00:00:00"},{"$f":"Feuil4!AO116","v":0}]
[{"$f":"Feuil4!A117","v":0},{"$f":"Feuil4!B117","v":{"$error":"#VALUE!"}},{"$f":"Feuil4!C117","v":0},{"$f":"Feuil4!D117","v":0},{"$f":"Feuil4!E117","v":0},{"$f":"Feuil4!F117","v":0},{"$f":"Feuil4!G117","v":0},{"$f":"Feuil4!H117","v":0},{"$f":"Feuil4!I117","v":0},{"$f":"Feuil4!J117","v":0},{"$f":"Feuil4!K117","v":0},{"$f":"Feuil4!L117","v":0},{"$f":"Feuil4!M117","v":0},{"$f":"Feuil4!N117","v":0},{"$f":"Feuil4!O117","v":0},{"$f":"Feuil4!P117","v":0},{"$f":"Feuil4!Q117","v":0},{"$f":"Feuil4!R117","v":0},{"$f":"Feuil4!S117","v":0},{"$f":"Feuil4!T117","v":0},{"$f":"Feuil4!U117","v":0},{"$f":"Feuil4!V117","v":0},{"$f":"Feuil4!W117","v":0},{"$f":"Feuil4!X117","v":0},{"$f":"Feuil4!Y117","v":0},{"$f":"Feuil4!Z117","v":0},{"$f":"Feuil4!AA117","v":0},{"$f":"Feuil4!AB117","v":0},{"$f":"Feuil4!AC117","v":0},{"$f":"Feuil4!AD117","v":0},{"$f":"Feuil4!AE117","v":0},{"$f":"Feuil4!AF117","v":0},{"$f":"Feuil4!AG117","v":0},{"$f":"Feuil4!AH117","v":0},{"$f":"Feuil4!AI117","v":0},{"$f":"Feuil4!AJ117","v":0},{"$f":"Feuil4!AK117","v":0},{"$f":"Feuil4!AL117","v":0},{"$f":"Feuil4!AM117","v":0},{"$f":"Feuil4!AN117","v":"00:00:00"},{"$f":"Feuil4!AO117","v":0}]
[{"$f":"Feuil4!A118","v":0},{"$f":"Feuil4!B118","v":{"$error":"#VALUE!"}},{"$f":"Feuil4!C118","v":0},{"$f":"Feuil4!D118","v":0},{"$f":"Feuil4!E118","v":0},{"$f":"Feuil4!F118","v":0},{"$f":"Feuil4!G118","v":0},{"$f":"Feuil4!H118","v":0},{"$f":"Feuil4!I118","v":0},{"$f":"Feuil4!J118","v":0},{"$f":"Feuil4!K118","v":0},{"$f":"Feuil4!L118","v":0},{"$f":"Feuil4!M118","v":0},{"$f":"Feuil4!N118","v":0},{"$f":"Feuil4!O118","v":0},{"$f":"Feuil4!P118","v":0},{"$f":"Feuil4!Q118","v":0},{"$f":"Feuil4!R118","v":0},{"$f":"Feuil4!S118","v":0},{"$f":"Feuil4!T118","v":0},{"$f":"Feuil4!U118","v":0},{"$f":"Feuil4!V118","v":0},{"$f":"Feuil4!W118","v":0},{"$f":"Feuil4!X118","v":0},{"$f":"Feuil4!Y118","v":0},{"$f":"Feuil4!Z118","v":0},{"$f":"Feuil4!AA118","v":0},{"$f":"Feuil4!AB118","v":0},{"$f":"Feuil4!AC118","v":0},{"$f":"Feuil4!AD118","v":0},{"$f":"Feuil4!AE118","v":0},{"$f":"Feuil4!AF118","v":0},{"$f":"Feuil4!AG118","v":0},{"$f":"Feuil4!AH118","v":0},{"$f":"Feuil4!AI118","v":0},{"$f":"Feuil4!AJ118","v":0},{"$f":"Feuil4!AK118","v":0},{"$f":"Feuil4!AL118","v":0},{"$f":"Feuil4!AM118","v":0},{"$f":"Feuil4!AN118","v":"00:00:00"},{"$f":"Feuil4!AO118","v":0}]
[{"$f":"Feuil4!A119","v":0},{"$f":"Feuil4!B119","v":{"$error":"#VALUE!"}},{"$f":"Feuil4!C119","v":0},{"$f":"Feuil4!D119","v":0},{"$f":"Feuil4!E119","v":0},{"$f":"Feuil4!F119","v":0},{"$f":"Feuil4!G119","v":0},{"$f":"Feuil4!H119","v":0},{"$f":"Feuil4!I119","v":0},{"$f":"Feuil4!J119","v":0},{"$f":"Feuil4!K119","v":0},{"$f":"Feuil4!L119","v":0},{"$f":"Feuil4!M119","v":0},{"$f":"Feuil4!N119","v":0},{"$f":"Feuil4!O119","v":0},{"$f":"Feuil4!P119","v":0},{"$f":"Feuil4!Q119","v":0},{"$f":"Feuil4!R119","v":0},{"$f":"Feuil4!S119","v":0},{"$f":"Feuil4!T119","v":0},{"$f":"Feuil4!U119","v":0},{"$f":"Feuil4!V119","v":0},{"$f":"Feuil4!W119","v":0},{"$f":"Feuil4!X119","v":0},{"$f":"Feuil4!Y119","v":0},{"$f":"Feuil4!Z119","v":0},{"$f":"Feuil4!AA119","v":0},{"$f":"Feuil4!AB119","v":0},{"$f":"Feuil4!AC119","v":0},{"$f":"Feuil4!AD119","v":0},{"$f":"Feuil4!AE119","v":0},{"$f":"Feuil4!AF119","v":0},{"$f":"Feuil4!AG119","v":0},{"$f":"Feuil4!AH119","v":0},{"$f":"Feuil4!AI119","v":0},{"$f":"Feuil4!AJ119","v":0},{"$f":"Feuil4!AK119","v":0},{"$f":"Feuil4!AL119","v":0},{"$f":"Feuil4!AM119","v":0},{"$f":"Feuil4!AN119","v":"00:00:00"},{"$f":"Feuil4!AO119","v":0}]
[{"$f":"Feuil4!A120","v":0},{"$f":"Feuil4!B120","v":{"$error":"#VALUE!"}},{"$f":"Feuil4!C120","v":0},{"$f":"Feuil4!D120","v":0},{"$f":"Feuil4!E120","v":0},{"$f":"Feuil4!F120","v":0},{"$f":"Feuil4!G120","v":0},{"$f":"Feuil4!H120","v":0},{"$f":"Feuil4!I120","v":0},{"$f":"Feuil4!J120","v":0},{"$f":"Feuil4!K120","v":0},{"$f":"Feuil4!L120","v":0},{"$f":"Feuil4!M120","v":0},{"$f":"Feuil4!N120","v":0},{"$f":"Feuil4!O120","v":0},{"$f":"Feuil4!P120","v":0},{"$f":"Feuil4!Q120","v":0},{"$f":"Feuil4!R120","v":0},{"$f":"Feuil4!S120","v":0},{"$f":"Feuil4!T120","v":0},{"$f":"Feuil4!U120","v":0},{"$f":"Feuil4!V120","v":0},{"$f":"Feuil4!W120","v":0},{"$f":"Feuil4!X120","v":0},{"$f":"Feuil4!Y120","v":0},{"$f":"Feuil4!Z120","v":0},{"$f":"Feuil4!AA120","v":0},{"$f":"Feuil4!AB120","v":0},{"$f":"Feuil4!AC120","v":0},{"$f":"Feuil4!AD120","v":0},{"$f":"Feuil4!AE120","v":0},{"$f":"Feuil4!AF120","v":0},{"$f":"Feuil4!AG120","v":0},{"$f":"Feuil4!AH120","v":0},{"$f":"Feuil4!AI120","v":0},{"$f":"Feuil4!AJ120","v":0},{"$f":"Feuil4!AK120","v":0},{"$f":"Feuil4!AL120","v":0},{"$f":"Feuil4!AM120","v":0},{"$f":"Feuil4!AN120","v":"00:00:00"},{"$f":"Feuil4!AO120","v":0}]
[{"$f":"Feuil4!A121","v":0},{"$f":"Feuil4!B121","v":{"$error":"#VALUE!"}},{"$f":"Feuil4!C121","v":0},{"$f":"Feuil4!D121","v":0},{"$f":"Feuil4!E121","v":0},{"$f":"Feuil4!F121","v":0},{"$f":"Feuil4!G121","v":0},{"$f":"Feuil4!H121","v":0},{"$f":"Feuil4!I121","v":0},{"$f":"Feuil4!J121","v":0},{"$f":"Feuil4!K121","v":0},{"$f":"Feuil4!L121","v":0},{"$f":"Feuil4!M121","v":0},{"$f":"Feuil4!N121","v":0},{"$f":"Feuil4!O121","v":0},{"$f":"Feuil4!P121","v":0},{"$f":"Feuil4!Q121","v":0},{"$f":"Feuil4!R121","v":0},{"$f":"Feuil4!S121","v":0},{"$f":"Feuil4!T121","v":0},{"$f":"Feuil4!U121","v":0},{"$f":"Feuil4!V121","v":0},{"$f":"Feuil4!W121","v":0},{"$f":"Feuil4!X121","v":0},{"$f":"Feuil4!Y121","v":0},{"$f":"Feuil4!Z121","v":0},{"$f":"Feuil4!AA121","v":0},{"$f":"Feuil4!AB121","v":0},{"$f":"Feuil4!AC121","v":0},{"$f":"Feuil4!AD121","v":0},{"$f":"Feuil4!AE121","v":0},{"$f":"Feuil4!AF121","v":0},{"$f":"Feuil4!AG121","v":0},{"$f":"Feuil4!AH121","v":0},{"$f":"Feuil4!AI121","v":0},{"$f":"Feuil4!AJ121","v":0},{"$f":"Feuil4!AK121","v":0},{"$f":"Feuil4!AL121","v":0},{"$f":"Feuil4!AM121","v":0},{"$f":"Feuil4!AN121","v":"00:00:00"},{"$f":"Feuil4!AO121","v":0}]
[{"$f":"Feuil4!A122","v":0},{"$f":"Feuil4!B122","v":{"$error":"#VALUE!"}},{"$f":"Feuil4!C122","v":0},{"$f":"Feuil4!D122","v":0},{"$f":"Feuil4!E122","v":0},{"$f":"Feuil4!F122","v":0},{"$f":"Feuil4!G122","v":0},{"$f":"Feuil4!H122","v":0},{"$f":"Feuil4!I122","v":0},{"$f":"Feuil4!J122","v":0},{"$f":"Feuil4!K122","v":0},{"$f":"Feuil4!L122","v":0},{"$f":"Feuil4!M122","v":0},{"$f":"Feuil4!N122","v":0},{"$f":"Feuil4!O122","v":0},{"$f":"Feuil4!P122","v":0},{"$f":"Feuil4!Q122","v":0},{"$f":"Feuil4!R122","v":0},{"$f":"Feuil4!S122","v":0},{"$f":"Feuil4!T122","v":0},{"$f":"Feuil4!U122","v":0},{"$f":"Feuil4!V122","v":0},{"$f":"Feuil4!W122","v":0},{"$f":"Feuil4!X122","v":0},{"$f":"Feuil4!Y122","v":0},{"$f":"Feuil4!Z122","v":0},{"$f":"Feuil4!AA122","v":0},{"$f":"Feuil4!AB122","v":0},{"$f":"Feuil4!AC122","v":0},{"$f":"Feuil4!AD122","v":0},{"$f":"Feuil4!AE122","v":0},{"$f":"Feuil4!AF122","v":0},{"$f":"Feuil4!AG122","v":0},{"$f":"Feuil4!AH122","v":0},{"$f":"Feuil4!AI122","v":0},{"$f":"Feuil4!AJ122","v":0},{"$f":"Feuil4!AK122","v":0},{"$f":"Feuil4!AL122","v":0},{"$f":"Feuil4!AM122","v":0},{"$f":"Feuil4!AN122","v":"00:00:00"},{"$f":"Feuil4!AO122","v":0}]
[{"$f":"Feuil4!A123","v":0},{"$f":"Feuil4!B123","v":{"$error":"#VALUE!"}},{"$f":"Feuil4!C123","v":0},{"$f":"Feuil4!D123","v":0},{"$f":"Feuil4!E123","v":0},{"$f":"Feuil4!F123","v":0},{"$f":"Feuil4!G123","v":0},{"$f":"Feuil4!H123","v":0},{"$f":"Feuil4!I123","v":0},{"$f":"Feuil4!J123","v":0},{"$f":"Feuil4!K123","v":0},{"$f":"Feuil4!L123","v":0},{"$f":"Feuil4!M123","v":0},{"$f":"Feuil4!N123","v":0},{"$f":"Feuil4!O123","v":0},{"$f":"Feuil4!P123","v":0},{"$f":"Feuil4!Q123","v":0},{"$f":"Feuil4!R123","v":0},{"$f":"Feuil4!S123","v":0},{"$f":"Feuil4!T123","v":0},{"$f":"Feuil4!U123","v":0},{"$f":"Feuil4!V123","v":0},{"$f":"Feuil4!W123","v":0},{"$f":"Feuil4!X123","v":0},{"$f":"Feuil4!Y123","v":0},{"$f":"Feuil4!Z123","v":0},{"$f":"Feuil4!AA123","v":0},{"$f":"Feuil4!AB123","v":0},{"$f":"Feuil4!AC123","v":0},{"$f":"Feuil4!AD123","v":0},{"$f":"Feuil4!AE123","v":0},{"$f":"Feuil4!AF123","v":0},{"$f":"Feuil4!AG123","v":0},{"$f":"Feuil4!AH123","v":0},{"$f":"Feuil4!AI123","v":0},{"$f":"Feuil4!AJ123","v":0},{"$f":"Feuil4!AK123","v":0},{"$f":"Feuil4!AL123","v":0},{"$f":"Feuil4!AM123","v":0},{"$f":"Feuil4!AN123","v":"00:00:00"},{"$f":"Feuil4!AO123","v":0}]
[{"$f":"Feuil4!A124","v":0},{"$f":"Feuil4!B124","v":{"$error":"#VALUE!"}},{"$f":"Feuil4!C124","v":0},{"$f":"Feuil4!D124","v":0},{"$f":"Feuil4!E124","v":0},{"$f":"Feuil4!F124","v":0},{"$f":"Feuil4!G124","v":0},{"$f":"Feuil4!H124","v":0},{"$f":"Feuil4!I124","v":0},{"$f":"Feuil4!J124","v":0},{"$f":"Feuil4!K124","v":0},{"$f":"Feuil4!L124","v":0},{"$f":"Feuil4!M124","v":0},{"$f":"Feuil4!N124","v":0},{"$f":"Feuil4!O124","v":0},{"$f":"Feuil4!P124","v":0},{"$f":"Feuil4!Q124","v":0},{"$f":"Feuil4!R124","v":0},{"$f":"Feuil4!S124","v":0},{"$f":"Feuil4!T124","v":0},{"$f":"Feuil4!U124","v":0},{"$f":"Feuil4!V124","v":0},{"$f":"Feuil4!W124","v":0},{"$f":"Feuil4!X124","v":0},{"$f":"Feuil4!Y124","v":0},{"$f":"Feuil4!Z124","v":0},{"$f":"Feuil4!AA124","v":0},{"$f":"Feuil4!AB124","v":0},{"$f":"Feuil4!AC124","v":0},{"$f":"Feuil4!AD124","v":0},{"$f":"Feuil4!AE124","v":0},{"$f":"Feuil4!AF124","v":0},{"$f":"Feuil4!AG124","v":0},{"$f":"Feuil4!AH124","v":0},{"$f":"Feuil4!AI124","v":0},{"$f":"Feuil4!AJ124","v":0},{"$f":"Feuil4!AK124","v":0},{"$f":"Feuil4!AL124","v":0},{"$f":"Feuil4!AM124","v":0},{"$f":"Feuil4!AN124","v":"00:00:00"},{"$f":"Feuil4!AO124","v":0}]
[{"$f":"Feuil4!A125","v":0},{"$f":"Feuil4!B125","v":{"$error":"#VALUE!"}},{"$f":"Feuil4!C125","v":0},{"$f":"Feuil4!D125","v":0},{"$f":"Feuil4!E125","v":0},{"$f":"Feuil4!F125","v":0},{"$f":"Feuil4!G125","v":0},{"$f":"Feuil4!H125","v":0},{"$f":"Feuil4!I125","v":0},{"$f":"Feuil4!J125","v":0},{"$f":"Feuil4!K125","v":0},{"$f":"Feuil4!L125","v":0},{"$f":"Feuil4!M125","v":0},{"$f":"Feuil4!N125","v":0},{"$f":"Feuil4!O125","v":0},{"$f":"Feuil4!P125","v":0},{"$f":"Feuil4!Q125","v":0},{"$f":"Feuil4!R125","v":0},{"$f":"Feuil4!S125","v":0},{"$f":"Feuil4!T125","v":0},{"$f":"Feuil4!U125","v":0},{"$f":"Feuil4!V125","v":0},{"$f":"Feuil4!W125","v":0},{"$f":"Feuil4!X125","v":0},{"$f":"Feuil4!Y125","v":0},{"$f":"Feuil4!Z125","v":0},{"$f":"Feuil4!AA125","v":0},{"$f":"Feuil4!AB125","v":0},{"$f":"Feuil4!AC125","v":0},{"$f":"Feuil4!AD125","v":0},{"$f":"Feuil4!AE125","v":0},{"$f":"Feuil4!AF125","v":0},{"$f":"Feuil4!AG125","v":0},{"$f":"Feuil4!AH125","v":0},{"$f":"Feuil4!AI125","v":0},{"$f":"Feuil4!AJ125","v":0},{"$f":"Feuil4!AK125","v":0},{"$f":"Feuil4!AL125","v":0},{"$f":"Feuil4!AM125","v":0},{"$f":"Feuil4!AN125","v":"00:00:00"},{"$f":"Feuil4!AO125","v":0}]
[{"$f":"Feuil4!A126","v":0},{"$f":"Feuil4!B126","v":{"$error":"#VALUE!"}},{"$f":"Feuil4!C126","v":0},{"$f":"Feuil4!D126","v":0},{"$f":"Feuil4!E126","v":0},{"$f":"Feuil4!F126","v":0},{"$f":"Feuil4!G126","v":0},{"$f":"Feuil4!H126","v":0},{"$f":"Feuil4!I126","v":0},{"$f":"Feuil4!J126","v":0},{"$f":"Feuil4!K126","v":0},{"$f":"Feuil4!L126","v":0},{"$f":"Feuil4!M126","v":0},{"$f":"Feuil4!N126","v":0},{"$f":"Feuil4!O126","v":0},{"$f":"Feuil4!P126","v":0},{"$f":"Feuil4!Q126","v":0},{"$f":"Feuil4!R126","v":0},{"$f":"Feuil4!S126","v":0},{"$f":"Feuil4!T126","v":0},{"$f":"Feuil4!U126","v":0},{"$f":"Feuil4!V126","v":0},{"$f":"Feuil4!W126","v":0},{"$f":"Feuil4!X126","v":0},{"$f":"Feuil4!Y126","v":0},{"$f":"Feuil4!Z126","v":0},{"$f":"Feuil4!AA126","v":0},{"$f":"Feuil4!AB126","v":0},{"$f":"Feuil4!AC126","v":0},{"$f":"Feuil4!AD126","v":0},{"$f":"Feuil4!AE126","v":0},{"$f":"Feuil4!AF126","v":0},{"$f":"Feuil4!AG126","v":0},{"$f":"Feuil4!AH126","v":0},{"$f":"Feuil4!AI126","v":0},{"$f":"Feuil4!AJ126","v":0},{"$f":"Feuil4!AK126","v":0},{"$f":"Feuil4!AL126","v":0},{"$f":"Feuil4!AM126","v":0},{"$f":"Feuil4!AN126","v":"00:00:00"},{"$f":"Feuil4!AO126","v":0}]
[{"$f":"Feuil4!A127","v":0},{"$f":"Feuil4!B127","v":{"$error":"#VALUE!"}},{"$f":"Feuil4!C127","v":0},{"$f":"Feuil4!D127","v":0},{"$f":"Feuil4!E127","v":0},{"$f":"Feuil4!F127","v":0},{"$f":"Feuil4!G127","v":0},{"$f":"Feuil4!H127","v":0},{"$f":"Feuil4!I127","v":0},{"$f":"Feuil4!J127","v":0},{"$f":"Feuil4!K127","v":0},{"$f":"Feuil4!L127","v":0},{"$f":"Feuil4!M127","v":0},{"$f":"Feuil4!N127","v":0},{"$f":"Feuil4!O127","v":0},{"$f":"Feuil4!P127","v":0},{"$f":"Feuil4!Q127","v":0},{"$f":"Feuil4!R127","v":0},{"$f":"Feuil4!S127","v":0},{"$f":"Feuil4!T127","v":0},{"$f":"Feuil4!U127","v":0},{"$f":"Feuil4!V127","v":0},{"$f":"Feuil4!W127","v":0},{"$f":"Feuil4!X127","v":0},{"$f":"Feuil4!Y127","v":0},{"$f":"Feuil4!Z127","v":0},{"$f":"Feuil4!AA127","v":0},{"$f":"Feuil4!AB127","v":0},{"$f":"Feuil4!AC127","v":0},{"$f":"Feuil4!AD127","v":0},{"$f":"Feuil4!AE127","v":0},{"$f":"Feuil4!AF127","v":0},{"$f":"Feuil4!AG127","v":0},{"$f":"Feuil4!AH127","v":0},{"$f":"Feuil4!AI127","v":0},{"$f":"Feuil4!AJ127","v":0},{"$f":"Feuil4!AK127","v":0},{"$f":"Feuil4!AL127","v":0},{"$f":"Feuil4!AM127","v":0},{"$f":"Feuil4!AN127","v":"00:00:00"},{"$f":"Feuil4!AO127","v":0}]
[{"$f":"Feuil4!A128","v":0},{"$f":"Feuil4!B128","v":{"$error":"#VALUE!"}},{"$f":"Feuil4!C128","v":0},{"$f":"Feuil4!D128","v":0},{"$f":"Feuil4!E128","v":0},{"$f":"Feuil4!F128","v":0},{"$f":"Feuil4!G128","v":0},{"$f":"Feuil4!H128","v":0},{"$f":"Feuil4!I128","v":0},{"$f":"Feuil4!J128","v":0},{"$f":"Feuil4!K128","v":0},{"$f":"Feuil4!L128","v":0},{"$f":"Feuil4!M128","v":0},{"$f":"Feuil4!N128","v":0},{"$f":"Feuil4!O128","v":0},{"$f":"Feuil4!P128","v":0},{"$f":"Feuil4!Q128","v":0},{"$f":"Feuil4!R128","v":0},{"$f":"Feuil4!S128","v":0},{"$f":"Feuil4!T128","v":0},{"$f":"Feuil4!U128","v":0},{"$f":"Feuil4!V128","v":0},{"$f":"Feuil4!W128","v":0},{"$f":"Feuil4!X128","v":0},{"$f":"Feuil4!Y128","v":0},{"$f":"Feuil4!Z128","v":0},{"$f":"Feuil4!AA128","v":0},{"$f":"Feuil4!AB128","v":0},{"$f":"Feuil4!AC128","v":0},{"$f":"Feuil4!AD128","v":0},{"$f":"Feuil4!AE128","v":0},{"$f":"Feuil4!AF128","v":0},{"$f":"Feuil4!AG128","v":0},{"$f":"Feuil4!AH128","v":0},{"$f":"Feuil4!AI128","v":0},{"$f":"Feuil4!AJ128","v":0},{"$f":"Feuil4!AK128","v":0},{"$f":"Feuil4!AL128","v":0},{"$f":"Feuil4!AM128","v":0},{"$f":"Feuil4!AN128","v":"00:00:00"},{"$f":"Feuil4!AO128","v":0}]
[{"$f":"Feuil4!A129","v":0},{"$f":"Feuil4!B129","v":{"$error":"#VALUE!"}},{"$f":"Feuil4!C129","v":0},{"$f":"Feuil4!D129","v":0},{"$f":"Feuil4!E129","v":0},{"$f":"Feuil4!F129","v":0},{"$f":"Feuil4!G129","v":0},{"$f":"Feuil4!H129","v":0},{"$f":"Feuil4!I129","v":0},{"$f":"Feuil4!J129","v":0},{"$f":"Feuil4!K129","v":0},{"$f":"Feuil4!L129","v":0},{"$f":"Feuil4!M129","v":0},{"$f":"Feuil4!N129","v":0},{"$f":"Feuil4!O129","v":0},{"$f":"Feuil4!P129","v":0},{"$f":"Feuil4!Q129","v":0},{"$f":"Feuil4!R129","v":0},{"$f":"Feuil4!S129","v":0},{"$f":"Feuil4!T129","v":0},{"$f":"Feuil4!U129","v":0},{"$f":"Feuil4!V129","v":0},{"$f":"Feuil4!W129","v":0},{"$f":"Feuil4!X129","v":0},{"$f":"Feuil4!Y129","v":0},{"$f":"Feuil4!Z129","v":0},{"$f":"Feuil4!AA129","v":0},{"$f":"Feuil4!AB129","v":0},{"$f":"Feuil4!AC129","v":0},{"$f":"Feuil4!AD129","v":0},{"$f":"Feuil4!AE129","v":0},{"$f":"Feuil4!AF129","v":0},{"$f":"Feuil4!AG129","v":0},{"$f":"Feuil4!AH129","v":0},{"$f":"Feuil4!AI129","v":0},{"$f":"Feuil4!AJ129","v":0},{"$f":"Feuil4!AK129","v":0},{"$f":"Feuil4!AL129","v":0},{"$f":"Feuil4!AM129","v":0},{"$f":"Feuil4!AN129","v":"00:00:00"},{"$f":"Feuil4!AO129","v":0}]
[{"$f":"Feuil4!A130","v":0},{"$f":"Feuil4!B130","v":{"$error":"#VALUE!"}},{"$f":"Feuil4!C130","v":0},{"$f":"Feuil4!D130","v":0},{"$f":"Feuil4!E130","v":0},{"$f":"Feuil4!F130","v":0},{"$f":"Feuil4!G130","v":0},{"$f":"Feuil4!H130","v":0},{"$f":"Feuil4!I130","v":0},{"$f":"Feuil4!J130","v":0},{"$f":"Feuil4!K130","v":0},{"$f":"Feuil4!L130","v":0},{"$f":"Feuil4!M130","v":0},{"$f":"Feuil4!N130","v":0},{"$f":"Feuil4!O130","v":0},{"$f":"Feuil4!P130","v":0},{"$f":"Feuil4!Q130","v":0},{"$f":"Feuil4!R130","v":0},{"$f":"Feuil4!S130","v":0},{"$f":"Feuil4!T130","v":0},{"$f":"Feuil4!U130","v":0},{"$f":"Feuil4!V130","v":0},{"$f":"Feuil4!W130","v":0},{"$f":"Feuil4!X130","v":0},{"$f":"Feuil4!Y130","v":0},{"$f":"Feuil4!Z130","v":0},{"$f":"Feuil4!AA130","v":0},{"$f":"Feuil4!AB130","v":0},{"$f":"Feuil4!AC130","v":0},{"$f":"Feuil4!AD130","v":0},{"$f":"Feuil4!AE130","v":0},{"$f":"Feuil4!AF130","v":0},{"$f":"Feuil4!AG130","v":0},{"$f":"Feuil4!AH130","v":0},{"$f":"Feuil4!AI130","v":0},{"$f":"Feuil4!AJ130","v":0},{"$f":"Feuil4!AK130","v":0},{"$f":"Feuil4!AL130","v":0},{"$f":"Feuil4!AM130","v":0},{"$f":"Feuil4!AN130","v":"00:00:00"},{"$f":"Feuil4!AO130","v":0}]
[{"$f":"Feuil4!A131","v":0},{"$f":"Feuil4!B131","v":{"$error":"#VALUE!"}},{"$f":"Feuil4!C131","v":0},{"$f":"Feuil4!D131","v":0},{"$f":"Feuil4!E131","v":0},{"$f":"Feuil4!F131","v":0},{"$f":"Feuil4!G131","v":0},{"$f":"Feuil4!H131","v":0},{"$f":"Feuil4!I131","v":0},{"$f":"Feuil4!J131","v":0},{"$f":"Feuil4!K131","v":0},{"$f":"Feuil4!L131","v":0},{"$f":"Feuil4!M131","v":0},{"$f":"Feuil4!N131","v":0},{"$f":"Feuil4!O131","v":0},{"$f":"Feuil4!P131","v":0},{"$f":"Feuil4!Q131","v":0},{"$f":"Feuil4!R131","v":0},{"$f":"Feuil4!S131","v":0},{"$f":"Feuil4!T131","v":0},{"$f":"Feuil4!U131","v":0},{"$f":"Feuil4!V131","v":0},{"$f":"Feuil4!W131","v":0},{"$f":"Feuil4!X131","v":0},{"$f":"Feuil4!Y131","v":0},{"$f":"Feuil4!Z131","v":0},{"$f":"Feuil4!AA131","v":0},{"$f":"Feuil4!AB131","v":0},{"$f":"Feuil4!AC131","v":0},{"$f":"Feuil4!AD131","v":0},{"$f":"Feuil4!AE131","v":0},{"$f":"Feuil4!AF131","v":0},{"$f":"Feuil4!AG131","v":0},{"$f":"Feuil4!AH131","v":0},{"$f":"Feuil4!AI131","v":0},{"$f":"Feuil4!AJ131","v":0},{"$f":"Feuil4!AK131","v":0},{"$f":"Feuil4!AL131","v":0},{"$f":"Feuil4!AM131","v":0},{"$f":"Feuil4!AN131","v":"00:00:00"},{"$f":"Feuil4!AO131","v":0}]
[{"$f":"Feuil4!A132","v":0},{"$f":"Feuil4!B132","v":{"$error":"#VALUE!"}},{"$f":"Feuil4!C132","v":0},{"$f":"Feuil4!D132","v":0},{"$f":"Feuil4!E132","v":0},{"$f":"Feuil4!F132","v":0},{"$f":"Feuil4!G132","v":0},{"$f":"Feuil4!H132","v":0},{"$f":"Feuil4!I132","v":0},{"$f":"Feuil4!J132","v":0},{"$f":"Feuil4!K132","v":0},{"$f":"Feuil4!L132","v":0},{"$f":"Feuil4!M132","v":0},{"$f":"Feuil4!N132","v":0},{"$f":"Feuil4!O132","v":0},{"$f":"Feuil4!P132","v":0},{"$f":"Feuil4!Q132","v":0},{"$f":"Feuil4!R132","v":0},{"$f":"Feuil4!S132","v":0},{"$f":"Feuil4!T132","v":0},{"$f":"Feuil4!U132","v":0},{"$f":"Feuil4!V132","v":0},{"$f":"Feuil4!W132","v":0},{"$f":"Feuil4!X132","v":0},{"$f":"Feuil4!Y132","v":0},{"$f":"Feuil4!Z132","v":0},{"$f":"Feuil4!AA132","v":0},{"$f":"Feuil4!AB132","v":0},{"$f":"Feuil4!AC132","v":0},{"$f":"Feuil4!AD132","v":0},{"$f":"Feuil4!AE132","v":0},{"$f":"Feuil4!AF132","v":0},{"$f":"Feuil4!AG132","v":0},{"$f":"Feuil4!AH132","v":0},{"$f":"Feuil4!AI132","v":0},{"$f":"Feuil4!AJ132","v":0},{"$f":"Feuil4!AK132","v":0},{"$f":"Feuil4!AL132","v":0},{"$f":"Feuil4!AM132","v":0},{"$f":"Feuil4!AN132","v":"00:00:00"},{"$f":"Feuil4!AO132","v":0}]
[{"$f":"Feuil4!A133","v":0},{"$f":"Feuil4!B133","v":{"$error":"#VALUE!"}},{"$f":"Feuil4!C133","v":0},{"$f":"Feuil4!D133","v":0},{"$f":"Feuil4!E133","v":0},{"$f":"Feuil4!F133","v":0},{"$f":"Feuil4!G133","v":0},{"$f":"Feuil4!H133","v":0},{"$f":"Feuil4!I133","v":0},{"$f":"Feuil4!J133","v":0},{"$f":"Feuil4!K133","v":0},{"$f":"Feuil4!L133","v":0},{"$f":"Feuil4!M133","v":0},{"$f":"Feuil4!N133","v":0},{"$f":"Feuil4!O133","v":0},{"$f":"Feuil4!P133","v":0},{"$f":"Feuil4!Q133","v":0},{"$f":"Feuil4!R133","v":0},{"$f":"Feuil4!S133","v":0},{"$f":"Feuil4!T133","v":0},{"$f":"Feuil4!U133","v":0},{"$f":"Feuil4!V133","v":0},{"$f":"Feuil4!W133","v":0},{"$f":"Feuil4!X133","v":0},{"$f":"Feuil4!Y133","v":0},{"$f":"Feuil4!Z133","v":0},{"$f":"Feuil4!AA133","v":0},{"$f":"Feuil4!AB133","v":0},{"$f":"Feuil4!AC133","v":0},{"$f":"Feuil4!AD133","v":0},{"$f":"Feuil4!AE133","v":0},{"$f":"Feuil4!AF133","v":0},{"$f":"Feuil4!AG133","v":0},{"$f":"Feuil4!AH133","v":0},{"$f":"Feuil4!AI133","v":0},{"$f":"Feuil4!AJ133","v":0},{"$f":"Feuil4!AK133","v":0},{"$f":"Feuil4!AL133","v":0},{"$f":"Feuil4!AM133","v":0},{"$f":"Feuil4!AN133","v":"00:00:00"},{"$f":"Feuil4!AO133","v":0}]
[{"$f":"Feuil4!A134","v":0},{"$f":"Feuil4!B134","v":{"$error":"#VALUE!"}},{"$f":"Feuil4!C134","v":0},{"$f":"Feuil4!D134","v":0},{"$f":"Feuil4!E134","v":0},{"$f":"Feuil4!F134","v":0},{"$f":"Feuil4!G134","v":0},{"$f":"Feuil4!H134","v":0},{"$f":"Feuil4!I134","v":0},{"$f":"Feuil4!J134","v":0},{"$f":"Feuil4!K134","v":0},{"$f":"Feuil4!L134","v":0},{"$f":"Feuil4!M134","v":0},{"$f":"Feuil4!N134","v":0},{"$f":"Feuil4!O134","v":0},{"$f":"Feuil4!P134","v":0},{"$f":"Feuil4!Q134","v":0},{"$f":"Feuil4!R134","v":0},{"$f":"Feuil4!S134","v":0},{"$f":"Feuil4!T134","v":0},{"$f":"Feuil4!U134","v":0},{"$f":"Feuil4!V134","v":0},{"$f":"Feuil4!W134","v":0},{"$f":"Feuil4!X134","v":0},{"$f":"Feuil4!Y134","v":0},{"$f":"Feuil4!Z134","v":0},{"$f":"Feuil4!AA134","v":0},{"$f":"Feuil4!AB134","v":0},{"$f":"Feuil4!AC134","v":0},{"$f":"Feuil4!AD134","v":0},{"$f":"Feuil4!AE134","v":0},{"$f":"Feuil4!AF134","v":0},{"$f":"Feuil4!AG134","v":0},{"$f":"Feuil4!AH134","v":0},{"$f":"Feuil4!AI134","v":0},{"$f":"Feuil4!AJ134","v":0},{"$f":"Feuil4!AK134","v":0},{"$f":"Feuil4!AL134","v":0},{"$f":"Feuil4!AM134","v":0},{"$f":"Feuil4!AN134","v":"00:00:00"},{"$f":"Feuil4!AO134","v":0}]
[{"$f":"Feuil4!A135","v":0},{"$f":"Feuil4!B135","v":{"$error":"#VALUE!"}},{"$f":"Feuil4!C135","v":0},{"$f":"Feuil4!D135","v":0},{"$f":"Feuil4!E135","v":0},{"$f":"Feuil4!F135","v":0},{"$f":"Feuil4!G135","v":0},{"$f":"Feuil4!H135","v":0},{"$f":"Feuil4!I135","v":0},{"$f":"Feuil4!J135","v":0},{"$f":"Feuil4!K135","v":0},{"$f":"Feuil4!L135","v":0},{"$f":"Feuil4!M135","v":0},{"$f":"Feuil4!N135","v":0},{"$f":"Feuil4!O135","v":0},{"$f":"Feuil4!P135","v":0},{"$f":"Feuil4!Q135","v":0},{"$f":"Feuil4!R135","v":0},{"$f":"Feuil4!S135","v":0},{"$f":"Feuil4!T135","v":0},{"$f":"Feuil4!U135","v":0},{"$f":"Feuil4!V135","v":0},{"$f":"Feuil4!W135","v":0},{"$f":"Feuil4!X135","v":0},{"$f":"Feuil4!Y135","v":0},{"$f":"Feuil4!Z135","v":0},{"$f":"Feuil4!AA135","v":0},{"$f":"Feuil4!AB135","v":0},{"$f":"Feuil4!AC135","v":0},{"$f":"Feuil4!AD135","v":0},{"$f":"Feuil4!AE135","v":0},{"$f":"Feuil4!AF135","v":0},{"$f":"Feuil4!AG135","v":0},{"$f":"Feuil4!AH135","v":0},{"$f":"Feuil4!AI135","v":0},{"$f":"Feuil4!AJ135","v":0},{"$f":"Feuil4!AK135","v":0},{"$f":"Feuil4!AL135","v":0},{"$f":"Feuil4!AM135","v":0},{"$f":"Feuil4!AN135","v":"00:00:00"},{"$f":"Feuil4!AO135","v":0}]
[{"$f":"Feuil4!A136","v":0},{"$f":"Feuil4!B136","v":{"$error":"#VALUE!"}},{"$f":"Feuil4!C136","v":0},{"$f":"Feuil4!D136","v":0},{"$f":"Feuil4!E136","v":0},{"$f":"Feuil4!F136","v":0},{"$f":"Feuil4!G136","v":0},{"$f":"Feuil4!H136","v":0},{"$f":"Feuil4!I136","v":0},{"$f":"Feuil4!J136","v":0},{"$f":"Feuil4!K136","v":0},{"$f":"Feuil4!L136","v":0},{"$f":"Feuil4!M136","v":0},{"$f":"Feuil4!N136","v":0},{"$f":"Feuil4!O136","v":0},{"$f":"Feuil4!P136","v":0},{"$f":"Feuil4!Q136","v":0},{"$f":"Feuil4!R136","v":0},{"$f":"Feuil4!S136","v":0},{"$f":"Feuil4!T136","v":0},{"$f":"Feuil4!U136","v":0},{"$f":"Feuil4!V136","v":0},{"$f":"Feuil4!W136","v":0},{"$f":"Feuil4!X136","v":0},{"$f":"Feuil4!Y136","v":0},{"$f":"Feuil4!Z136","v":0},{"$f":"Feuil4!AA136","v":0},{"$f":"Feuil4!AB136","v":0},{"$f":"Feuil4!AC136","v":0},{"$f":"Feuil4!AD136","v":0},{"$f":"Feuil4!AE136","v":0},{"$f":"Feuil4!AF136","v":0},{"$f":"Feuil4!AG136","v":0},{"$f":"Feuil4!AH136","v":0},{"$f":"Feuil4!AI136","v":0},{"$f":"Feuil4!AJ136","v":0},{"$f":"Feuil4!AK136","v":0},{"$f":"Feuil4!AL136","v":0},{"$f":"Feuil4!AM136","v":0},{"$f":"Feuil4!AN136","v":"00:00:00"},{"$f":"Feuil4!AO136","v":0}]
[{"$f":"Feuil4!A137","v":0},{"$f":"Feuil4!B137","v":{"$error":"#VALUE!"}},{"$f":"Feuil4!C137","v":0},{"$f":"Feuil4!D137","v":0},{"$f":"Feuil4!E137","v":0},{"$f":"Feuil4!F137","v":0},{"$f":"Feuil4!G137","v":0},{"$f":"Feuil4!H137","v":0},{"$f":"Feuil4!I137","v":0},{"$f":"Feuil4!J137","v":0},{"$f":"Feuil4!K137","v":0},{"$f":"Feuil4!L137","v":0},{"$f":"Feuil4!M137","v":0},{"$f":"Feuil4!N137","v":0},{"$f":"Feuil4!O137","v":0},{"$f":"Feuil4!P137","v":0},{"$f":"Feuil4!Q137","v":0},{"$f":"Feuil4!R137","v":0},{"$f":"Feuil4!S137","v":0},{"$f":"Feuil4!T137","v":0},{"$f":"Feuil4!U137","v":0},{"$f":"Feuil4!V137","v":0},{"$f":"Feuil4!W137","v":0},{"$f":"Feuil4!X137","v":0},{"$f":"Feuil4!Y137","v":0},{"$f":"Feuil4!Z137","v":0},{"$f":"Feuil4!AA137","v":0},{"$f":"Feuil4!AB137","v":0},{"$f":"Feuil4!AC137","v":0},{"$f":"Feuil4!AD137","v":0},{"$f":"Feuil4!AE137","v":0},{"$f":"Feuil4!AF137","v":0},{"$f":"Feuil4!AG137","v":0},{"$f":"Feuil4!AH137","v":0},{"$f":"Feuil4!AI137","v":0},{"$f":"Feuil4!AJ137","v":0},{"$f":"Feuil4!AK137","v":0},{"$f":"Feuil4!AL137","v":0},{"$f":"Feuil4!AM137","v":0},{"$f":"Feuil4!AN137","v":"00:00:00"},{"$f":"Feuil4!AO137","v":0}]
[{"$f":"Feuil4!A138","v":0},{"$f":"Feuil4!B138","v":{"$error":"#VALUE!"}},{"$f":"Feuil4!C138","v":0},{"$f":"Feuil4!D138","v":0},{"$f":"Feuil4!E138","v":0},{"$f":"Feuil4!F138","v":0},{"$f":"Feuil4!G138","v":0},{"$f":"Feuil4!H138","v":0},{"$f":"Feuil4!I138","v":0},{"$f":"Feuil4!J138","v":0},{"$f":"Feuil4!K138","v":0},{"$f":"Feuil4!L138","v":0},{"$f":"Feuil4!M138","v":0},{"$f":"Feuil4!N138","v":0},{"$f":"Feuil4!O138","v":0},{"$f":"Feuil4!P138","v":0},{"$f":"Feuil4!Q138","v":0},{"$f":"Feuil4!R138","v":0},{"$f":"Feuil4!S138","v":0},{"$f":"Feuil4!T138","v":0},{"$f":"Feuil4!U138","v":0},{"$f":"Feuil4!V138","v":0},{"$f":"Feuil4!W138","v":0},{"$f":"Feuil4!X138","v":0},{"$f":"Feuil4!Y138","v":0},{"$f":"Feuil4!Z138","v":0},{"$f":"Feuil4!AA138","v":0},{"$f":"Feuil4!AB138","v":0},{"$f":"Feuil4!AC138","v":0},{"$f":"Feuil4!AD138","v":0},{"$f":"Feuil4!AE138","v":0},{"$f":"Feuil4!AF138","v":0},{"$f":"Feuil4!AG138","v":0},{"$f":"Feuil4!AH138","v":0},{"$f":"Feuil4!AI138","v":0},{"$f":"Feuil4!AJ138","v":0},{"$f":"Feuil4!AK138","v":0},{"$f":"Feuil4!AL138","v":0},{"$f":"Feuil4!AM138","v":0},{"$f":"Feuil4!AN138","v":"00:00:00"},{"$f":"Feuil4!AO138","v":0}]
[{"$f":"Feuil4!A139","v":0},{"$f":"Feuil4!B139","v":{"$error":"#VALUE!"}},{"$f":"Feuil4!C139","v":0},{"$f":"Feuil4!D139","v":0},{"$f":"Feuil4!E139","v":0},{"$f":"Feuil4!F139","v":0},{"$f":"Feuil4!G139","v":0},{"$f":"Feuil4!H139","v":0},{"$f":"Feuil4!I139","v":0},{"$f":"Feuil4!J139","v":0},{"$f":"Feuil4!K139","v":0},{"$f":"Feuil4!L139","v":0},{"$f":"Feuil4!M139","v":0},{"$f":"Feuil4!N139","v":0},{"$f":"Feuil4!O139","v":0},{"$f":"Feuil4!P139","v":0},{"$f":"Feuil4!Q139","v":0},{"$f":"Feuil4!R139","v":0},{"$f":"Feuil4!S139","v":0},{"$f":"Feuil4!T139","v":0},{"$f":"Feuil4!U139","v":0},{"$f":"Feuil4!V139","v":0},{"$f":"Feuil4!W139","v":0},{"$f":"Feuil4!X139","v":0},{"$f":"Feuil4!Y139","v":0},{"$f":"Feuil4!Z139","v":0},{"$f":"Feuil4!AA139","v":0},{"$f":"Feuil4!AB139","v":0},{"$f":"Feuil4!AC139","v":0},{"$f":"Feuil4!AD139","v":0},{"$f":"Feuil4!AE139","v":0},{"$f":"Feuil4!AF139","v":0},{"$f":"Feuil4!AG139","v":0},{"$f":"Feuil4!AH139","v":0},{"$f":"Feuil4!AI139","v":0},{"$f":"Feuil4!AJ139","v":0},{"$f":"Feuil4!AK139","v":0},{"$f":"Feuil4!AL139","v":0},{"$f":"Feuil4!AM139","v":0},{"$f":"Feuil4!AN139","v":"00:00:00"},{"$f":"Feuil4!AO139","v":0}]
[{"$f":"Feuil4!A140","v":0},{"$f":"Feuil4!B140","v":{"$error":"#VALUE!"}},{"$f":"Feuil4!C140","v":0},{"$f":"Feuil4!D140","v":0},{"$f":"Feuil4!E140","v":0},{"$f":"Feuil4!F140","v":0},{"$f":"Feuil4!G140","v":0},{"$f":"Feuil4!H140","v":0},{"$f":"Feuil4!I140","v":0},{"$f":"Feuil4!J140","v":0},{"$f":"Feuil4!K140","v":0},{"$f":"Feuil4!L140","v":0},{"$f":"Feuil4!M140","v":0},{"$f":"Feuil4!N140","v":0},{"$f":"Feuil4!O140","v":0},{"$f":"Feuil4!P140","v":0},{"$f":"Feuil4!Q140","v":0},{"$f":"Feuil4!R140","v":0},{"$f":"Feuil4!S140","v":0},{"$f":"Feuil4!T140","v":0},{"$f":"Feuil4!U140","v":0},{"$f":"Feuil4!V140","v":0},{"$f":"Feuil4!W140","v":0},{"$f":"Feuil4!X140","v":0},{"$f":"Feuil4!Y140","v":0},{"$f":"Feuil4!Z140","v":0},{"$f":"Feuil4!AA140","v":0},{"$f":"Feuil4!AB140","v":0},{"$f":"Feuil4!AC140","v":0},{"$f":"Feuil4!AD140","v":0},{"$f":"Feuil4!AE140","v":0},{"$f":"Feuil4!AF140","v":0},{"$f":"Feuil4!AG140","v":0},{"$f":"Feuil4!AH140","v":0},{"$f":"Feuil4!AI140","v":0},{"$f":"Feuil4!AJ140","v":0},{"$f":"Feuil4!AK140","v":0},{"$f":"Feuil4!AL140","v":0},{"$f":"Feuil4!AM140","v":0},{"$f":"Feuil4!AN140","v":"00:00:00"},{"$f":"Feuil4!AO140","v":0}]
[{"$f":"Feuil4!A141","v":0},{"$f":"Feuil4!B141","v":{"$error":"#VALUE!"}},{"$f":"Feuil4!C141","v":0},{"$f":"Feuil4!D141","v":0},{"$f":"Feuil4!E141","v":0},{"$f":"Feuil4!F141","v":0},{"$f":"Feuil4!G141","v":0},{"$f":"Feuil4!H141","v":0},{"$f":"Feuil4!I141","v":0},{"$f":"Feuil4!J141","v":0},{"$f":"Feuil4!K141","v":0},{"$f":"Feuil4!L141","v":0},{"$f":"Feuil4!M141","v":0},{"$f":"Feuil4!N141","v":0},{"$f":"Feuil4!O141","v":0},{"$f":"Feuil4!P141","v":0},{"$f":"Feuil4!Q141","v":0},{"$f":"Feuil4!R141","v":0},{"$f":"Feuil4!S141","v":0},{"$f":"Feuil4!T141","v":0},{"$f":"Feuil4!U141","v":0},{"$f":"Feuil4!V141","v":0},{"$f":"Feuil4!W141","v":0},{"$f":"Feuil4!X141","v":0},{"$f":"Feuil4!Y141","v":0},{"$f":"Feuil4!Z141","v":0},{"$f":"Feuil4!AA141","v":0},{"$f":"Feuil4!AB141","v":0},{"$f":"Feuil4!AC141","v":0},{"$f":"Feuil4!AD141","v":0},{"$f":"Feuil4!AE141","v":0},{"$f":"Feuil4!AF141","v":0},{"$f":"Feuil4!AG141","v":0},{"$f":"Feuil4!AH141","v":0},{"$f":"Feuil4!AI141","v":0},{"$f":"Feuil4!AJ141","v":0},{"$f":"Feuil4!AK141","v":0},{"$f":"Feuil4!AL141","v":0},{"$f":"Feuil4!AM141","v":0},{"$f":"Feuil4!AN141","v":"00:00:00"},{"$f":"Feuil4!AO141","v":0}]
[{"$f":"Feuil4!A142","v":0},{"$f":"Feuil4!B142","v":{"$error":"#VALUE!"}},{"$f":"Feuil4!C142","v":0},{"$f":"Feuil4!D142","v":0},{"$f":"Feuil4!E142","v":0},{"$f":"Feuil4!F142","v":0},{"$f":"Feuil4!G142","v":0},{"$f":"Feuil4!H142","v":0},{"$f":"Feuil4!I142","v":0},{"$f":"Feuil4!J142","v":0},{"$f":"Feuil4!K142","v":0},{"$f":"Feuil4!L142","v":0},{"$f":"Feuil4!M142","v":0},{"$f":"Feuil4!N142","v":0},{"$f":"Feuil4!O142","v":0},{"$f":"Feuil4!P142","v":0},{"$f":"Feuil4!Q142","v":0},{"$f":"Feuil4!R142","v":0},{"$f":"Feuil4!S142","v":0},{"$f":"Feuil4!T142","v":0},{"$f":"Feuil4!U142","v":0},{"$f":"Feuil4!V142","v":0},{"$f":"Feuil4!W142","v":0},{"$f":"Feuil4!X142","v":0},{"$f":"Feuil4!Y142","v":0},{"$f":"Feuil4!Z142","v":0},{"$f":"Feuil4!AA142","v":0},{"$f":"Feuil4!AB142","v":0},{"$f":"Feuil4!AC142","v":0},{"$f":"Feuil4!AD142","v":0},{"$f":"Feuil4!AE142","v":0},{"$f":"Feuil4!AF142","v":0},{"$f":"Feuil4!AG142","v":0},{"$f":"Feuil4!AH142","v":0},{"$f":"Feuil4!AI142","v":0},{"$f":"Feuil4!AJ142","v":0},{"$f":"Feuil4!AK142","v":0},{"$f":"Feuil4!AL142","v":0},{"$f":"Feuil4!AM142","v":0},{"$f":"Feuil4!AN142","v":"00:00:00"},{"$f":"Feuil4!AO142","v":0}]
[{"$f":"Feuil4!A143","v":0},{"$f":"Feuil4!B143","v":{"$error":"#VALUE!"}},{"$f":"Feuil4!C143","v":0},{"$f":"Feuil4!D143","v":0},{"$f":"Feuil4!E143","v":0},{"$f":"Feuil4!F143","v":0},{"$f":"Feuil4!G143","v":0},{"$f":"Feuil4!H143","v":0},{"$f":"Feuil4!I143","v":0},{"$f":"Feuil4!J143","v":0},{"$f":"Feuil4!K143","v":0},{"$f":"Feuil4!L143","v":0},{"$f":"Feuil4!M143","v":0},{"$f":"Feuil4!N143","v":0},{"$f":"Feuil4!O143","v":0},{"$f":"Feuil4!P143","v":0},{"$f":"Feuil4!Q143","v":0},{"$f":"Feuil4!R143","v":0},{"$f":"Feuil4!S143","v":0},{"$f":"Feuil4!T143","v":0},{"$f":"Feuil4!U143","v":0},{"$f":"Feuil4!V143","v":0},{"$f":"Feuil4!W143","v":0},{"$f":"Feuil4!X143","v":0},{"$f":"Feuil4!Y143","v":0},{"$f":"Feuil4!Z143","v":0},{"$f":"Feuil4!AA143","v":0},{"$f":"Feuil4!AB143","v":0},{"$f":"Feuil4!AC143","v":0},{"$f":"Feuil4!AD143","v":0},{"$f":"Feuil4!AE143","v":0},{"$f":"Feuil4!AF143","v":0},{"$f":"Feuil4!AG143","v":0},{"$f":"Feuil4!AH143","v":0},{"$f":"Feuil4!AI143","v":0},{"$f":"Feuil4!AJ143","v":0},{"$f":"Feuil4!AK143","v":0},{"$f":"Feuil4!AL143","v":0},{"$f":"Feuil4!AM143","v":0},{"$f":"Feuil4!AN143","v":"00:00:00"},{"$f":"Feuil4!AO143","v":0}]
[{"$f":"Feuil4!A144","v":0},{"$f":"Feuil4!B144","v":{"$error":"#VALUE!"}},{"$f":"Feuil4!C144","v":0},{"$f":"Feuil4!D144","v":0},{"$f":"Feuil4!E144","v":0},{"$f":"Feuil4!F144","v":0},{"$f":"Feuil4!G144","v":0},{"$f":"Feuil4!H144","v":0},{"$f":"Feuil4!I144","v":0},{"$f":"Feuil4!J144","v":0},{"$f":"Feuil4!K144","v":0},{"$f":"Feuil4!L144","v":0},{"$f":"Feuil4!M144","v":0},{"$f":"Feuil4!N144","v":0},{"$f":"Feuil4!O144","v":0},{"$f":"Feuil4!P144","v":0},{"$f":"Feuil4!Q144","v":0},{"$f":"Feuil4!R144","v":0},{"$f":"Feuil4!S144","v":0},{"$f":"Feuil4!T144","v":0},{"$f":"Feuil4!U144","v":0},{"$f":"Feuil4!V144","v":0},{"$f":"Feuil4!W144","v":0},{"$f":"Feuil4!X144","v":0},{"$f":"Feuil4!Y144","v":0},{"$f":"Feuil4!Z144","v":0},{"$f":"Feuil4!AA144","v":0},{"$f":"Feuil4!AB144","v":0},{"$f":"Feuil4!AC144","v":0},{"$f":"Feuil4!AD144","v":0},{"$f":"Feuil4!AE144","v":0},{"$f":"Feuil4!AF144","v":0},{"$f":"Feuil4!AG144","v":0},{"$f":"Feuil4!AH144","v":0},{"$f":"Feuil4!AI144","v":0},{"$f":"Feuil4!AJ144","v":0},{"$f":"Feuil4!AK144","v":0},{"$f":"Feuil4!AL144","v":0},{"$f":"Feuil4!AM144","v":0},{"$f":"Feuil4!AN144","v":"00:00:00"},{"$f":"Feuil4!AO144","v":0}]
[{"$f":"Feuil4!A145","v":0},{"$f":"Feuil4!B145","v":{"$error":"#VALUE!"}},{"$f":"Feuil4!C145","v":0},{"$f":"Feuil4!D145","v":0},{"$f":"Feuil4!E145","v":0},{"$f":"Feuil4!F145","v":0},{"$f":"Feuil4!G145","v":0},{"$f":"Feuil4!H145","v":0},{"$f":"Feuil4!I145","v":0},{"$f":"Feuil4!J145","v":0},{"$f":"Feuil4!K145","v":0},{"$f":"Feuil4!L145","v":0},{"$f":"Feuil4!M145","v":0},{"$f":"Feuil4!N145","v":0},{"$f":"Feuil4!O145","v":0},{"$f":"Feuil4!P145","v":0},{"$f":"Feuil4!Q145","v":0},{"$f":"Feuil4!R145","v":0},{"$f":"Feuil4!S145","v":0},{"$f":"Feuil4!T145","v":0},{"$f":"Feuil4!U145","v":0},{"$f":"Feuil4!V145","v":0},{"$f":"Feuil4!W145","v":0},{"$f":"Feuil4!X145","v":0},{"$f":"Feuil4!Y145","v":0},{"$f":"Feuil4!Z145","v":0},{"$f":"Feuil4!AA145","v":0},{"$f":"Feuil4!AB145","v":0},{"$f":"Feuil4!AC145","v":0},{"$f":"Feuil4!AD145","v":0},{"$f":"Feuil4!AE145","v":0},{"$f":"Feuil4!AF145","v":0},{"$f":"Feuil4!AG145","v":0},{"$f":"Feuil4!AH145","v":0},{"$f":"Feuil4!AI145","v":0},{"$f":"Feuil4!AJ145","v":0},{"$f":"Feuil4!AK145","v":0},{"$f":"Feuil4!AL145","v":0},{"$f":"Feuil4!AM145","v":0},{"$f":"Feuil4!AN145","v":"00:00:00"},{"$f":"Feuil4!AO145","v":0}]
[{"$f":"Feuil4!A146","v":0},{"$f":"Feuil4!B146","v":{"$error":"#VALUE!"}},{"$f":"Feuil4!C146","v":0},{"$f":"Feuil4!D146","v":0},{"$f":"Feuil4!E146","v":0},{"$f":"Feuil4!F146","v":0},{"$f":"Feuil4!G146","v":0},{"$f":"Feuil4!H146","v":0},{"$f":"Feuil4!I146","v":0},{"$f":"Feuil4!J146","v":0},{"$f":"Feuil4!K146","v":0},{"$f":"Feuil4!L146","v":0},{"$f":"Feuil4!M146","v":0},{"$f":"Feuil4!N146","v":0},{"$f":"Feuil4!O146","v":0},{"$f":"Feuil4!P146","v":0},{"$f":"Feuil4!Q146","v":0},{"$f":"Feuil4!R146","v":0},{"$f":"Feuil4!S146","v":0},{"$f":"Feuil4!T146","v":0},{"$f":"Feuil4!U146","v":0},{"$f":"Feuil4!V146","v":0},{"$f":"Feuil4!W146","v":0},{"$f":"Feuil4!X146","v":0},{"$f":"Feuil4!Y146","v":0},{"$f":"Feuil4!Z146","v":0},{"$f":"Feuil4!AA146","v":0},{"$f":"Feuil4!AB146","v":0},{"$f":"Feuil4!AC146","v":0},{"$f":"Feuil4!AD146","v":0},{"$f":"Feuil4!AE146","v":0},{"$f":"Feuil4!AF146","v":0},{"$f":"Feuil4!AG146","v":0},{"$f":"Feuil4!AH146","v":0},{"$f":"Feuil4!AI146","v":0},{"$f":"Feuil4!AJ146","v":0},{"$f":"Feuil4!AK146","v":0},{"$f":"Feuil4!AL146","v":0},{"$f":"Feuil4!AM146","v":0},{"$f":"Feuil4!AN146","v":"00:00:00"},{"$f":"Feuil4!AO146","v":0}]
[{"$f":"Feuil4!A147","v":0},{"$f":"Feuil4!B147","v":{"$error":"#VALUE!"}},{"$f":"Feuil4!C147","v":0},{"$f":"Feuil4!D147","v":0},{"$f":"Feuil4!E147","v":0},{"$f":"Feuil4!F147","v":0},{"$f":"Feuil4!G147","v":0},{"$f":"Feuil4!H147","v":0},{"$f":"Feuil4!I147","v":0},{"$f":"Feuil4!J147","v":0},{"$f":"Feuil4!K147","v":0},{"$f":"Feuil4!L147","v":0},{"$f":"Feuil4!M147","v":0},{"$f":"Feuil4!N147","v":0},{"$f":"Feuil4!O147","v":0},{"$f":"Feuil4!P147","v":0},{"$f":"Feuil4!Q147","v":0},{"$f":"Feuil4!R147","v":0},{"$f":"Feuil4!S147","v":0},{"$f":"Feuil4!T147","v":0},{"$f":"Feuil4!U147","v":0},{"$f":"Feuil4!V147","v":0},{"$f":"Feuil4!W147","v":0},{"$f":"Feuil4!X147","v":0},{"$f":"Feuil4!Y147","v":0},{"$f":"Feuil4!Z147","v":0},{"$f":"Feuil4!AA147","v":0},{"$f":"Feuil4!AB147","v":0},{"$f":"Feuil4!AC147","v":0},{"$f":"Feuil4!AD147","v":0},{"$f":"Feuil4!AE147","v":0},{"$f":"Feuil4!AF147","v":0},{"$f":"Feuil4!AG147","v":0},{"$f":"Feuil4!AH147","v":0},{"$f":"Feuil4!AI147","v":0},{"$f":"Feuil4!AJ147","v":0},{"$f":"Feuil4!AK147","v":0},{"$f":"Feuil4!AL147","v":0},{"$f":"Feuil4!AM147","v":0},{"$f":"Feuil4!AN147","v":"00:00:00"},{"$f":"Feuil4!AO147","v":0}]
[{"$f":"Feuil4!A148","v":0},{"$f":"Feuil4!B148","v":{"$error":"#VALUE!"}},{"$f":"Feuil4!C148","v":0},{"$f":"Feuil4!D148","v":0},{"$f":"Feuil4!E148","v":0},{"$f":"Feuil4!F148","v":0},{"$f":"Feuil4!G148","v":0},{"$f":"Feuil4!H148","v":0},{"$f":"Feuil4!I148","v":0},{"$f":"Feuil4!J148","v":0},{"$f":"Feuil4!K148","v":0},{"$f":"Feuil4!L148","v":0},{"$f":"Feuil4!M148","v":0},{"$f":"Feuil4!N148","v":0},{"$f":"Feuil4!O148","v":0},{"$f":"Feuil4!P148","v":0},{"$f":"Feuil4!Q148","v":0},{"$f":"Feuil4!R148","v":0},{"$f":"Feuil4!S148","v":0},{"$f":"Feuil4!T148","v":0},{"$f":"Feuil4!U148","v":0},{"$f":"Feuil4!V148","v":0},{"$f":"Feuil4!W148","v":0},{"$f":"Feuil4!X148","v":0},{"$f":"Feuil4!Y148","v":0},{"$f":"Feuil4!Z148","v":0},{"$f":"Feuil4!AA148","v":0},{"$f":"Feuil4!AB148","v":0},{"$f":"Feuil4!AC148","v":0},{"$f":"Feuil4!AD148","v":0},{"$f":"Feuil4!AE148","v":0},{"$f":"Feuil4!AF148","v":0},{"$f":"Feuil4!AG148","v":0},{"$f":"Feuil4!AH148","v":0},{"$f":"Feuil4!AI148","v":0},{"$f":"Feuil4!AJ148","v":0},{"$f":"Feuil4!AK148","v":0},{"$f":"Feuil4!AL148","v":0},{"$f":"Feuil4!AM148","v":0},{"$f":"Feuil4!AN148","v":"00:00:00"},{"$f":"Feuil4!AO148","v":0}]
[{"$f":"Feuil4!A149","v":0},{"$f":"Feuil4!B149","v":{"$error":"#VALUE!"}},{"$f":"Feuil4!C149","v":0},{"$f":"Feuil4!D149","v":0},{"$f":"Feuil4!E149","v":0},{"$f":"Feuil4!F149","v":0},{"$f":"Feuil4!G149","v":0},{"$f":"Feuil4!H149","v":0},{"$f":"Feuil4!I149","v":0},{"$f":"Feuil4!J149","v":0},{"$f":"Feuil4!K149","v":0},{"$f":"Feuil4!L149","v":0},{"$f":"Feuil4!M149","v":0},{"$f":"Feuil4!N149","v":0},{"$f":"Feuil4!O149","v":0},{"$f":"Feuil4!P149","v":0},{"$f":"Feuil4!Q149","v":0},{"$f":"Feuil4!R149","v":0},{"$f":"Feuil4!S149","v":0},{"$f":"Feuil4!T149","v":0},{"$f":"Feuil4!U149","v":0},{"$f":"Feuil4!V149","v":0},{"$f":"Feuil4!W149","v":0},{"$f":"Feuil4!X149","v":0},{"$f":"Feuil4!Y149","v":0},{"$f":"Feuil4!Z149","v":0},{"$f":"Feuil4!AA149","v":0},{"$f":"Feuil4!AB149","v":0},{"$f":"Feuil4!AC149","v":0},{"$f":"Feuil4!AD149","v":0},{"$f":"Feuil4!AE149","v":0},{"$f":"Feuil4!AF149","v":0},{"$f":"Feuil4!AG149","v":0},{"$f":"Feuil4!AH149","v":0},{"$f":"Feuil4!AI149","v":0},{"$f":"Feuil4!AJ149","v":0},{"$f":"Feuil4!AK149","v":0},{"$f":"Feuil4!AL149","v":0},{"$f":"Feuil4!AM149","v":0},{"$f":"Feuil4!AN149","v":"00:00:00"},{"$f":"Feuil4!AO149","v":0}]
[{"$f":"Feuil4!A150","v":0},{"$f":"Feuil4!B150","v":{"$error":"#VALUE!"}},{"$f":"Feuil4!C150","v":0},{"$f":"Feuil4!D150","v":0},{"$f":"Feuil4!E150","v":0},{"$f":"Feuil4!F150","v":0},{"$f":"Feuil4!G150","v":0},{"$f":"Feuil4!H150","v":0},{"$f":"Feuil4!I150","v":0},{"$f":"Feuil4!J150","v":0},{"$f":"Feuil4!K150","v":0},{"$f":"Feuil4!L150","v":0},{"$f":"Feuil4!M150","v":0},{"$f":"Feuil4!N150","v":0},{"$f":"Feuil4!O150","v":0},{"$f":"Feuil4!P150","v":0},{"$f":"Feuil4!Q150","v":0},{"$f":"Feuil4!R150","v":0},{"$f":"Feuil4!S150","v":0},{"$f":"Feuil4!T150","v":0},{"$f":"Feuil4!U150","v":0},{"$f":"Feuil4!V150","v":0},{"$f":"Feuil4!W150","v":0},{"$f":"Feuil4!X150","v":0},{"$f":"Feuil4!Y150","v":0},{"$f":"Feuil4!Z150","v":0},{"$f":"Feuil4!AA150","v":0},{"$f":"Feuil4!AB150","v":0},{"$f":"Feuil4!AC150","v":0},{"$f":"Feuil4!AD150","v":0},{"$f":"Feuil4!AE150","v":0},{"$f":"Feuil4!AF150","v":0},{"$f":"Feuil4!AG150","v":0},{"$f":"Feuil4!AH150","v":0},{"$f":"Feuil4!AI150","v":0},{"$f":"Feuil4!AJ150","v":0},{"$f":"Feuil4!AK150","v":0},{"$f":"Feuil4!AL150","v":0},{"$f":"Feuil4!AM150","v":0},{"$f":"Feuil4!AN150","v":"00:00:00"},{"$f":"Feuil4!AO150","v":0}]
[{"$f":"Feuil4!A151","v":0},{"$f":"Feuil4!B151","v":{"$error":"#VALUE!"}},{"$f":"Feuil4!C151","v":0},{"$f":"Feuil4!D151","v":0},{"$f":"Feuil4!E151","v":0},{"$f":"Feuil4!F151","v":0},{"$f":"Feuil4!G151","v":0},{"$f":"Feuil4!H151","v":0},{"$f":"Feuil4!I151","v":0},{"$f":"Feuil4!J151","v":0},{"$f":"Feuil4!K151","v":0},{"$f":"Feuil4!L151","v":0},{"$f":"Feuil4!M151","v":0},{"$f":"Feuil4!N151","v":0},{"$f":"Feuil4!O151","v":0},{"$f":"Feuil4!P151","v":0},{"$f":"Feuil4!Q151","v":0},{"$f":"Feuil4!R151","v":0},{"$f":"Feuil4!S151","v":0},{"$f":"Feuil4!T151","v":0},{"$f":"Feuil4!U151","v":0},{"$f":"Feuil4!V151","v":0},{"$f":"Feuil4!W151","v":0},{"$f":"Feuil4!X151","v":0},{"$f":"Feuil4!Y151","v":0},{"$f":"Feuil4!Z151","v":0},{"$f":"Feuil4!AA151","v":0},{"$f":"Feuil4!AB151","v":0},{"$f":"Feuil4!AC151","v":0},{"$f":"Feuil4!AD151","v":0},{"$f":"Feuil4!AE151","v":0},{"$f":"Feuil4!AF151","v":0},{"$f":"Feuil4!AG151","v":0},{"$f":"Feuil4!AH151","v":0},{"$f":"Feuil4!AI151","v":0},{"$f":"Feuil4!AJ151","v":0},{"$f":"Feuil4!AK151","v":0},{"$f":"Feuil4!AL151","v":0},{"$f":"Feuil4!AM151","v":0},{"$f":"Feuil4!AN151","v":"00:00:00"},{"$f":"Feuil4!AO151","v":0}]
[{"$f":"Feuil4!A152","v":0},{"$f":"Feuil4!B152","v":{"$error":"#VALUE!"}},{"$f":"Feuil4!C152","v":0},{"$f":"Feuil4!D152","v":0},{"$f":"Feuil4!E152","v":0},{"$f":"Feuil4!F152","v":0},{"$f":"Feuil4!G152","v":0},{"$f":"Feuil4!H152","v":0},{"$f":"Feuil4!I152","v":0},{"$f":"Feuil4!J152","v":0},{"$f":"Feuil4!K152","v":0},{"$f":"Feuil4!L152","v":0},{"$f":"Feuil4!M152","v":0},{"$f":"Feuil4!N152","v":0},{"$f":"Feuil4!O152","v":0},{"$f":"Feuil4!P152","v":0},{"$f":"Feuil4!Q152","v":0},{"$f":"Feuil4!R152","v":0},{"$f":"Feuil4!S152","v":0},{"$f":"Feuil4!T152","v":0},{"$f":"Feuil4!U152","v":0},{"$f":"Feuil4!V152","v":0},{"$f":"Feuil4!W152","v":0},{"$f":"Feuil4!X152","v":0},{"$f":"Feuil4!Y152","v":0},{"$f":"Feuil4!Z152","v":0},{"$f":"Feuil4!AA152","v":0},{"$f":"Feuil4!AB152","v":0},{"$f":"Feuil4!AC152","v":0},{"$f":"Feuil4!AD152","v":0},{"$f":"Feuil4!AE152","v":0},{"$f":"Feuil4!AF152","v":0},{"$f":"Feuil4!AG152","v":0},{"$f":"Feuil4!AH152","v":0},{"$f":"Feuil4!AI152","v":0},{"$f":"Feuil4!AJ152","v":0},{"$f":"Feuil4!AK152","v":0},{"$f":"Feuil4!AL152","v":0},{"$f":"Feuil4!AM152","v":0},{"$f":"Feuil4!AN152","v":"00:00:00"},{"$f":"Feuil4!AO152","v":0}]
[{"$f":"Feuil4!A153","v":0},{"$f":"Feuil4!B153","v":{"$error":"#VALUE!"}},{"$f":"Feuil4!C153","v":0},{"$f":"Feuil4!D153","v":0},{"$f":"Feuil4!E153","v":0},{"$f":"Feuil4!F153","v":0},{"$f":"Feuil4!G153","v":0},{"$f":"Feuil4!H153","v":0},{"$f":"Feuil4!I153","v":0},{"$f":"Feuil4!J153","v":0},{"$f":"Feuil4!K153","v":0},{"$f":"Feuil4!L153","v":0},{"$f":"Feuil4!M153","v":0},{"$f":"Feuil4!N153","v":0},{"$f":"Feuil4!O153","v":0},{"$f":"Feuil4!P153","v":0},{"$f":"Feuil4!Q153","v":0},{"$f":"Feuil4!R153","v":0},{"$f":"Feuil4!S153","v":0},{"$f":"Feuil4!T153","v":0},{"$f":"Feuil4!U153","v":0},{"$f":"Feuil4!V153","v":0},{"$f":"Feuil4!W153","v":0},{"$f":"Feuil4!X153","v":0},{"$f":"Feuil4!Y153","v":0},{"$f":"Feuil4!Z153","v":0},{"$f":"Feuil4!AA153","v":0},{"$f":"Feuil4!AB153","v":0},{"$f":"Feuil4!AC153","v":0},{"$f":"Feuil4!AD153","v":0},{"$f":"Feuil4!AE153","v":0},{"$f":"Feuil4!AF153","v":0},{"$f":"Feuil4!AG153","v":0},{"$f":"Feuil4!AH153","v":0},{"$f":"Feuil4!AI153","v":0},{"$f":"Feuil4!AJ153","v":0},{"$f":"Feuil4!AK153","v":0},{"$f":"Feuil4!AL153","v":0},{"$f":"Feuil4!AM153","v":0},{"$f":"Feuil4!AN153","v":"00:00:00"},{"$f":"Feuil4!AO153","v":0}]
[{"$f":"Feuil4!A154","v":0},{"$f":"Feuil4!B154","v":{"$error":"#VALUE!"}},{"$f":"Feuil4!C154","v":0},{"$f":"Feuil4!D154","v":0},{"$f":"Feuil4!E154","v":0},{"$f":"Feuil4!F154","v":0},{"$f":"Feuil4!G154","v":0},{"$f":"Feuil4!H154","v":0},{"$f":"Feuil4!I154","v":0},{"$f":"Feuil4!J154","v":0},{"$f":"Feuil4!K154","v":0},{"$f":"Feuil4!L154","v":0},{"$f":"Feuil4!M154","v":0},{"$f":"Feuil4!N154","v":0},{"$f":"Feuil4!O154","v":0},{"$f":"Feuil4!P154","v":0},{"$f":"Feuil4!Q154","v":0},{"$f":"Feuil4!R154","v":0},{"$f":"Feuil4!S154","v":0},{"$f":"Feuil4!T154","v":0},{"$f":"Feuil4!U154","v":0},{"$f":"Feuil4!V154","v":0},{"$f":"Feuil4!W154","v":0},{"$f":"Feuil4!X154","v":0},{"$f":"Feuil4!Y154","v":0},{"$f":"Feuil4!Z154","v":0},{"$f":"Feuil4!AA154","v":0},{"$f":"Feuil4!AB154","v":0},{"$f":"Feuil4!AC154","v":0},{"$f":"Feuil4!AD154","v":0},{"$f":"Feuil4!AE154","v":0},{"$f":"Feuil4!AF154","v":0},{"$f":"Feuil4!AG154","v":0},{"$f":"Feuil4!AH154","v":0},{"$f":"Feuil4!AI154","v":0},{"$f":"Feuil4!AJ154","v":0},{"$f":"Feuil4!AK154","v":0},{"$f":"Feuil4!AL154","v":0},{"$f":"Feuil4!AM154","v":0},{"$f":"Feuil4!AN154","v":"00:00:00"},{"$f":"Feuil4!AO154","v":0}]
[{"$f":"Feuil4!A155","v":0},{"$f":"Feuil4!B155","v":{"$error":"#VALUE!"}},{"$f":"Feuil4!C155","v":0},{"$f":"Feuil4!D155","v":0},{"$f":"Feuil4!E155","v":0},{"$f":"Feuil4!F155","v":0},{"$f":"Feuil4!G155","v":0},{"$f":"Feuil4!H155","v":0},{"$f":"Feuil4!I155","v":0},{"$f":"Feuil4!J155","v":0},{"$f":"Feuil4!K155","v":0},{"$f":"Feuil4!L155","v":0},{"$f":"Feuil4!M155","v":0},{"$f":"Feuil4!N155","v":0},{"$f":"Feuil4!O155","v":0},{"$f":"Feuil4!P155","v":0},{"$f":"Feuil4!Q155","v":0},{"$f":"Feuil4!R155","v":0},{"$f":"Feuil4!S155","v":0},{"$f":"Feuil4!T155","v":0},{"$f":"Feuil4!U155","v":0},{"$f":"Feuil4!V155","v":0},{"$f":"Feuil4!W155","v":0},{"$f":"Feuil4!X155","v":0},{"$f":"Feuil4!Y155","v":0},{"$f":"Feuil4!Z155","v":0},{"$f":"Feuil4!AA155","v":0},{"$f":"Feuil4!AB155","v":0},{"$f":"Feuil4!AC155","v":0},{"$f":"Feuil4!AD155","v":0},{"$f":"Feuil4!AE155","v":0},{"$f":"Feuil4!AF155","v":0},{"$f":"Feuil4!AG155","v":0},{"$f":"Feuil4!AH155","v":0},{"$f":"Feuil4!AI155","v":0},{"$f":"Feuil4!AJ155","v":0},{"$f":"Feuil4!AK155","v":0},{"$f":"Feuil4!AL155","v":0},{"$f":"Feuil4!AM155","v":0},{"$f":"Feuil4!AN155","v":"00:00:00"},{"$f":"Feuil4!AO155","v":0}]
[{"$f":"Feuil4!A156","v":0},{"$f":"Feuil4!B156","v":{"$error":"#VALUE!"}},{"$f":"Feuil4!C156","v":0},{"$f":"Feuil4!D156","v":0},{"$f":"Feuil4!E156","v":0},{"$f":"Feuil4!F156","v":0},{"$f":"Feuil4!G156","v":0},{"$f":"Feuil4!H156","v":0},{"$f":"Feuil4!I156","v":0},{"$f":"Feuil4!J156","v":0},{"$f":"Feuil4!K156","v":0},{"$f":"Feuil4!L156","v":0},{"$f":"Feuil4!M156","v":0},{"$f":"Feuil4!N156","v":0},{"$f":"Feuil4!O156","v":0},{"$f":"Feuil4!P156","v":0},{"$f":"Feuil4!Q156","v":0},{"$f":"Feuil4!R156","v":0},{"$f":"Feuil4!S156","v":0},{"$f":"Feuil4!T156","v":0},{"$f":"Feuil4!U156","v":0},{"$f":"Feuil4!V156","v":0},{"$f":"Feuil4!W156","v":0},{"$f":"Feuil4!X156","v":0},{"$f":"Feuil4!Y156","v":0},{"$f":"Feuil4!Z156","v":0},{"$f":"Feuil4!AA156","v":0},{"$f":"Feuil4!AB156","v":0},{"$f":"Feuil4!AC156","v":0},{"$f":"Feuil4!AD156","v":0},{"$f":"Feuil4!AE156","v":0},{"$f":"Feuil4!AF156","v":0},{"$f":"Feuil4!AG156","v":0},{"$f":"Feuil4!AH156","v":0},{"$f":"Feuil4!AI156","v":0},{"$f":"Feuil4!AJ156","v":0},{"$f":"Feuil4!AK156","v":0},{"$f":"Feuil4!AL156","v":0},{"$f":"Feuil4!AM156","v":0},{"$f":"Feuil4!AN156","v":"00:00:00"},{"$f":"Feuil4!AO156","v":0}]
[{"$f":"Feuil4!A157","v":0},{"$f":"Feuil4!B157","v":{"$error":"#VALUE!"}},{"$f":"Feuil4!C157","v":0},{"$f":"Feuil4!D157","v":0},{"$f":"Feuil4!E157","v":0},{"$f":"Feuil4!F157","v":0},{"$f":"Feuil4!G157","v":0},{"$f":"Feuil4!H157","v":0},{"$f":"Feuil4!I157","v":0},{"$f":"Feuil4!J157","v":0},{"$f":"Feuil4!K157","v":0},{"$f":"Feuil4!L157","v":0},{"$f":"Feuil4!M157","v":0},{"$f":"Feuil4!N157","v":0},{"$f":"Feuil4!O157","v":0},{"$f":"Feuil4!P157","v":0},{"$f":"Feuil4!Q157","v":0},{"$f":"Feuil4!R157","v":0},{"$f":"Feuil4!S157","v":0},{"$f":"Feuil4!T157","v":0},{"$f":"Feuil4!U157","v":0},{"$f":"Feuil4!V157","v":0},{"$f":"Feuil4!W157","v":0},{"$f":"Feuil4!X157","v":0},{"$f":"Feuil4!Y157","v":0},{"$f":"Feuil4!Z157","v":0},{"$f":"Feuil4!AA157","v":0},{"$f":"Feuil4!AB157","v":0},{"$f":"Feuil4!AC157","v":0},{"$f":"Feuil4!AD157","v":0},{"$f":"Feuil4!AE157","v":0},{"$f":"Feuil4!AF157","v":0},{"$f":"Feuil4!AG157","v":0},{"$f":"Feuil4!AH157","v":0},{"$f":"Feuil4!AI157","v":0},{"$f":"Feuil4!AJ157","v":0},{"$f":"Feuil4!AK157","v":0},{"$f":"Feuil4!AL157","v":0},{"$f":"Feuil4!AM157","v":0},{"$f":"Feuil4!AN157","v":"00:00:00"},{"$f":"Feuil4!AO157","v":0}]
[{"$f":"Feuil4!A158","v":0},{"$f":"Feuil4!B158","v":{"$error":"#VALUE!"}},{"$f":"Feuil4!C158","v":0},{"$f":"Feuil4!D158","v":0},{"$f":"Feuil4!E158","v":0},{"$f":"Feuil4!F158","v":0},{"$f":"Feuil4!G158","v":0},{"$f":"Feuil4!H158","v":0},{"$f":"Feuil4!I158","v":0},{"$f":"Feuil4!J158","v":0},{"$f":"Feuil4!K158","v":0},{"$f":"Feuil4!L158","v":0},{"$f":"Feuil4!M158","v":0},{"$f":"Feuil4!N158","v":0},{"$f":"Feuil4!O158","v":0},{"$f":"Feuil4!P158","v":0},{"$f":"Feuil4!Q158","v":0},{"$f":"Feuil4!R158","v":0},{"$f":"Feuil4!S158","v":0},{"$f":"Feuil4!T158","v":0},{"$f":"Feuil4!U158","v":0},{"$f":"Feuil4!V158","v":0},{"$f":"Feuil4!W158","v":0},{"$f":"Feuil4!X158","v":0},{"$f":"Feuil4!Y158","v":0},{"$f":"Feuil4!Z158","v":0},{"$f":"Feuil4!AA158","v":0},{"$f":"Feuil4!AB158","v":0},{"$f":"Feuil4!AC158","v":0},{"$f":"Feuil4!AD158","v":0},{"$f":"Feuil4!AE158","v":0},{"$f":"Feuil4!AF158","v":0},{"$f":"Feuil4!AG158","v":0},{"$f":"Feuil4!AH158","v":0},{"$f":"Feuil4!AI158","v":0},{"$f":"Feuil4!AJ158","v":0},{"$f":"Feuil4!AK158","v":0},{"$f":"Feuil4!AL158","v":0},{"$f":"Feuil4!AM158","v":0},{"$f":"Feuil4!AN158","v":"00:00:00"},{"$f":"Feuil4!AO158","v":0}]
[{"$f":"Feuil4!A159","v":0},{"$f":"Feuil4!B159","v":{"$error":"#VALUE!"}},{"$f":"Feuil4!C159","v":0},{"$f":"Feuil4!D159","v":0},{"$f":"Feuil4!E159","v":0},{"$f":"Feuil4!F159","v":0},{"$f":"Feuil4!G159","v":0},{"$f":"Feuil4!H159","v":0},{"$f":"Feuil4!I159","v":0},{"$f":"Feuil4!J159","v":0},{"$f":"Feuil4!K159","v":0},{"$f":"Feuil4!L159","v":0},{"$f":"Feuil4!M159","v":0},{"$f":"Feuil4!N159","v":0},{"$f":"Feuil4!O159","v":0},{"$f":"Feuil4!P159","v":0},{"$f":"Feuil4!Q159","v":0},{"$f":"Feuil4!R159","v":0},{"$f":"Feuil4!S159","v":0},{"$f":"Feuil4!T159","v":0},{"$f":"Feuil4!U159","v":0},{"$f":"Feuil4!V159","v":0},{"$f":"Feuil4!W159","v":0},{"$f":"Feuil4!X159","v":0},{"$f":"Feuil4!Y159","v":0},{"$f":"Feuil4!Z159","v":0},{"$f":"Feuil4!AA159","v":0},{"$f":"Feuil4!AB159","v":0},{"$f":"Feuil4!AC159","v":0},{"$f":"Feuil4!AD159","v":0},{"$f":"Feuil4!AE159","v":0},{"$f":"Feuil4!AF159","v":0},{"$f":"Feuil4!AG159","v":0},{"$f":"Feuil4!AH159","v":0},{"$f":"Feuil4!AI159","v":0},{"$f":"Feuil4!AJ159","v":0},{"$f":"Feuil4!AK159","v":0},{"$f":"Feuil4!AL159","v":0},{"$f":"Feuil4!AM159","v":0},{"$f":"Feuil4!AN159","v":"00:00:00"},{"$f":"Feuil4!AO159","v":0}]
[{"$f":"Feuil4!A160","v":0},{"$f":"Feuil4!B160","v":{"$error":"#VALUE!"}},{"$f":"Feuil4!C160","v":0},{"$f":"Feuil4!D160","v":0},{"$f":"Feuil4!E160","v":0},{"$f":"Feuil4!F160","v":0},{"$f":"Feuil4!G160","v":0},{"$f":"Feuil4!H160","v":0},{"$f":"Feuil4!I160","v":0},{"$f":"Feuil4!J160","v":0},{"$f":"Feuil4!K160","v":0},{"$f":"Feuil4!L160","v":0},{"$f":"Feuil4!M160","v":0},{"$f":"Feuil4!N160","v":0},{"$f":"Feuil4!O160","v":0},{"$f":"Feuil4!P160","v":0},{"$f":"Feuil4!Q160","v":0},{"$f":"Feuil4!R160","v":0},{"$f":"Feuil4!S160","v":0},{"$f":"Feuil4!T160","v":0},{"$f":"Feuil4!U160","v":0},{"$f":"Feuil4!V160","v":0},{"$f":"Feuil4!W160","v":0},{"$f":"Feuil4!X160","v":0},{"$f":"Feuil4!Y160","v":0},{"$f":"Feuil4!Z160","v":0},{"$f":"Feuil4!AA160","v":0},{"$f":"Feuil4!AB160","v":0},{"$f":"Feuil4!AC160","v":0},{"$f":"Feuil4!AD160","v":0},{"$f":"Feuil4!AE160","v":0},{"$f":"Feuil4!AF160","v":0},{"$f":"Feuil4!AG160","v":0},{"$f":"Feuil4!AH160","v":0},{"$f":"Feuil4!AI160","v":0},{"$f":"Feuil4!AJ160","v":0},{"$f":"Feuil4!AK160","v":0},{"$f":"Feuil4!AL160","v":0},{"$f":"Feuil4!AM160","v":0},{"$f":"Feuil4!AN160","v":"00:00:00"},{"$f":"Feuil4!AO160","v":0}]
[{"$f":"Feuil4!A161","v":0},{"$f":"Feuil4!B161","v":{"$error":"#VALUE!"}},{"$f":"Feuil4!C161","v":0},{"$f":"Feuil4!D161","v":0},{"$f":"Feuil4!E161","v":0},{"$f":"Feuil4!F161","v":0},{"$f":"Feuil4!G161","v":0},{"$f":"Feuil4!H161","v":0},{"$f":"Feuil4!I161","v":0},{"$f":"Feuil4!J161","v":0},{"$f":"Feuil4!K161","v":0},{"$f":"Feuil4!L161","v":0},{"$f":"Feuil4!M161","v":0},{"$f":"Feuil4!N161","v":0},{"$f":"Feuil4!O161","v":0},{"$f":"Feuil4!P161","v":0},{"$f":"Feuil4!Q161","v":0},{"$f":"Feuil4!R161","v":0},{"$f":"Feuil4!S161","v":0},{"$f":"Feuil4!T161","v":0},{"$f":"Feuil4!U161","v":0},{"$f":"Feuil4!V161","v":0},{"$f":"Feuil4!W161","v":0},{"$f":"Feuil4!X161","v":0},{"$f":"Feuil4!Y161","v":0},{"$f":"Feuil4!Z161","v":0},{"$f":"Feuil4!AA161","v":0},{"$f":"Feuil4!AB161","v":0},{"$f":"Feuil4!AC161","v":0},{"$f":"Feuil4!AD161","v":0},{"$f":"Feuil4!AE161","v":0},{"$f":"Feuil4!AF161","v":0},{"$f":"Feuil4!AG161","v":0},{"$f":"Feuil4!AH161","v":0},{"$f":"Feuil4!AI161","v":0},{"$f":"Feuil4!AJ161","v":0},{"$f":"Feuil4!AK161","v":0},{"$f":"Feuil4!AL161","v":0},{"$f":"Feuil4!AM161","v":0},{"$f":"Feuil4!AN161","v":"00:00:00"},{"$f":"Feuil4!AO161","v":0}]
[{"$f":"Feuil4!A162","v":0},{"$f":"Feuil4!B162","v":{"$error":"#VALUE!"}},{"$f":"Feuil4!C162","v":0},{"$f":"Feuil4!D162","v":0},{"$f":"Feuil4!E162","v":0},{"$f":"Feuil4!F162","v":0},{"$f":"Feuil4!G162","v":0},{"$f":"Feuil4!H162","v":0},{"$f":"Feuil4!I162","v":0},{"$f":"Feuil4!J162","v":0},{"$f":"Feuil4!K162","v":0},{"$f":"Feuil4!L162","v":0},{"$f":"Feuil4!M162","v":0},{"$f":"Feuil4!N162","v":0},{"$f":"Feuil4!O162","v":0},{"$f":"Feuil4!P162","v":0},{"$f":"Feuil4!Q162","v":0},{"$f":"Feuil4!R162","v":0},{"$f":"Feuil4!S162","v":0},{"$f":"Feuil4!T162","v":0},{"$f":"Feuil4!U162","v":0},{"$f":"Feuil4!V162","v":0},{"$f":"Feuil4!W162","v":0},{"$f":"Feuil4!X162","v":0},{"$f":"Feuil4!Y162","v":0},{"$f":"Feuil4!Z162","v":0},{"$f":"Feuil4!AA162","v":0},{"$f":"Feuil4!AB162","v":0},{"$f":"Feuil4!AC162","v":0},{"$f":"Feuil4!AD162","v":0},{"$f":"Feuil4!AE162","v":0},{"$f":"Feuil4!AF162","v":0},{"$f":"Feuil4!AG162","v":0},{"$f":"Feuil4!AH162","v":0},{"$f":"Feuil4!AI162","v":0},{"$f":"Feuil4!AJ162","v":0},{"$f":"Feuil4!AK162","v":0},{"$f":"Feuil4!AL162","v":0},{"$f":"Feuil4!AM162","v":0},{"$f":"Feuil4!AN162","v":"00:00:00"},{"$f":"Feuil4!AO162","v":0}]
[{"$f":"Feuil4!A163","v":0},{"$f":"Feuil4!B163","v":{"$error":"#VALUE!"}},{"$f":"Feuil4!C163","v":0},{"$f":"Feuil4!D163","v":0},{"$f":"Feuil4!E163","v":0},{"$f":"Feuil4!F163","v":0},{"$f":"Feuil4!G163","v":0},{"$f":"Feuil4!H163","v":0},{"$f":"Feuil4!I163","v":0},{"$f":"Feuil4!J163","v":0},{"$f":"Feuil4!K163","v":0},{"$f":"Feuil4!L163","v":0},{"$f":"Feuil4!M163","v":0},{"$f":"Feuil4!N163","v":0},{"$f":"Feuil4!O163","v":0},{"$f":"Feuil4!P163","v":0},{"$f":"Feuil4!Q163","v":0},{"$f":"Feuil4!R163","v":0},{"$f":"Feuil4!S163","v":0},{"$f":"Feuil4!T163","v":0},{"$f":"Feuil4!U163","v":0},{"$f":"Feuil4!V163","v":0},{"$f":"Feuil4!W163","v":0},{"$f":"Feuil4!X163","v":0},{"$f":"Feuil4!Y163","v":0},{"$f":"Feuil4!Z163","v":0},{"$f":"Feuil4!AA163","v":0},{"$f":"Feuil4!AB163","v":0},{"$f":"Feuil4!AC163","v":0},{"$f":"Feuil4!AD163","v":0},{"$f":"Feuil4!AE163","v":0},{"$f":"Feuil4!AF163","v":0},{"$f":"Feuil4!AG163","v":0},{"$f":"Feuil4!AH163","v":0},{"$f":"Feuil4!AI163","v":0},{"$f":"Feuil4!AJ163","v":0},{"$f":"Feuil4!AK163","v":0},{"$f":"Feuil4!AL163","v":0},{"$f":"Feuil4!AM163","v":0},{"$f":"Feuil4!AN163","v":"00:00:00"},{"$f":"Feuil4!AO163","v":0}]
[{"$f":"Feuil4!A164","v":0},{"$f":"Feuil4!B164","v":{"$error":"#VALUE!"}},{"$f":"Feuil4!C164","v":0},{"$f":"Feuil4!D164","v":0},{"$f":"Feuil4!E164","v":0},{"$f":"Feuil4!F164","v":0},{"$f":"Feuil4!G164","v":0},{"$f":"Feuil4!H164","v":0},{"$f":"Feuil4!I164","v":0},{"$f":"Feuil4!J164","v":0},{"$f":"Feuil4!K164","v":0},{"$f":"Feuil4!L164","v":0},{"$f":"Feuil4!M164","v":0},{"$f":"Feuil4!N164","v":0},{"$f":"Feuil4!O164","v":0},{"$f":"Feuil4!P164","v":0},{"$f":"Feuil4!Q164","v":0},{"$f":"Feuil4!R164","v":0},{"$f":"Feuil4!S164","v":0},{"$f":"Feuil4!T164","v":0},{"$f":"Feuil4!U164","v":0},{"$f":"Feuil4!V164","v":0},{"$f":"Feuil4!W164","v":0},{"$f":"Feuil4!X164","v":0},{"$f":"Feuil4!Y164","v":0},{"$f":"Feuil4!Z164","v":0},{"$f":"Feuil4!AA164","v":0},{"$f":"Feuil4!AB164","v":0},{"$f":"Feuil4!AC164","v":0},{"$f":"Feuil4!AD164","v":0},{"$f":"Feuil4!AE164","v":0},{"$f":"Feuil4!AF164","v":0},{"$f":"Feuil4!AG164","v":0},{"$f":"Feuil4!AH164","v":0},{"$f":"Feuil4!AI164","v":0},{"$f":"Feuil4!AJ164","v":0},{"$f":"Feuil4!AK164","v":0},{"$f":"Feuil4!AL164","v":0},{"$f":"Feuil4!AM164","v":0},{"$f":"Feuil4!AN164","v":"00:00:00"},{"$f":"Feuil4!AO164","v":0}]
[{"$f":"Feuil4!A165","v":0},{"$f":"Feuil4!B165","v":{"$error":"#VALUE!"}},{"$f":"Feuil4!C165","v":0},{"$f":"Feuil4!D165","v":0},{"$f":"Feuil4!E165","v":0},{"$f":"Feuil4!F165","v":0},{"$f":"Feuil4!G165","v":0},{"$f":"Feuil4!H165","v":0},{"$f":"Feuil4!I165","v":0},{"$f":"Feuil4!J165","v":0},{"$f":"Feuil4!K165","v":0},{"$f":"Feuil4!L165","v":0},{"$f":"Feuil4!M165","v":0},{"$f":"Feuil4!N165","v":0},{"$f":"Feuil4!O165","v":0},{"$f":"Feuil4!P165","v":0},{"$f":"Feuil4!Q165","v":0},{"$f":"Feuil4!R165","v":0},{"$f":"Feuil4!S165","v":0},{"$f":"Feuil4!T165","v":0},{"$f":"Feuil4!U165","v":0},{"$f":"Feuil4!V165","v":0},{"$f":"Feuil4!W165","v":0},{"$f":"Feuil4!X165","v":0},{"$f":"Feuil4!Y165","v":0},{"$f":"Feuil4!Z165","v":0},{"$f":"Feuil4!AA165","v":0},{"$f":"Feuil4!AB165","v":0},{"$f":"Feuil4!AC165","v":0},{"$f":"Feuil4!AD165","v":0},{"$f":"Feuil4!AE165","v":0},{"$f":"Feuil4!AF165","v":0},{"$f":"Feuil4!AG165","v":0},{"$f":"Feuil4!AH165","v":0},{"$f":"Feuil4!AI165","v":0},{"$f":"Feuil4!AJ165","v":0},{"$f":"Feuil4!AK165","v":0},{"$f":"Feuil4!AL165","v":0},{"$f":"Feuil4!AM165","v":0},{"$f":"Feuil4!AN165","v":"00:00:00"},{"$f":"Feuil4!AO165","v":0}]
[{"$f":"Feuil4!A166","v":0},{"$f":"Feuil4!B166","v":{"$error":"#VALUE!"}},{"$f":"Feuil4!C166","v":0},{"$f":"Feuil4!D166","v":0},{"$f":"Feuil4!E166","v":0},{"$f":"Feuil4!F166","v":0},{"$f":"Feuil4!G166","v":0},{"$f":"Feuil4!H166","v":0},{"$f":"Feuil4!I166","v":0},{"$f":"Feuil4!J166","v":0},{"$f":"Feuil4!K166","v":0},{"$f":"Feuil4!L166","v":0},{"$f":"Feuil4!M166","v":0},{"$f":"Feuil4!N166","v":0},{"$f":"Feuil4!O166","v":0},{"$f":"Feuil4!P166","v":0},{"$f":"Feuil4!Q166","v":0},{"$f":"Feuil4!R166","v":0},{"$f":"Feuil4!S166","v":0},{"$f":"Feuil4!T166","v":0},{"$f":"Feuil4!U166","v":0},{"$f":"Feuil4!V166","v":0},{"$f":"Feuil4!W166","v":0},{"$f":"Feuil4!X166","v":0},{"$f":"Feuil4!Y166","v":0},{"$f":"Feuil4!Z166","v":0},{"$f":"Feuil4!AA166","v":0},{"$f":"Feuil4!AB166","v":0},{"$f":"Feuil4!AC166","v":0},{"$f":"Feuil4!AD166","v":0},{"$f":"Feuil4!AE166","v":0},{"$f":"Feuil4!AF166","v":0},{"$f":"Feuil4!AG166","v":0},{"$f":"Feuil4!AH166","v":0},{"$f":"Feuil4!AI166","v":0},{"$f":"Feuil4!AJ166","v":0},{"$f":"Feuil4!AK166","v":0},{"$f":"Feuil4!AL166","v":0},{"$f":"Feuil4!AM166","v":0},{"$f":"Feuil4!AN166","v":"00:00:00"},{"$f":"Feuil4!AO166","v":0}]
[{"$f":"Feuil4!A167","v":0},{"$f":"Feuil4!B167","v":{"$error":"#VALUE!"}},{"$f":"Feuil4!C167","v":0},{"$f":"Feuil4!D167","v":0},{"$f":"Feuil4!E167","v":0},{"$f":"Feuil4!F167","v":0},{"$f":"Feuil4!G167","v":0},{"$f":"Feuil4!H167","v":0},{"$f":"Feuil4!I167","v":0},{"$f":"Feuil4!J167","v":0},{"$f":"Feuil4!K167","v":0},{"$f":"Feuil4!L167","v":0},{"$f":"Feuil4!M167","v":0},{"$f":"Feuil4!N167","v":0},{"$f":"Feuil4!O167","v":0},{"$f":"Feuil4!P167","v":0},{"$f":"Feuil4!Q167","v":0},{"$f":"Feuil4!R167","v":0},{"$f":"Feuil4!S167","v":0},{"$f":"Feuil4!T167","v":0},{"$f":"Feuil4!U167","v":0},{"$f":"Feuil4!V167","v":0},{"$f":"Feuil4!W167","v":0},{"$f":"Feuil4!X167","v":0},{"$f":"Feuil4!Y167","v":0},{"$f":"Feuil4!Z167","v":0},{"$f":"Feuil4!AA167","v":0},{"$f":"Feuil4!AB167","v":0},{"$f":"Feuil4!AC167","v":0},{"$f":"Feuil4!AD167","v":0},{"$f":"Feuil4!AE167","v":0},{"$f":"Feuil4!AF167","v":0},{"$f":"Feuil4!AG167","v":0},{"$f":"Feuil4!AH167","v":0},{"$f":"Feuil4!AI167","v":0},{"$f":"Feuil4!AJ167","v":0},{"$f":"Feuil4!AK167","v":0},{"$f":"Feuil4!AL167","v":0},{"$f":"Feuil4!AM167","v":0},{"$f":"Feuil4!AN167","v":"00:00:00"},{"$f":"Feuil4!AO167","v":0}]
[{"$f":"Feuil4!A168","v":0},{"$f":"Feuil4!B168","v":{"$error":"#VALUE!"}},{"$f":"Feuil4!C168","v":0},{"$f":"Feuil4!D168","v":0},{"$f":"Feuil4!E168","v":0},{"$f":"Feuil4!F168","v":0},{"$f":"Feuil4!G168","v":0},{"$f":"Feuil4!H168","v":0},{"$f":"Feuil4!I168","v":0},{"$f":"Feuil4!J168","v":0},{"$f":"Feuil4!K168","v":0},{"$f":"Feuil4!L168","v":0},{"$f":"Feuil4!M168","v":0},{"$f":"Feuil4!N168","v":0},{"$f":"Feuil4!O168","v":0},{"$f":"Feuil4!P168","v":0},{"$f":"Feuil4!Q168","v":0},{"$f":"Feuil4!R168","v":0},{"$f":"Feuil4!S168","v":0},{"$f":"Feuil4!T168","v":0},{"$f":"Feuil4!U168","v":0},{"$f":"Feuil4!V168","v":0},{"$f":"Feuil4!W168","v":0},{"$f":"Feuil4!X168","v":0},{"$f":"Feuil4!Y168","v":0},{"$f":"Feuil4!Z168","v":0},{"$f":"Feuil4!AA168","v":0},{"$f":"Feuil4!AB168","v":0},{"$f":"Feuil4!AC168","v":0},{"$f":"Feuil4!AD168","v":0},{"$f":"Feuil4!AE168","v":0},{"$f":"Feuil4!AF168","v":0},{"$f":"Feuil4!AG168","v":0},{"$f":"Feuil4!AH168","v":0},{"$f":"Feuil4!AI168","v":0},{"$f":"Feuil4!AJ168","v":0},{"$f":"Feuil4!AK168","v":0},{"$f":"Feuil4!AL168","v":0},{"$f":"Feuil4!AM168","v":0},{"$f":"Feuil4!AN168","v":"00:00:00"},{"$f":"Feuil4!AO168","v":0}]
[{"$f":"Feuil4!A169","v":0},{"$f":"Feuil4!B169","v":{"$error":"#VALUE!"}},{"$f":"Feuil4!C169","v":0},{"$f":"Feuil4!D169","v":0},{"$f":"Feuil4!E169","v":0},{"$f":"Feuil4!F169","v":0},{"$f":"Feuil4!G169","v":0},{"$f":"Feuil4!H169","v":0},{"$f":"Feuil4!I169","v":0},{"$f":"Feuil4!J169","v":0},{"$f":"Feuil4!K169","v":0},{"$f":"Feuil4!L169","v":0},{"$f":"Feuil4!M169","v":0},{"$f":"Feuil4!N169","v":0},{"$f":"Feuil4!O169","v":0},{"$f":"Feuil4!P169","v":0},{"$f":"Feuil4!Q169","v":0},{"$f":"Feuil4!R169","v":0},{"$f":"Feuil4!S169","v":0},{"$f":"Feuil4!T169","v":0},{"$f":"Feuil4!U169","v":0},{"$f":"Feuil4!V169","v":0},{"$f":"Feuil4!W169","v":0},{"$f":"Feuil4!X169","v":0},{"$f":"Feuil4!Y169","v":0},{"$f":"Feuil4!Z169","v":0},{"$f":"Feuil4!AA169","v":0},{"$f":"Feuil4!AB169","v":0},{"$f":"Feuil4!AC169","v":0},{"$f":"Feuil4!AD169","v":0},{"$f":"Feuil4!AE169","v":0},{"$f":"Feuil4!AF169","v":0},{"$f":"Feuil4!AG169","v":0},{"$f":"Feuil4!AH169","v":0},{"$f":"Feuil4!AI169","v":0},{"$f":"Feuil4!AJ169","v":0},{"$f":"Feuil4!AK169","v":0},{"$f":"Feuil4!AL169","v":0},{"$f":"Feuil4!AM169","v":0},{"$f":"Feuil4!AN169","v":"00:00:00"},{"$f":"Feuil4!AO169","v":0}]
[{"$f":"Feuil4!A170","v":0},{"$f":"Feuil4!B170","v":{"$error":"#VALUE!"}},{"$f":"Feuil4!C170","v":0},{"$f":"Feuil4!D170","v":0},{"$f":"Feuil4!E170","v":0},{"$f":"Feuil4!F170","v":0},{"$f":"Feuil4!G170","v":0},{"$f":"Feuil4!H170","v":0},{"$f":"Feuil4!I170","v":0},{"$f":"Feuil4!J170","v":0},{"$f":"Feuil4!K170","v":0},{"$f":"Feuil4!L170","v":0},{"$f":"Feuil4!M170","v":0},{"$f":"Feuil4!N170","v":0},{"$f":"Feuil4!O170","v":0},{"$f":"Feuil4!P170","v":0},{"$f":"Feuil4!Q170","v":0},{"$f":"Feuil4!R170","v":0},{"$f":"Feuil4!S170","v":0},{"$f":"Feuil4!T170","v":0},{"$f":"Feuil4!U170","v":0},{"$f":"Feuil4!V170","v":0},{"$f":"Feuil4!W170","v":0},{"$f":"Feuil4!X170","v":0},{"$f":"Feuil4!Y170","v":0},{"$f":"Feuil4!Z170","v":0},{"$f":"Feuil4!AA170","v":0},{"$f":"Feuil4!AB170","v":0},{"$f":"Feuil4!AC170","v":0},{"$f":"Feuil4!AD170","v":0},{"$f":"Feuil4!AE170","v":0},{"$f":"Feuil4!AF170","v":0},{"$f":"Feuil4!AG170","v":0},{"$f":"Feuil4!AH170","v":0},{"$f":"Feuil4!AI170","v":0},{"$f":"Feuil4!AJ170","v":0},{"$f":"Feuil4!AK170","v":0},{"$f":"Feuil4!AL170","v":0},{"$f":"Feuil4!AM170","v":0},{"$f":"Feuil4!AN170","v":"00:00:00"},{"$f":"Feuil4!AO170","v":0}]
[{"$f":"Feuil4!A171","v":0},{"$f":"Feuil4!B171","v":{"$error":"#VALUE!"}},{"$f":"Feuil4!C171","v":0},{"$f":"Feuil4!D171","v":0},{"$f":"Feuil4!E171","v":0},{"$f":"Feuil4!F171","v":0},{"$f":"Feuil4!G171","v":0},{"$f":"Feuil4!H171","v":0},{"$f":"Feuil4!I171","v":0},{"$f":"Feuil4!J171","v":0},{"$f":"Feuil4!K171","v":0},{"$f":"Feuil4!L171","v":0},{"$f":"Feuil4!M171","v":0},{"$f":"Feuil4!N171","v":0},{"$f":"Feuil4!O171","v":0},{"$f":"Feuil4!P171","v":0},{"$f":"Feuil4!Q171","v":0},{"$f":"Feuil4!R171","v":0},{"$f":"Feuil4!S171","v":0},{"$f":"Feuil4!T171","v":0},{"$f":"Feuil4!U171","v":0},{"$f":"Feuil4!V171","v":0},{"$f":"Feuil4!W171","v":0},{"$f":"Feuil4!X171","v":0},{"$f":"Feuil4!Y171","v":0},{"$f":"Feuil4!Z171","v":0},{"$f":"Feuil4!AA171","v":0},{"$f":"Feuil4!AB171","v":0},{"$f":"Feuil4!AC171","v":0},{"$f":"Feuil4!AD171","v":0},{"$f":"Feuil4!AE171","v":0},{"$f":"Feuil4!AF171","v":0},{"$f":"Feuil4!AG171","v":0},{"$f":"Feuil4!AH171","v":0},{"$f":"Feuil4!AI171","v":0},{"$f":"Feuil4!AJ171","v":0},{"$f":"Feuil4!AK171","v":0},{"$f":"Feuil4!AL171","v":0},{"$f":"Feuil4!AM171","v":0},{"$f":"Feuil4!AN171","v":"00:00:00"},{"$f":"Feuil4!AO171","v":0}]
[{"$f":"Feuil4!A172","v":0},{"$f":"Feuil4!B172","v":{"$error":"#VALUE!"}},{"$f":"Feuil4!C172","v":0},{"$f":"Feuil4!D172","v":0},{"$f":"Feuil4!E172","v":0},{"$f":"Feuil4!F172","v":0},{"$f":"Feuil4!G172","v":0},{"$f":"Feuil4!H172","v":0},{"$f":"Feuil4!I172","v":0},{"$f":"Feuil4!J172","v":0},{"$f":"Feuil4!K172","v":0},{"$f":"Feuil4!L172","v":0},{"$f":"Feuil4!M172","v":0},{"$f":"Feuil4!N172","v":0},{"$f":"Feuil4!O172","v":0},{"$f":"Feuil4!P172","v":0},{"$f":"Feuil4!Q172","v":0},{"$f":"Feuil4!R172","v":0},{"$f":"Feuil4!S172","v":0},{"$f":"Feuil4!T172","v":0},{"$f":"Feuil4!U172","v":0},{"$f":"Feuil4!V172","v":0},{"$f":"Feuil4!W172","v":0},{"$f":"Feuil4!X172","v":0},{"$f":"Feuil4!Y172","v":0},{"$f":"Feuil4!Z172","v":0},{"$f":"Feuil4!AA172","v":0},{"$f":"Feuil4!AB172","v":0},{"$f":"Feuil4!AC172","v":0},{"$f":"Feuil4!AD172","v":0},{"$f":"Feuil4!AE172","v":0},{"$f":"Feuil4!AF172","v":0},{"$f":"Feuil4!AG172","v":0},{"$f":"Feuil4!AH172","v":0},{"$f":"Feuil4!AI172","v":0},{"$f":"Feuil4!AJ172","v":0},{"$f":"Feuil4!AK172","v":0},{"$f":"Feuil4!AL172","v":0},{"$f":"Feuil4!AM172","v":0},{"$f":"Feuil4!AN172","v":"00:00:00"},{"$f":"Feuil4!AO172","v":0}]
[{"$f":"Feuil4!A173","v":0},{"$f":"Feuil4!B173","v":{"$error":"#VALUE!"}},{"$f":"Feuil4!C173","v":0},{"$f":"Feuil4!D173","v":0},{"$f":"Feuil4!E173","v":0},{"$f":"Feuil4!F173","v":0},{"$f":"Feuil4!G173","v":0},{"$f":"Feuil4!H173","v":0},{"$f":"Feuil4!I173","v":0},{"$f":"Feuil4!J173","v":0},{"$f":"Feuil4!K173","v":0},{"$f":"Feuil4!L173","v":0},{"$f":"Feuil4!M173","v":0},{"$f":"Feuil4!N173","v":0},{"$f":"Feuil4!O173","v":0},{"$f":"Feuil4!P173","v":0},{"$f":"Feuil4!Q173","v":0},{"$f":"Feuil4!R173","v":0},{"$f":"Feuil4!S173","v":0},{"$f":"Feuil4!T173","v":0},{"$f":"Feuil4!U173","v":0},{"$f":"Feuil4!V173","v":0},{"$f":"Feuil4!W173","v":0},{"$f":"Feuil4!X173","v":0},{"$f":"Feuil4!Y173","v":0},{"$f":"Feuil4!Z173","v":0},{"$f":"Feuil4!AA173","v":0},{"$f":"Feuil4!AB173","v":0},{"$f":"Feuil4!AC173","v":0},{"$f":"Feuil4!AD173","v":0},{"$f":"Feuil4!AE173","v":0},{"$f":"Feuil4!AF173","v":0},{"$f":"Feuil4!AG173","v":0},{"$f":"Feuil4!AH173","v":0},{"$f":"Feuil4!AI173","v":0},{"$f":"Feuil4!AJ173","v":0},{"$f":"Feuil4!AK173","v":0},{"$f":"Feuil4!AL173","v":0},{"$f":"Feuil4!AM173","v":0},{"$f":"Feuil4!AN173","v":"00:00:00"},{"$f":"Feuil4!AO173","v":0}]
[{"$f":"Feuil4!A174","v":0},{"$f":"Feuil4!B174","v":{"$error":"#VALUE!"}},{"$f":"Feuil4!C174","v":0},{"$f":"Feuil4!D174","v":0},{"$f":"Feuil4!E174","v":0},{"$f":"Feuil4!F174","v":0},{"$f":"Feuil4!G174","v":0},{"$f":"Feuil4!H174","v":0},{"$f":"Feuil4!I174","v":0},{"$f":"Feuil4!J174","v":0},{"$f":"Feuil4!K174","v":0},{"$f":"Feuil4!L174","v":0},{"$f":"Feuil4!M174","v":0},{"$f":"Feuil4!N174","v":0},{"$f":"Feuil4!O174","v":0},{"$f":"Feuil4!P174","v":0},{"$f":"Feuil4!Q174","v":0},{"$f":"Feuil4!R174","v":0},{"$f":"Feuil4!S174","v":0},{"$f":"Feuil4!T174","v":0},{"$f":"Feuil4!U174","v":0},{"$f":"Feuil4!V174","v":0},{"$f":"Feuil4!W174","v":0},{"$f":"Feuil4!X174","v":0},{"$f":"Feuil4!Y174","v":0},{"$f":"Feuil4!Z174","v":0},{"$f":"Feuil4!AA174","v":0},{"$f":"Feuil4!AB174","v":0},{"$f":"Feuil4!AC174","v":0},{"$f":"Feuil4!AD174","v":0},{"$f":"Feuil4!AE174","v":0},{"$f":"Feuil4!AF174","v":0},{"$f":"Feuil4!AG174","v":0},{"$f":"Feuil4!AH174","v":0},{"$f":"Feuil4!AI174","v":0},{"$f":"Feuil4!AJ174","v":0},{"$f":"Feuil4!AK174","v":0},{"$f":"Feuil4!AL174","v":0},{"$f":"Feuil4!AM174","v":0},{"$f":"Feuil4!AN174","v":"00:00:00"},{"$f":"Feuil4!AO174","v":0}]
[{"$f":"Feuil4!A175","v":0},{"$f":"Feuil4!B175","v":{"$error":"#VALUE!"}},{"$f":"Feuil4!C175","v":0},{"$f":"Feuil4!D175","v":0},{"$f":"Feuil4!E175","v":0},{"$f":"Feuil4!F175","v":0},{"$f":"Feuil4!G175","v":0},{"$f":"Feuil4!H175","v":0},{"$f":"Feuil4!I175","v":0},{"$f":"Feuil4!J175","v":0},{"$f":"Feuil4!K175","v":0},{"$f":"Feuil4!L175","v":0},{"$f":"Feuil4!M175","v":0},{"$f":"Feuil4!N175","v":0},{"$f":"Feuil4!O175","v":0},{"$f":"Feuil4!P175","v":0},{"$f":"Feuil4!Q175","v":0},{"$f":"Feuil4!R175","v":0},{"$f":"Feuil4!S175","v":0},{"$f":"Feuil4!T175","v":0},{"$f":"Feuil4!U175","v":0},{"$f":"Feuil4!V175","v":0},{"$f":"Feuil4!W175","v":0},{"$f":"Feuil4!X175","v":0},{"$f":"Feuil4!Y175","v":0},{"$f":"Feuil4!Z175","v":0},{"$f":"Feuil4!AA175","v":0},{"$f":"Feuil4!AB175","v":0},{"$f":"Feuil4!AC175","v":0},{"$f":"Feuil4!AD175","v":0},{"$f":"Feuil4!AE175","v":0},{"$f":"Feuil4!AF175","v":0},{"$f":"Feuil4!AG175","v":0},{"$f":"Feuil4!AH175","v":0},{"$f":"Feuil4!AI175","v":0},{"$f":"Feuil4!AJ175","v":0},{"$f":"Feuil4!AK175","v":0},{"$f":"Feuil4!AL175","v":0},{"$f":"Feuil4!AM175","v":0},{"$f":"Feuil4!AN175","v":"00:00:00"},{"$f":"Feuil4!AO175","v":0}]
[{"$f":"Feuil4!A176","v":0},{"$f":"Feuil4!B176","v":{"$error":"#VALUE!"}},{"$f":"Feuil4!C176","v":0},{"$f":"Feuil4!D176","v":0},{"$f":"Feuil4!E176","v":0},{"$f":"Feuil4!F176","v":0},{"$f":"Feuil4!G176","v":0},{"$f":"Feuil4!H176","v":0},{"$f":"Feuil4!I176","v":0},{"$f":"Feuil4!J176","v":0},{"$f":"Feuil4!K176","v":0},{"$f":"Feuil4!L176","v":0},{"$f":"Feuil4!M176","v":0},{"$f":"Feuil4!N176","v":0},{"$f":"Feuil4!O176","v":0},{"$f":"Feuil4!P176","v":0},{"$f":"Feuil4!Q176","v":0},{"$f":"Feuil4!R176","v":0},{"$f":"Feuil4!S176","v":0},{"$f":"Feuil4!T176","v":0},{"$f":"Feuil4!U176","v":0},{"$f":"Feuil4!V176","v":0},{"$f":"Feuil4!W176","v":0},{"$f":"Feuil4!X176","v":0},{"$f":"Feuil4!Y176","v":0},{"$f":"Feuil4!Z176","v":0},{"$f":"Feuil4!AA176","v":0},{"$f":"Feuil4!AB176","v":0},{"$f":"Feuil4!AC176","v":0},{"$f":"Feuil4!AD176","v":0},{"$f":"Feuil4!AE176","v":0},{"$f":"Feuil4!AF176","v":0},{"$f":"Feuil4!AG176","v":0},{"$f":"Feuil4!AH176","v":0},{"$f":"Feuil4!AI176","v":0},{"$f":"Feuil4!AJ176","v":0},{"$f":"Feuil4!AK176","v":0},{"$f":"Feuil4!AL176","v":0},{"$f":"Feuil4!AM176","v":0},{"$f":"Feuil4!AN176","v":"00:00:00"},{"$f":"Feuil4!AO176","v":0}]
[{"$f":"Feuil4!A177","v":0},{"$f":"Feuil4!B177","v":{"$error":"#VALUE!"}},{"$f":"Feuil4!C177","v":0},{"$f":"Feuil4!D177","v":0},{"$f":"Feuil4!E177","v":0},{"$f":"Feuil4!F177","v":0},{"$f":"Feuil4!G177","v":0},{"$f":"Feuil4!H177","v":0},{"$f":"Feuil4!I177","v":0},{"$f":"Feuil4!J177","v":0},{"$f":"Feuil4!K177","v":0},{"$f":"Feuil4!L177","v":0},{"$f":"Feuil4!M177","v":0},{"$f":"Feuil4!N177","v":0},{"$f":"Feuil4!O177","v":0},{"$f":"Feuil4!P177","v":0},{"$f":"Feuil4!Q177","v":0},{"$f":"Feuil4!R177","v":0},{"$f":"Feuil4!S177","v":0},{"$f":"Feuil4!T177","v":0},{"$f":"Feuil4!U177","v":0},{"$f":"Feuil4!V177","v":0},{"$f":"Feuil4!W177","v":0},{"$f":"Feuil4!X177","v":0},{"$f":"Feuil4!Y177","v":0},{"$f":"Feuil4!Z177","v":0},{"$f":"Feuil4!AA177","v":0},{"$f":"Feuil4!AB177","v":0},{"$f":"Feuil4!AC177","v":0},{"$f":"Feuil4!AD177","v":0},{"$f":"Feuil4!AE177","v":0},{"$f":"Feuil4!AF177","v":0},{"$f":"Feuil4!AG177","v":0},{"$f":"Feuil4!AH177","v":0},{"$f":"Feuil4!AI177","v":0},{"$f":"Feuil4!AJ177","v":0},{"$f":"Feuil4!AK177","v":0},{"$f":"Feuil4!AL177","v":0},{"$f":"Feuil4!AM177","v":0},{"$f":"Feuil4!AN177","v":"00:00:00"},{"$f":"Feuil4!AO177","v":0}]
[{"$f":"Feuil4!A178","v":0},{"$f":"Feuil4!B178","v":{"$error":"#VALUE!"}},{"$f":"Feuil4!C178","v":0},{"$f":"Feuil4!D178","v":0},{"$f":"Feuil4!E178","v":0},{"$f":"Feuil4!F178","v":0},{"$f":"Feuil4!G178","v":0},{"$f":"Feuil4!H178","v":0},{"$f":"Feuil4!I178","v":0},{"$f":"Feuil4!J178","v":0},{"$f":"Feuil4!K178","v":0},{"$f":"Feuil4!L178","v":0},{"$f":"Feuil4!M178","v":0},{"$f":"Feuil4!N178","v":0},{"$f":"Feuil4!O178","v":0},{"$f":"Feuil4!P178","v":0},{"$f":"Feuil4!Q178","v":0},{"$f":"Feuil4!R178","v":0},{"$f":"Feuil4!S178","v":0},{"$f":"Feuil4!T178","v":0},{"$f":"Feuil4!U178","v":0},{"$f":"Feuil4!V178","v":0},{"$f":"Feuil4!W178","v":0},{"$f":"Feuil4!X178","v":0},{"$f":"Feuil4!Y178","v":0},{"$f":"Feuil4!Z178","v":0},{"$f":"Feuil4!AA178","v":0},{"$f":"Feuil4!AB178","v":0},{"$f":"Feuil4!AC178","v":0},{"$f":"Feuil4!AD178","v":0},{"$f":"Feuil4!AE178","v":0},{"$f":"Feuil4!AF178","v":0},{"$f":"Feuil4!AG178","v":0},{"$f":"Feuil4!AH178","v":0},{"$f":"Feuil4!AI178","v":0},{"$f":"Feuil4!AJ178","v":0},{"$f":"Feuil4!AK178","v":0},{"$f":"Feuil4!AL178","v":0},{"$f":"Feuil4!AM178","v":0},{"$f":"Feuil4!AN178","v":"00:00:00"},{"$f":"Feuil4!AO178","v":0}]
[{"$f":"Feuil4!A179","v":0},{"$f":"Feuil4!B179","v":{"$error":"#VALUE!"}},{"$f":"Feuil4!C179","v":0},{"$f":"Feuil4!D179","v":0},{"$f":"Feuil4!E179","v":0},{"$f":"Feuil4!F179","v":0},{"$f":"Feuil4!G179","v":0},{"$f":"Feuil4!H179","v":0},{"$f":"Feuil4!I179","v":0},{"$f":"Feuil4!J179","v":0},{"$f":"Feuil4!K179","v":0},{"$f":"Feuil4!L179","v":0},{"$f":"Feuil4!M179","v":0},{"$f":"Feuil4!N179","v":0},{"$f":"Feuil4!O179","v":0},{"$f":"Feuil4!P179","v":0},{"$f":"Feuil4!Q179","v":0},{"$f":"Feuil4!R179","v":0},{"$f":"Feuil4!S179","v":0},{"$f":"Feuil4!T179","v":0},{"$f":"Feuil4!U179","v":0},{"$f":"Feuil4!V179","v":0},{"$f":"Feuil4!W179","v":0},{"$f":"Feuil4!X179","v":0},{"$f":"Feuil4!Y179","v":0},{"$f":"Feuil4!Z179","v":0},{"$f":"Feuil4!AA179","v":0},{"$f":"Feuil4!AB179","v":0},{"$f":"Feuil4!AC179","v":0},{"$f":"Feuil4!AD179","v":0},{"$f":"Feuil4!AE179","v":0},{"$f":"Feuil4!AF179","v":0},{"$f":"Feuil4!AG179","v":0},{"$f":"Feuil4!AH179","v":0},{"$f":"Feuil4!AI179","v":0},{"$f":"Feuil4!AJ179","v":0},{"$f":"Feuil4!AK179","v":0},{"$f":"Feuil4!AL179","v":0},{"$f":"Feuil4!AM179","v":0},{"$f":"Feuil4!AN179","v":"00:00:00"},{"$f":"Feuil4!AO179","v":0}]
[{"$f":"Feuil4!A180","v":0},{"$f":"Feuil4!B180","v":{"$error":"#VALUE!"}},{"$f":"Feuil4!C180","v":0},{"$f":"Feuil4!D180","v":0},{"$f":"Feuil4!E180","v":0},{"$f":"Feuil4!F180","v":0},{"$f":"Feuil4!G180","v":0},{"$f":"Feuil4!H180","v":0},{"$f":"Feuil4!I180","v":0},{"$f":"Feuil4!J180","v":0},{"$f":"Feuil4!K180","v":0},{"$f":"Feuil4!L180","v":0},{"$f":"Feuil4!M180","v":0},{"$f":"Feuil4!N180","v":0},{"$f":"Feuil4!O180","v":0},{"$f":"Feuil4!P180","v":0},{"$f":"Feuil4!Q180","v":0},{"$f":"Feuil4!R180","v":0},{"$f":"Feuil4!S180","v":0},{"$f":"Feuil4!T180","v":0},{"$f":"Feuil4!U180","v":0},{"$f":"Feuil4!V180","v":0},{"$f":"Feuil4!W180","v":0},{"$f":"Feuil4!X180","v":0},{"$f":"Feuil4!Y180","v":0},{"$f":"Feuil4!Z180","v":0},{"$f":"Feuil4!AA180","v":0},{"$f":"Feuil4!AB180","v":0},{"$f":"Feuil4!AC180","v":0},{"$f":"Feuil4!AD180","v":0},{"$f":"Feuil4!AE180","v":0},{"$f":"Feuil4!AF180","v":0},{"$f":"Feuil4!AG180","v":0},{"$f":"Feuil4!AH180","v":0},{"$f":"Feuil4!AI180","v":0},{"$f":"Feuil4!AJ180","v":0},{"$f":"Feuil4!AK180","v":0},{"$f":"Feuil4!AL180","v":0},{"$f":"Feuil4!AM180","v":0},{"$f":"Feuil4!AN180","v":"00:00:00"},{"$f":"Feuil4!AO180","v":0}]
[{"$f":"Feuil4!A181","v":0},{"$f":"Feuil4!B181","v":{"$error":"#VALUE!"}},{"$f":"Feuil4!C181","v":0},{"$f":"Feuil4!D181","v":0},{"$f":"Feuil4!E181","v":0},{"$f":"Feuil4!F181","v":0},{"$f":"Feuil4!G181","v":0},{"$f":"Feuil4!H181","v":0},{"$f":"Feuil4!I181","v":0},{"$f":"Feuil4!J181","v":0},{"$f":"Feuil4!K181","v":0},{"$f":"Feuil4!L181","v":0},{"$f":"Feuil4!M181","v":0},{"$f":"Feuil4!N181","v":0},{"$f":"Feuil4!O181","v":0},{"$f":"Feuil4!P181","v":0},{"$f":"Feuil4!Q181","v":0},{"$f":"Feuil4!R181","v":0},{"$f":"Feuil4!S181","v":0},{"$f":"Feuil4!T181","v":0},{"$f":"Feuil4!U181","v":0},{"$f":"Feuil4!V181","v":0},{"$f":"Feuil4!W181","v":0},{"$f":"Feuil4!X181","v":0},{"$f":"Feuil4!Y181","v":0},{"$f":"Feuil4!Z181","v":0},{"$f":"Feuil4!AA181","v":0},{"$f":"Feuil4!AB181","v":0},{"$f":"Feuil4!AC181","v":0},{"$f":"Feuil4!AD181","v":0},{"$f":"Feuil4!AE181","v":0},{"$f":"Feuil4!AF181","v":0},{"$f":"Feuil4!AG181","v":0},{"$f":"Feuil4!AH181","v":0},{"$f":"Feuil4!AI181","v":0},{"$f":"Feuil4!AJ181","v":0},{"$f":"Feuil4!AK181","v":0},{"$f":"Feuil4!AL181","v":0},{"$f":"Feuil4!AM181","v":0},{"$f":"Feuil4!AN181","v":"00:00:00"},{"$f":"Feuil4!AO181","v":0}]
[{"$f":"Feuil4!A182","v":0},{"$f":"Feuil4!B182","v":{"$error":"#VALUE!"}},{"$f":"Feuil4!C182","v":0},{"$f":"Feuil4!D182","v":0},{"$f":"Feuil4!E182","v":0},{"$f":"Feuil4!F182","v":0},{"$f":"Feuil4!G182","v":0},{"$f":"Feuil4!H182","v":0},{"$f":"Feuil4!I182","v":0},{"$f":"Feuil4!J182","v":0},{"$f":"Feuil4!K182","v":0},{"$f":"Feuil4!L182","v":0},{"$f":"Feuil4!M182","v":0},{"$f":"Feuil4!N182","v":0},{"$f":"Feuil4!O182","v":0},{"$f":"Feuil4!P182","v":0},{"$f":"Feuil4!Q182","v":0},{"$f":"Feuil4!R182","v":0},{"$f":"Feuil4!S182","v":0},{"$f":"Feuil4!T182","v":0},{"$f":"Feuil4!U182","v":0},{"$f":"Feuil4!V182","v":0},{"$f":"Feuil4!W182","v":0},{"$f":"Feuil4!X182","v":0},{"$f":"Feuil4!Y182","v":0},{"$f":"Feuil4!Z182","v":0},{"$f":"Feuil4!AA182","v":0},{"$f":"Feuil4!AB182","v":0},{"$f":"Feuil4!AC182","v":0},{"$f":"Feuil4!AD182","v":0},{"$f":"Feuil4!AE182","v":0},{"$f":"Feuil4!AF182","v":0},{"$f":"Feuil4!AG182","v":0},{"$f":"Feuil4!AH182","v":0},{"$f":"Feuil4!AI182","v":0},{"$f":"Feuil4!AJ182","v":0},{"$f":"Feuil4!AK182","v":0},{"$f":"Feuil4!AL182","v":0},{"$f":"Feuil4!AM182","v":0},{"$f":"Feuil4!AN182","v":"00:00:00"},{"$f":"Feuil4!AO182","v":0}]
[{"$f":"Feuil4!A183","v":0},{"$f":"Feuil4!B183","v":{"$error":"#VALUE!"}},{"$f":"Feuil4!C183","v":0},{"$f":"Feuil4!D183","v":0},{"$f":"Feuil4!E183","v":0},{"$f":"Feuil4!F183","v":0},{"$f":"Feuil4!G183","v":0},{"$f":"Feuil4!H183","v":0},{"$f":"Feuil4!I183","v":0},{"$f":"Feuil4!J183","v":0},{"$f":"Feuil4!K183","v":0},{"$f":"Feuil4!L183","v":0},{"$f":"Feuil4!M183","v":0},{"$f":"Feuil4!N183","v":0},{"$f":"Feuil4!O183","v":0},{"$f":"Feuil4!P183","v":0},{"$f":"Feuil4!Q183","v":0},{"$f":"Feuil4!R183","v":0},{"$f":"Feuil4!S183","v":0},{"$f":"Feuil4!T183","v":0},{"$f":"Feuil4!U183","v":0},{"$f":"Feuil4!V183","v":0},{"$f":"Feuil4!W183","v":0},{"$f":"Feuil4!X183","v":0},{"$f":"Feuil4!Y183","v":0},{"$f":"Feuil4!Z183","v":0},{"$f":"Feuil4!AA183","v":0},{"$f":"Feuil4!AB183","v":0},{"$f":"Feuil4!AC183","v":0},{"$f":"Feuil4!AD183","v":0},{"$f":"Feuil4!AE183","v":0},{"$f":"Feuil4!AF183","v":0},{"$f":"Feuil4!AG183","v":0},{"$f":"Feuil4!AH183","v":0},{"$f":"Feuil4!AI183","v":0},{"$f":"Feuil4!AJ183","v":0},{"$f":"Feuil4!AK183","v":0},{"$f":"Feuil4!AL183","v":0},{"$f":"Feuil4!AM183","v":0},{"$f":"Feuil4!AN183","v":"00:00:00"},{"$f":"Feuil4!AO183","v":0}]
[{"$f":"Feuil4!A184","v":0},{"$f":"Feuil4!B184","v":{"$error":"#VALUE!"}},{"$f":"Feuil4!C184","v":0},{"$f":"Feuil4!D184","v":0},{"$f":"Feuil4!E184","v":0},{"$f":"Feuil4!F184","v":0},{"$f":"Feuil4!G184","v":0},{"$f":"Feuil4!H184","v":0},{"$f":"Feuil4!I184","v":0},{"$f":"Feuil4!J184","v":0},{"$f":"Feuil4!K184","v":0},{"$f":"Feuil4!L184","v":0},{"$f":"Feuil4!M184","v":0},{"$f":"Feuil4!N184","v":0},{"$f":"Feuil4!O184","v":0},{"$f":"Feuil4!P184","v":0},{"$f":"Feuil4!Q184","v":0},{"$f":"Feuil4!R184","v":0},{"$f":"Feuil4!S184","v":0},{"$f":"Feuil4!T184","v":0},{"$f":"Feuil4!U184","v":0},{"$f":"Feuil4!V184","v":0},{"$f":"Feuil4!W184","v":0},{"$f":"Feuil4!X184","v":0},{"$f":"Feuil4!Y184","v":0},{"$f":"Feuil4!Z184","v":0},{"$f":"Feuil4!AA184","v":0},{"$f":"Feuil4!AB184","v":0},{"$f":"Feuil4!AC184","v":0},{"$f":"Feuil4!AD184","v":0},{"$f":"Feuil4!AE184","v":0},{"$f":"Feuil4!AF184","v":0},{"$f":"Feuil4!AG184","v":0},{"$f":"Feuil4!AH184","v":0},{"$f":"Feuil4!AI184","v":0},{"$f":"Feuil4!AJ184","v":0},{"$f":"Feuil4!AK184","v":0},{"$f":"Feuil4!AL184","v":0},{"$f":"Feuil4!AM184","v":0},{"$f":"Feuil4!AN184","v":"00:00:00"},{"$f":"Feuil4!AO184","v":0}]
[{"$f":"Feuil4!A185","v":0},{"$f":"Feuil4!B185","v":{"$error":"#VALUE!"}},{"$f":"Feuil4!C185","v":0},{"$f":"Feuil4!D185","v":0},{"$f":"Feuil4!E185","v":0},{"$f":"Feuil4!F185","v":0},{"$f":"Feuil4!G185","v":0},{"$f":"Feuil4!H185","v":0},{"$f":"Feuil4!I185","v":0},{"$f":"Feuil4!J185","v":0},{"$f":"Feuil4!K185","v":0},{"$f":"Feuil4!L185","v":0},{"$f":"Feuil4!M185","v":0},{"$f":"Feuil4!N185","v":0},{"$f":"Feuil4!O185","v":0},{"$f":"Feuil4!P185","v":0},{"$f":"Feuil4!Q185","v":0},{"$f":"Feuil4!R185","v":0},{"$f":"Feuil4!S185","v":0},{"$f":"Feuil4!T185","v":0},{"$f":"Feuil4!U185","v":0},{"$f":"Feuil4!V185","v":0},{"$f":"Feuil4!W185","v":0},{"$f":"Feuil4!X185","v":0},{"$f":"Feuil4!Y185","v":0},{"$f":"Feuil4!Z185","v":0},{"$f":"Feuil4!AA185","v":0},{"$f":"Feuil4!AB185","v":0},{"$f":"Feuil4!AC185","v":0},{"$f":"Feuil4!AD185","v":0},{"$f":"Feuil4!AE185","v":0},{"$f":"Feuil4!AF185","v":0},{"$f":"Feuil4!AG185","v":0},{"$f":"Feuil4!AH185","v":0},{"$f":"Feuil4!AI185","v":0},{"$f":"Feuil4!AJ185","v":0},{"$f":"Feuil4!AK185","v":0},{"$f":"Feuil4!AL185","v":0},{"$f":"Feuil4!AM185","v":0},{"$f":"Feuil4!AN185","v":"00:00:00"},{"$f":"Feuil4!AO185","v":0}]
[{"$f":"Feuil4!A186","v":0},{"$f":"Feuil4!B186","v":{"$error":"#VALUE!"}},{"$f":"Feuil4!C186","v":0},{"$f":"Feuil4!D186","v":0},{"$f":"Feuil4!E186","v":0},{"$f":"Feuil4!F186","v":0},{"$f":"Feuil4!G186","v":0},{"$f":"Feuil4!H186","v":0},{"$f":"Feuil4!I186","v":0},{"$f":"Feuil4!J186","v":0},{"$f":"Feuil4!K186","v":0},{"$f":"Feuil4!L186","v":0},{"$f":"Feuil4!M186","v":0},{"$f":"Feuil4!N186","v":0},{"$f":"Feuil4!O186","v":0},{"$f":"Feuil4!P186","v":0},{"$f":"Feuil4!Q186","v":0},{"$f":"Feuil4!R186","v":0},{"$f":"Feuil4!S186","v":0},{"$f":"Feuil4!T186","v":0},{"$f":"Feuil4!U186","v":0},{"$f":"Feuil4!V186","v":0},{"$f":"Feuil4!W186","v":0},{"$f":"Feuil4!X186","v":0},{"$f":"Feuil4!Y186","v":0},{"$f":"Feuil4!Z186","v":0},{"$f":"Feuil4!AA186","v":0},{"$f":"Feuil4!AB186","v":0},{"$f":"Feuil4!AC186","v":0},{"$f":"Feuil4!AD186","v":0},{"$f":"Feuil4!AE186","v":0},{"$f":"Feuil4!AF186","v":0},{"$f":"Feuil4!AG186","v":0},{"$f":"Feuil4!AH186","v":0},{"$f":"Feuil4!AI186","v":0},{"$f":"Feuil4!AJ186","v":0},{"$f":"Feuil4!AK186","v":0},{"$f":"Feuil4!AL186","v":0},{"$f":"Feuil4!AM186","v":0},{"$f":"Feuil4!AN186","v":"00:00:00"},{"$f":"Feuil4!AO186","v":0}]
[{"$f":"Feuil4!A187","v":0},{"$f":"Feuil4!B187","v":{"$error":"#VALUE!"}},{"$f":"Feuil4!C187","v":0},{"$f":"Feuil4!D187","v":0},{"$f":"Feuil4!E187","v":0},{"$f":"Feuil4!F187","v":0},{"$f":"Feuil4!G187","v":0},{"$f":"Feuil4!H187","v":0},{"$f":"Feuil4!I187","v":0},{"$f":"Feuil4!J187","v":0},{"$f":"Feuil4!K187","v":0},{"$f":"Feuil4!L187","v":0},{"$f":"Feuil4!M187","v":0},{"$f":"Feuil4!N187","v":0},{"$f":"Feuil4!O187","v":0},{"$f":"Feuil4!P187","v":0},{"$f":"Feuil4!Q187","v":0},{"$f":"Feuil4!R187","v":0},{"$f":"Feuil4!S187","v":0},{"$f":"Feuil4!T187","v":0},{"$f":"Feuil4!U187","v":0},{"$f":"Feuil4!V187","v":0},{"$f":"Feuil4!W187","v":0},{"$f":"Feuil4!X187","v":0},{"$f":"Feuil4!Y187","v":0},{"$f":"Feuil4!Z187","v":0},{"$f":"Feuil4!AA187","v":0},{"$f":"Feuil4!AB187","v":0},{"$f":"Feuil4!AC187","v":0},{"$f":"Feuil4!AD187","v":0},{"$f":"Feuil4!AE187","v":0},{"$f":"Feuil4!AF187","v":0},{"$f":"Feuil4!AG187","v":0},{"$f":"Feuil4!AH187","v":0},{"$f":"Feuil4!AI187","v":0},{"$f":"Feuil4!AJ187","v":0},{"$f":"Feuil4!AK187","v":0},{"$f":"Feuil4!AL187","v":0},{"$f":"Feuil4!AM187","v":0},{"$f":"Feuil4!AN187","v":"00:00:00"},{"$f":"Feuil4!AO187","v":0}]
[{"$f":"Feuil4!A188","v":0},{"$f":"Feuil4!B188","v":{"$error":"#VALUE!"}},{"$f":"Feuil4!C188","v":0},{"$f":"Feuil4!D188","v":0},{"$f":"Feuil4!E188","v":0},{"$f":"Feuil4!F188","v":0},{"$f":"Feuil4!G188","v":0},{"$f":"Feuil4!H188","v":0},{"$f":"Feuil4!I188","v":0},{"$f":"Feuil4!J188","v":0},{"$f":"Feuil4!K188","v":0},{"$f":"Feuil4!L188","v":0},{"$f":"Feuil4!M188","v":0},{"$f":"Feuil4!N188","v":0},{"$f":"Feuil4!O188","v":0},{"$f":"Feuil4!P188","v":0},{"$f":"Feuil4!Q188","v":0},{"$f":"Feuil4!R188","v":0},{"$f":"Feuil4!S188","v":0},{"$f":"Feuil4!T188","v":0},{"$f":"Feuil4!U188","v":0},{"$f":"Feuil4!V188","v":0},{"$f":"Feuil4!W188","v":0},{"$f":"Feuil4!X188","v":0},{"$f":"Feuil4!Y188","v":0},{"$f":"Feuil4!Z188","v":0},{"$f":"Feuil4!AA188","v":0},{"$f":"Feuil4!AB188","v":0},{"$f":"Feuil4!AC188","v":0},{"$f":"Feuil4!AD188","v":0},{"$f":"Feuil4!AE188","v":0},{"$f":"Feuil4!AF188","v":0},{"$f":"Feuil4!AG188","v":0},{"$f":"Feuil4!AH188","v":0},{"$f":"Feuil4!AI188","v":0},{"$f":"Feuil4!AJ188","v":0},{"$f":"Feuil4!AK188","v":0},{"$f":"Feuil4!AL188","v":0},{"$f":"Feuil4!AM188","v":0},{"$f":"Feuil4!AN188","v":"00:00:00"},{"$f":"Feuil4!AO188","v":0}]
[{"$f":"Feuil4!A189","v":0},{"$f":"Feuil4!B189","v":{"$error":"#VALUE!"}},{"$f":"Feuil4!C189","v":0},{"$f":"Feuil4!D189","v":0},{"$f":"Feuil4!E189","v":0},{"$f":"Feuil4!F189","v":0},{"$f":"Feuil4!G189","v":0},{"$f":"Feuil4!H189","v":0},{"$f":"Feuil4!I189","v":0},{"$f":"Feuil4!J189","v":0},{"$f":"Feuil4!K189","v":0},{"$f":"Feuil4!L189","v":0},{"$f":"Feuil4!M189","v":0},{"$f":"Feuil4!N189","v":0},{"$f":"Feuil4!O189","v":0},{"$f":"Feuil4!P189","v":0},{"$f":"Feuil4!Q189","v":0},{"$f":"Feuil4!R189","v":0},{"$f":"Feuil4!S189","v":0},{"$f":"Feuil4!T189","v":0},{"$f":"Feuil4!U189","v":0},{"$f":"Feuil4!V189","v":0},{"$f":"Feuil4!W189","v":0},{"$f":"Feuil4!X189","v":0},{"$f":"Feuil4!Y189","v":0},{"$f":"Feuil4!Z189","v":0},{"$f":"Feuil4!AA189","v":0},{"$f":"Feuil4!AB189","v":0},{"$f":"Feuil4!AC189","v":0},{"$f":"Feuil4!AD189","v":0},{"$f":"Feuil4!AE189","v":0},{"$f":"Feuil4!AF189","v":0},{"$f":"Feuil4!AG189","v":0},{"$f":"Feuil4!AH189","v":0},{"$f":"Feuil4!AI189","v":0},{"$f":"Feuil4!AJ189","v":0},{"$f":"Feuil4!AK189","v":0},{"$f":"Feuil4!AL189","v":0},{"$f":"Feuil4!AM189","v":0},{"$f":"Feuil4!AN189","v":"00:00:00"},{"$f":"Feuil4!AO189","v":0}]
[{"$f":"Feuil4!A190","v":0},{"$f":"Feuil4!B190","v":{"$error":"#VALUE!"}},{"$f":"Feuil4!C190","v":0},{"$f":"Feuil4!D190","v":0},{"$f":"Feuil4!E190","v":0},{"$f":"Feuil4!F190","v":0},{"$f":"Feuil4!G190","v":0},{"$f":"Feuil4!H190","v":0},{"$f":"Feuil4!I190","v":0},{"$f":"Feuil4!J190","v":0},{"$f":"Feuil4!K190","v":0},{"$f":"Feuil4!L190","v":0},{"$f":"Feuil4!M190","v":0},{"$f":"Feuil4!N190","v":0},{"$f":"Feuil4!O190","v":0},{"$f":"Feuil4!P190","v":0},{"$f":"Feuil4!Q190","v":0},{"$f":"Feuil4!R190","v":0},{"$f":"Feuil4!S190","v":0},{"$f":"Feuil4!T190","v":0},{"$f":"Feuil4!U190","v":0},{"$f":"Feuil4!V190","v":0},{"$f":"Feuil4!W190","v":0},{"$f":"Feuil4!X190","v":0},{"$f":"Feuil4!Y190","v":0},{"$f":"Feuil4!Z190","v":0},{"$f":"Feuil4!AA190","v":0},{"$f":"Feuil4!AB190","v":0},{"$f":"Feuil4!AC190","v":0},{"$f":"Feuil4!AD190","v":0},{"$f":"Feuil4!AE190","v":0},{"$f":"Feuil4!AF190","v":0},{"$f":"Feuil4!AG190","v":0},{"$f":"Feuil4!AH190","v":0},{"$f":"Feuil4!AI190","v":0},{"$f":"Feuil4!AJ190","v":0},{"$f":"Feuil4!AK190","v":0},{"$f":"Feuil4!AL190","v":0},{"$f":"Feuil4!AM190","v":0},{"$f":"Feuil4!AN190","v":"00:00:00"},{"$f":"Feuil4!AO190","v":0}]
[{"$f":"Feuil4!A191","v":0},{"$f":"Feuil4!B191","v":{"$error":"#VALUE!"}},{"$f":"Feuil4!C191","v":0},{"$f":"Feuil4!D191","v":0},{"$f":"Feuil4!E191","v":0},{"$f":"Feuil4!F191","v":0},{"$f":"Feuil4!G191","v":0},{"$f":"Feuil4!H191","v":0},{"$f":"Feuil4!I191","v":0},{"$f":"Feuil4!J191","v":0},{"$f":"Feuil4!K191","v":0},{"$f":"Feuil4!L191","v":0},{"$f":"Feuil4!M191","v":0},{"$f":"Feuil4!N191","v":0},{"$f":"Feuil4!O191","v":0},{"$f":"Feuil4!P191","v":0},{"$f":"Feuil4!Q191","v":0},{"$f":"Feuil4!R191","v":0},{"$f":"Feuil4!S191","v":0},{"$f":"Feuil4!T191","v":0},{"$f":"Feuil4!U191","v":0},{"$f":"Feuil4!V191","v":0},{"$f":"Feuil4!W191","v":0},{"$f":"Feuil4!X191","v":0},{"$f":"Feuil4!Y191","v":0},{"$f":"Feuil4!Z191","v":0},{"$f":"Feuil4!AA191","v":0},{"$f":"Feuil4!AB191","v":0},{"$f":"Feuil4!AC191","v":0},{"$f":"Feuil4!AD191","v":0},{"$f":"Feuil4!AE191","v":0},{"$f":"Feuil4!AF191","v":0},{"$f":"Feuil4!AG191","v":0},{"$f":"Feuil4!AH191","v":0},{"$f":"Feuil4!AI191","v":0},{"$f":"Feuil4!AJ191","v":0},{"$f":"Feuil4!AK191","v":0},{"$f":"Feuil4!AL191","v":0},{"$f":"Feuil4!AM191","v":0},{"$f":"Feuil4!AN191","v":"00:00:00"},{"$f":"Feuil4!AO191","v":0}]
[{"$f":"Feuil4!A192","v":0},{"$f":"Feuil4!B192","v":{"$error":"#VALUE!"}},{"$f":"Feuil4!C192","v":0},{"$f":"Feuil4!D192","v":0},{"$f":"Feuil4!E192","v":0},{"$f":"Feuil4!F192","v":0},{"$f":"Feuil4!G192","v":0},{"$f":"Feuil4!H192","v":0},{"$f":"Feuil4!I192","v":0},{"$f":"Feuil4!J192","v":0},{"$f":"Feuil4!K192","v":0},{"$f":"Feuil4!L192","v":0},{"$f":"Feuil4!M192","v":0},{"$f":"Feuil4!N192","v":0},{"$f":"Feuil4!O192","v":0},{"$f":"Feuil4!P192","v":0},{"$f":"Feuil4!Q192","v":0},{"$f":"Feuil4!R192","v":0},{"$f":"Feuil4!S192","v":0},{"$f":"Feuil4!T192","v":0},{"$f":"Feuil4!U192","v":0},{"$f":"Feuil4!V192","v":0},{"$f":"Feuil4!W192","v":0},{"$f":"Feuil4!X192","v":0},{"$f":"Feuil4!Y192","v":0},{"$f":"Feuil4!Z192","v":0},{"$f":"Feuil4!AA192","v":0},{"$f":"Feuil4!AB192","v":0},{"$f":"Feuil4!AC192","v":0},{"$f":"Feuil4!AD192","v":0},{"$f":"Feuil4!AE192","v":0},{"$f":"Feuil4!AF192","v":0},{"$f":"Feuil4!AG192","v":0},{"$f":"Feuil4!AH192","v":0},{"$f":"Feuil4!AI192","v":0},{"$f":"Feuil4!AJ192","v":0},{"$f":"Feuil4!AK192","v":0},{"$f":"Feuil4!AL192","v":0},{"$f":"Feuil4!AM192","v":0},{"$f":"Feuil4!AN192","v":"00:00:00"},{"$f":"Feuil4!AO192","v":0}]
[{"$f":"Feuil4!A193","v":0},{"$f":"Feuil4!B193","v":{"$error":"#VALUE!"}},{"$f":"Feuil4!C193","v":0},{"$f":"Feuil4!D193","v":0},{"$f":"Feuil4!E193","v":0},{"$f":"Feuil4!F193","v":0},{"$f":"Feuil4!G193","v":0},{"$f":"Feuil4!H193","v":0},{"$f":"Feuil4!I193","v":0},{"$f":"Feuil4!J193","v":0},{"$f":"Feuil4!K193","v":0},{"$f":"Feuil4!L193","v":0},{"$f":"Feuil4!M193","v":0},{"$f":"Feuil4!N193","v":0},{"$f":"Feuil4!O193","v":0},{"$f":"Feuil4!P193","v":0},{"$f":"Feuil4!Q193","v":0},{"$f":"Feuil4!R193","v":0},{"$f":"Feuil4!S193","v":0},{"$f":"Feuil4!T193","v":0},{"$f":"Feuil4!U193","v":0},{"$f":"Feuil4!V193","v":0},{"$f":"Feuil4!W193","v":0},{"$f":"Feuil4!X193","v":0},{"$f":"Feuil4!Y193","v":0},{"$f":"Feuil4!Z193","v":0},{"$f":"Feuil4!AA193","v":0},{"$f":"Feuil4!AB193","v":0},{"$f":"Feuil4!AC193","v":0},{"$f":"Feuil4!AD193","v":0},{"$f":"Feuil4!AE193","v":0},{"$f":"Feuil4!AF193","v":0},{"$f":"Feuil4!AG193","v":0},{"$f":"Feuil4!AH193","v":0},{"$f":"Feuil4!AI193","v":0},{"$f":"Feuil4!AJ193","v":0},{"$f":"Feuil4!AK193","v":0},{"$f":"Feuil4!AL193","v":0},{"$f":"Feuil4!AM193","v":0},{"$f":"Feuil4!AN193","v":"00:00:00"},{"$f":"Feuil4!AO193","v":0}]
[{"$f":"Feuil4!A194","v":0},{"$f":"Feuil4!B194","v":{"$error":"#VALUE!"}},{"$f":"Feuil4!C194","v":0},{"$f":"Feuil4!D194","v":0},{"$f":"Feuil4!E194","v":0},{"$f":"Feuil4!F194","v":0},{"$f":"Feuil4!G194","v":0},{"$f":"Feuil4!H194","v":0},{"$f":"Feuil4!I194","v":0},{"$f":"Feuil4!J194","v":0},{"$f":"Feuil4!K194","v":0},{"$f":"Feuil4!L194","v":0},{"$f":"Feuil4!M194","v":0},{"$f":"Feuil4!N194","v":0},{"$f":"Feuil4!O194","v":0},{"$f":"Feuil4!P194","v":0},{"$f":"Feuil4!Q194","v":0},{"$f":"Feuil4!R194","v":0},{"$f":"Feuil4!S194","v":0},{"$f":"Feuil4!T194","v":0},{"$f":"Feuil4!U194","v":0},{"$f":"Feuil4!V194","v":0},{"$f":"Feuil4!W194","v":0},{"$f":"Feuil4!X194","v":0},{"$f":"Feuil4!Y194","v":0},{"$f":"Feuil4!Z194","v":0},{"$f":"Feuil4!AA194","v":0},{"$f":"Feuil4!AB194","v":0},{"$f":"Feuil4!AC194","v":0},{"$f":"Feuil4!AD194","v":0},{"$f":"Feuil4!AE194","v":0},{"$f":"Feuil4!AF194","v":0},{"$f":"Feuil4!AG194","v":0},{"$f":"Feuil4!AH194","v":0},{"$f":"Feuil4!AI194","v":0},{"$f":"Feuil4!AJ194","v":0},{"$f":"Feuil4!AK194","v":0},{"$f":"Feuil4!AL194","v":0},{"$f":"Feuil4!AM194","v":0},{"$f":"Feuil4!AN194","v":"00:00:00"},{"$f":"Feuil4!AO194","v":0}]
[{"$f":"Feuil4!A195","v":0},{"$f":"Feuil4!B195","v":{"$error":"#VALUE!"}},{"$f":"Feuil4!C195","v":0},{"$f":"Feuil4!D195","v":0},{"$f":"Feuil4!E195","v":0},{"$f":"Feuil4!F195","v":0},{"$f":"Feuil4!G195","v":0},{"$f":"Feuil4!H195","v":0},{"$f":"Feuil4!I195","v":0},{"$f":"Feuil4!J195","v":0},{"$f":"Feuil4!K195","v":0},{"$f":"Feuil4!L195","v":0},{"$f":"Feuil4!M195","v":0},{"$f":"Feuil4!N195","v":0},{"$f":"Feuil4!O195","v":0},{"$f":"Feuil4!P195","v":0},{"$f":"Feuil4!Q195","v":0},{"$f":"Feuil4!R195","v":0},{"$f":"Feuil4!S195","v":0},{"$f":"Feuil4!T195","v":0},{"$f":"Feuil4!U195","v":0},{"$f":"Feuil4!V195","v":0},{"$f":"Feuil4!W195","v":0},{"$f":"Feuil4!X195","v":0},{"$f":"Feuil4!Y195","v":0},{"$f":"Feuil4!Z195","v":0},{"$f":"Feuil4!AA195","v":0},{"$f":"Feuil4!AB195","v":0},{"$f":"Feuil4!AC195","v":0},{"$f":"Feuil4!AD195","v":0},{"$f":"Feuil4!AE195","v":0},{"$f":"Feuil4!AF195","v":0},{"$f":"Feuil4!AG195","v":0},{"$f":"Feuil4!AH195","v":0},{"$f":"Feuil4!AI195","v":0},{"$f":"Feuil4!AJ195","v":0},{"$f":"Feuil4!AK195","v":0},{"$f":"Feuil4!AL195","v":0},{"$f":"Feuil4!AM195","v":0},{"$f":"Feuil4!AN195","v":"00:00:00"},{"$f":"Feuil4!AO195","v":0}]
[{"$f":"Feuil4!A196","v":0},{"$f":"Feuil4!B196","v":{"$error":"#VALUE!"}},{"$f":"Feuil4!C196","v":0},{"$f":"Feuil4!D196","v":0},{"$f":"Feuil4!E196","v":0},{"$f":"Feuil4!F196","v":0},{"$f":"Feuil4!G196","v":0},{"$f":"Feuil4!H196","v":0},{"$f":"Feuil4!I196","v":0},{"$f":"Feuil4!J196","v":0},{"$f":"Feuil4!K196","v":0},{"$f":"Feuil4!L196","v":0},{"$f":"Feuil4!M196","v":0},{"$f":"Feuil4!N196","v":0},{"$f":"Feuil4!O196","v":0},{"$f":"Feuil4!P196","v":0},{"$f":"Feuil4!Q196","v":0},{"$f":"Feuil4!R196","v":0},{"$f":"Feuil4!S196","v":0},{"$f":"Feuil4!T196","v":0},{"$f":"Feuil4!U196","v":0},{"$f":"Feuil4!V196","v":0},{"$f":"Feuil4!W196","v":0},{"$f":"Feuil4!X196","v":0},{"$f":"Feuil4!Y196","v":0},{"$f":"Feuil4!Z196","v":0},{"$f":"Feuil4!AA196","v":0},{"$f":"Feuil4!AB196","v":0},{"$f":"Feuil4!AC196","v":0},{"$f":"Feuil4!AD196","v":0},{"$f":"Feuil4!AE196","v":0},{"$f":"Feuil4!AF196","v":0},{"$f":"Feuil4!AG196","v":0},{"$f":"Feuil4!AH196","v":0},{"$f":"Feuil4!AI196","v":0},{"$f":"Feuil4!AJ196","v":0},{"$f":"Feuil4!AK196","v":0},{"$f":"Feuil4!AL196","v":0},{"$f":"Feuil4!AM196","v":0},{"$f":"Feuil4!AN196","v":"00:00:00"},{"$f":"Feuil4!AO196","v":0}]
[{"$f":"Feuil4!A197","v":0},{"$f":"Feuil4!B197","v":{"$error":"#VALUE!"}},{"$f":"Feuil4!C197","v":0},{"$f":"Feuil4!D197","v":0},{"$f":"Feuil4!E197","v":0},{"$f":"Feuil4!F197","v":0},{"$f":"Feuil4!G197","v":0},{"$f":"Feuil4!H197","v":0},{"$f":"Feuil4!I197","v":0},{"$f":"Feuil4!J197","v":0},{"$f":"Feuil4!K197","v":0},{"$f":"Feuil4!L197","v":0},{"$f":"Feuil4!M197","v":0},{"$f":"Feuil4!N197","v":0},{"$f":"Feuil4!O197","v":0},{"$f":"Feuil4!P197","v":0},{"$f":"Feuil4!Q197","v":0},{"$f":"Feuil4!R197","v":0},{"$f":"Feuil4!S197","v":0},{"$f":"Feuil4!T197","v":0},{"$f":"Feuil4!U197","v":0},{"$f":"Feuil4!V197","v":0},{"$f":"Feuil4!W197","v":0},{"$f":"Feuil4!X197","v":0},{"$f":"Feuil4!Y197","v":0},{"$f":"Feuil4!Z197","v":0},{"$f":"Feuil4!AA197","v":0},{"$f":"Feuil4!AB197","v":0},{"$f":"Feuil4!AC197","v":0},{"$f":"Feuil4!AD197","v":0},{"$f":"Feuil4!AE197","v":0},{"$f":"Feuil4!AF197","v":0},{"$f":"Feuil4!AG197","v":0},{"$f":"Feuil4!AH197","v":0},{"$f":"Feuil4!AI197","v":0},{"$f":"Feuil4!AJ197","v":0},{"$f":"Feuil4!AK197","v":0},{"$f":"Feuil4!AL197","v":0},{"$f":"Feuil4!AM197","v":0},{"$f":"Feuil4!AN197","v":"00:00:00"},{"$f":"Feuil4!AO197","v":0}]
[{"$f":"Feuil4!A198","v":0},{"$f":"Feuil4!B198","v":{"$error":"#VALUE!"}},{"$f":"Feuil4!C198","v":0},{"$f":"Feuil4!D198","v":0},{"$f":"Feuil4!E198","v":0},{"$f":"Feuil4!F198","v":0},{"$f":"Feuil4!G198","v":0},{"$f":"Feuil4!H198","v":0},{"$f":"Feuil4!I198","v":0},{"$f":"Feuil4!J198","v":0},{"$f":"Feuil4!K198","v":0},{"$f":"Feuil4!L198","v":0},{"$f":"Feuil4!M198","v":0},{"$f":"Feuil4!N198","v":0},{"$f":"Feuil4!O198","v":0},{"$f":"Feuil4!P198","v":0},{"$f":"Feuil4!Q198","v":0},{"$f":"Feuil4!R198","v":0},{"$f":"Feuil4!S198","v":0},{"$f":"Feuil4!T198","v":0},{"$f":"Feuil4!U198","v":0},{"$f":"Feuil4!V198","v":0},{"$f":"Feuil4!W198","v":0},{"$f":"Feuil4!X198","v":0},{"$f":"Feuil4!Y198","v":0},{"$f":"Feuil4!Z198","v":0},{"$f":"Feuil4!AA198","v":0},{"$f":"Feuil4!AB198","v":0},{"$f":"Feuil4!AC198","v":0},{"$f":"Feuil4!AD198","v":0},{"$f":"Feuil4!AE198","v":0},{"$f":"Feuil4!AF198","v":0},{"$f":"Feuil4!AG198","v":0},{"$f":"Feuil4!AH198","v":0},{"$f":"Feuil4!AI198","v":0},{"$f":"Feuil4!AJ198","v":0},{"$f":"Feuil4!AK198","v":0},{"$f":"Feuil4!AL198","v":0},{"$f":"Feuil4!AM198","v":0},{"$f":"Feuil4!AN198","v":"00:00:00"},{"$f":"Feuil4!AO198","v":0}]
[{"$f":"Feuil4!A199","v":0},{"$f":"Feuil4!B199","v":{"$error":"#VALUE!"}},{"$f":"Feuil4!C199","v":0},{"$f":"Feuil4!D199","v":0},{"$f":"Feuil4!E199","v":0},{"$f":"Feuil4!F199","v":0},{"$f":"Feuil4!G199","v":0},{"$f":"Feuil4!H199","v":0},{"$f":"Feuil4!I199","v":0},{"$f":"Feuil4!J199","v":0},{"$f":"Feuil4!K199","v":0},{"$f":"Feuil4!L199","v":0},{"$f":"Feuil4!M199","v":0},{"$f":"Feuil4!N199","v":0},{"$f":"Feuil4!O199","v":0},{"$f":"Feuil4!P199","v":0},{"$f":"Feuil4!Q199","v":0},{"$f":"Feuil4!R199","v":0},{"$f":"Feuil4!S199","v":0},{"$f":"Feuil4!T199","v":0},{"$f":"Feuil4!U199","v":0},{"$f":"Feuil4!V199","v":0},{"$f":"Feuil4!W199","v":0},{"$f":"Feuil4!X199","v":0},{"$f":"Feuil4!Y199","v":0},{"$f":"Feuil4!Z199","v":0},{"$f":"Feuil4!AA199","v":0},{"$f":"Feuil4!AB199","v":0},{"$f":"Feuil4!AC199","v":0},{"$f":"Feuil4!AD199","v":0},{"$f":"Feuil4!AE199","v":0},{"$f":"Feuil4!AF199","v":0},{"$f":"Feuil4!AG199","v":0},{"$f":"Feuil4!AH199","v":0},{"$f":"Feuil4!AI199","v":0},{"$f":"Feuil4!AJ199","v":0},{"$f":"Feuil4!AK199","v":0},{"$f":"Feuil4!AL199","v":0},{"$f":"Feuil4!AM199","v":0},{"$f":"Feuil4!AN199","v":"00:00:00"},{"$f":"Feuil4!AO199","v":0}]
[{"$f":"Feuil4!A200","v":0},{"$f":"Feuil4!B200","v":{"$error":"#VALUE!"}},{"$f":"Feuil4!C200","v":0},{"$f":"Feuil4!D200","v":0},{"$f":"Feuil4!E200","v":0},{"$f":"Feuil4!F200","v":0},{"$f":"Feuil4!G200","v":0},{"$f":"Feuil4!H200","v":0},{"$f":"Feuil4!I200","v":0},{"$f":"Feuil4!J200","v":0},{"$f":"Feuil4!K200","v":0},{"$f":"Feuil4!L200","v":0},{"$f":"Feuil4!M200","v":0},{"$f":"Feuil4!N200","v":0},{"$f":"Feuil4!O200","v":0},{"$f":"Feuil4!P200","v":0},{"$f":"Feuil4!Q200","v":0},{"$f":"Feuil4!R200","v":0},{"$f":"Feuil4!S200","v":0},{"$f":"Feuil4!T200","v":0},{"$f":"Feuil4!U200","v":0},{"$f":"Feuil4!V200","v":0},{"$f":"Feuil4!W200","v":0},{"$f":"Feuil4!X200","v":0},{"$f":"Feuil4!Y200","v":0},{"$f":"Feuil4!Z200","v":0},{"$f":"Feuil4!AA200","v":0},{"$f":"Feuil4!AB200","v":0},{"$f":"Feuil4!AC200","v":0},{"$f":"Feuil4!AD200","v":0},{"$f":"Feuil4!AE200","v":0},{"$f":"Feuil4!AF200","v":0},{"$f":"Feuil4!AG200","v":0},{"$f":"Feuil4!AH200","v":0},{"$f":"Feuil4!AI200","v":0},{"$f":"Feuil4!AJ200","v":0},{"$f":"Feuil4!AK200","v":0},{"$f":"Feuil4!AL200","v":0},{"$f":"Feuil4!AM200","v":0},{"$f":"Feuil4!AN200","v":"00:00:00"},{"$f":"Feuil4!AO200","v":0}]
[{"$f":"Feuil4!A201","v":0},{"$f":"Feuil4!B201","v":{"$error":"#VALUE!"}},{"$f":"Feuil4!C201","v":0},{"$f":"Feuil4!D201","v":0},{"$f":"Feuil4!E201","v":0},{"$f":"Feuil4!F201","v":0},{"$f":"Feuil4!G201","v":0},{"$f":"Feuil4!H201","v":0},{"$f":"Feuil4!I201","v":0},{"$f":"Feuil4!J201","v":0},{"$f":"Feuil4!K201","v":0},{"$f":"Feuil4!L201","v":0},{"$f":"Feuil4!M201","v":0},{"$f":"Feuil4!N201","v":0},{"$f":"Feuil4!O201","v":0},{"$f":"Feuil4!P201","v":0},{"$f":"Feuil4!Q201","v":0},{"$f":"Feuil4!R201","v":0},{"$f":"Feuil4!S201","v":0},{"$f":"Feuil4!T201","v":0},{"$f":"Feuil4!U201","v":0},{"$f":"Feuil4!V201","v":0},{"$f":"Feuil4!W201","v":0},{"$f":"Feuil4!X201","v":0},{"$f":"Feuil4!Y201","v":0},{"$f":"Feuil4!Z201","v":0},{"$f":"Feuil4!AA201","v":0},{"$f":"Feuil4!AB201","v":0},{"$f":"Feuil4!AC201","v":0},{"$f":"Feuil4!AD201","v":0},{"$f":"Feuil4!AE201","v":0},{"$f":"Feuil4!AF201","v":0},{"$f":"Feuil4!AG201","v":0},{"$f":"Feuil4!AH201","v":0},{"$f":"Feuil4!AI201","v":0},{"$f":"Feuil4!AJ201","v":0},{"$f":"Feuil4!AK201","v":0},{"$f":"Feuil4!AL201","v":0},{"$f":"Feuil4!AM201","v":0},{"$f":"Feuil4!AN201","v":"00:00:00"},{"$f":"Feuil4!AO201","v":0}]
[{"$f":"Feuil4!A202","v":0},{"$f":"Feuil4!B202","v":{"$error":"#VALUE!"}},{"$f":"Feuil4!C202","v":0},{"$f":"Feuil4!D202","v":0},{"$f":"Feuil4!E202","v":0},{"$f":"Feuil4!F202","v":0},{"$f":"Feuil4!G202","v":0},{"$f":"Feuil4!H202","v":0},{"$f":"Feuil4!I202","v":0},{"$f":"Feuil4!J202","v":0},{"$f":"Feuil4!K202","v":0},{"$f":"Feuil4!L202","v":0},{"$f":"Feuil4!M202","v":0},{"$f":"Feuil4!N202","v":0},{"$f":"Feuil4!O202","v":0},{"$f":"Feuil4!P202","v":0},{"$f":"Feuil4!Q202","v":0},{"$f":"Feuil4!R202","v":0},{"$f":"Feuil4!S202","v":0},{"$f":"Feuil4!T202","v":0},{"$f":"Feuil4!U202","v":0},{"$f":"Feuil4!V202","v":0},{"$f":"Feuil4!W202","v":0},{"$f":"Feuil4!X202","v":0},{"$f":"Feuil4!Y202","v":0},{"$f":"Feuil4!Z202","v":0},{"$f":"Feuil4!AA202","v":0},{"$f":"Feuil4!AB202","v":0},{"$f":"Feuil4!AC202","v":0},{"$f":"Feuil4!AD202","v":0},{"$f":"Feuil4!AE202","v":0},{"$f":"Feuil4!AF202","v":0},{"$f":"Feuil4!AG202","v":0},{"$f":"Feuil4!AH202","v":0},{"$f":"Feuil4!AI202","v":0},{"$f":"Feuil4!AJ202","v":0},{"$f":"Feuil4!AK202","v":0},{"$f":"Feuil4!AL202","v":0},{"$f":"Feuil4!AM202","v":0},{"$f":"Feuil4!AN202","v":"00:00:00"},{"$f":"Feuil4!AO202","v":0}]
[{"$f":"Feuil4!A203","v":0},{"$f":"Feuil4!B203","v":{"$error":"#VALUE!"}},{"$f":"Feuil4!C203","v":0},{"$f":"Feuil4!D203","v":0},{"$f":"Feuil4!E203","v":0},{"$f":"Feuil4!F203","v":0},{"$f":"Feuil4!G203","v":0},{"$f":"Feuil4!H203","v":0},{"$f":"Feuil4!I203","v":0},{"$f":"Feuil4!J203","v":0},{"$f":"Feuil4!K203","v":0},{"$f":"Feuil4!L203","v":0},{"$f":"Feuil4!M203","v":0},{"$f":"Feuil4!N203","v":0},{"$f":"Feuil4!O203","v":0},{"$f":"Feuil4!P203","v":0},{"$f":"Feuil4!Q203","v":0},{"$f":"Feuil4!R203","v":0},{"$f":"Feuil4!S203","v":0},{"$f":"Feuil4!T203","v":0},{"$f":"Feuil4!U203","v":0},{"$f":"Feuil4!V203","v":0},{"$f":"Feuil4!W203","v":0},{"$f":"Feuil4!X203","v":0},{"$f":"Feuil4!Y203","v":0},{"$f":"Feuil4!Z203","v":0},{"$f":"Feuil4!AA203","v":0},{"$f":"Feuil4!AB203","v":0},{"$f":"Feuil4!AC203","v":0},{"$f":"Feuil4!AD203","v":0},{"$f":"Feuil4!AE203","v":0},{"$f":"Feuil4!AF203","v":0},{"$f":"Feuil4!AG203","v":0},{"$f":"Feuil4!AH203","v":0},{"$f":"Feuil4!AI203","v":0},{"$f":"Feuil4!AJ203","v":0},{"$f":"Feuil4!AK203","v":0},{"$f":"Feuil4!AL203","v":0},{"$f":"Feuil4!AM203","v":0},{"$f":"Feuil4!AN203","v":"00:00:00"},{"$f":"Feuil4!AO203","v":0}]
[{"$f":"Feuil4!A204","v":0},{"$f":"Feuil4!B204","v":{"$error":"#VALUE!"}},{"$f":"Feuil4!C204","v":0},{"$f":"Feuil4!D204","v":0},{"$f":"Feuil4!E204","v":0},{"$f":"Feuil4!F204","v":0},{"$f":"Feuil4!G204","v":0},{"$f":"Feuil4!H204","v":0},{"$f":"Feuil4!I204","v":0},{"$f":"Feuil4!J204","v":0},{"$f":"Feuil4!K204","v":0},{"$f":"Feuil4!L204","v":0},{"$f":"Feuil4!M204","v":0},{"$f":"Feuil4!N204","v":0},{"$f":"Feuil4!O204","v":0},{"$f":"Feuil4!P204","v":0},{"$f":"Feuil4!Q204","v":0},{"$f":"Feuil4!R204","v":0},{"$f":"Feuil4!S204","v":0},{"$f":"Feuil4!T204","v":0},{"$f":"Feuil4!U204","v":0},{"$f":"Feuil4!V204","v":0},{"$f":"Feuil4!W204","v":0},{"$f":"Feuil4!X204","v":0},{"$f":"Feuil4!Y204","v":0},{"$f":"Feuil4!Z204","v":0},{"$f":"Feuil4!AA204","v":0},{"$f":"Feuil4!AB204","v":0},{"$f":"Feuil4!AC204","v":0},{"$f":"Feuil4!AD204","v":0},{"$f":"Feuil4!AE204","v":0},{"$f":"Feuil4!AF204","v":0},{"$f":"Feuil4!AG204","v":0},{"$f":"Feuil4!AH204","v":0},{"$f":"Feuil4!AI204","v":0},{"$f":"Feuil4!AJ204","v":0},{"$f":"Feuil4!AK204","v":0},{"$f":"Feuil4!AL204","v":0},{"$f":"Feuil4!AM204","v":0},{"$f":"Feuil4!AN204","v":"00:00:00"},{"$f":"Feuil4!AO204","v":0}]
[{"$f":"Feuil4!A205","v":0},{"$f":"Feuil4!B205","v":{"$error":"#VALUE!"}},{"$f":"Feuil4!C205","v":0},{"$f":"Feuil4!D205","v":0},{"$f":"Feuil4!E205","v":0},{"$f":"Feuil4!F205","v":0},{"$f":"Feuil4!G205","v":0},{"$f":"Feuil4!H205","v":0},{"$f":"Feuil4!I205","v":0},{"$f":"Feuil4!J205","v":0},{"$f":"Feuil4!K205","v":0},{"$f":"Feuil4!L205","v":0},{"$f":"Feuil4!M205","v":0},{"$f":"Feuil4!N205","v":0},{"$f":"Feuil4!O205","v":0},{"$f":"Feuil4!P205","v":0},{"$f":"Feuil4!Q205","v":0},{"$f":"Feuil4!R205","v":0},{"$f":"Feuil4!S205","v":0},{"$f":"Feuil4!T205","v":0},{"$f":"Feuil4!U205","v":0},{"$f":"Feuil4!V205","v":0},{"$f":"Feuil4!W205","v":0},{"$f":"Feuil4!X205","v":0},{"$f":"Feuil4!Y205","v":0},{"$f":"Feuil4!Z205","v":0},{"$f":"Feuil4!AA205","v":0},{"$f":"Feuil4!AB205","v":0},{"$f":"Feuil4!AC205","v":0},{"$f":"Feuil4!AD205","v":0},{"$f":"Feuil4!AE205","v":0},{"$f":"Feuil4!AF205","v":0},{"$f":"Feuil4!AG205","v":0},{"$f":"Feuil4!AH205","v":0},{"$f":"Feuil4!AI205","v":0},{"$f":"Feuil4!AJ205","v":0},{"$f":"Feuil4!AK205","v":0},{"$f":"Feuil4!AL205","v":0},{"$f":"Feuil4!AM205","v":0},{"$f":"Feuil4!AN205","v":"00:00:00"},{"$f":"Feuil4!AO205","v":0}]
[{"$f":"Feuil4!A206","v":0},{"$f":"Feuil4!B206","v":{"$error":"#VALUE!"}},{"$f":"Feuil4!C206","v":0},{"$f":"Feuil4!D206","v":0},{"$f":"Feuil4!E206","v":0},{"$f":"Feuil4!F206","v":0},{"$f":"Feuil4!G206","v":0},{"$f":"Feuil4!H206","v":0},{"$f":"Feuil4!I206","v":0},{"$f":"Feuil4!J206","v":0},{"$f":"Feuil4!K206","v":0},{"$f":"Feuil4!L206","v":0},{"$f":"Feuil4!M206","v":0},{"$f":"Feuil4!N206","v":0},{"$f":"Feuil4!O206","v":0},{"$f":"Feuil4!P206","v":0},{"$f":"Feuil4!Q206","v":0},{"$f":"Feuil4!R206","v":0},{"$f":"Feuil4!S206","v":0},{"$f":"Feuil4!T206","v":0},{"$f":"Feuil4!U206","v":0},{"$f":"Feuil4!V206","v":0},{"$f":"Feuil4!W206","v":0},{"$f":"Feuil4!X206","v":0},{"$f":"Feuil4!Y206","v":0},{"$f":"Feuil4!Z206","v":0},{"$f":"Feuil4!AA206","v":0},{"$f":"Feuil4!AB206","v":0},{"$f":"Feuil4!AC206","v":0},{"$f":"Feuil4!AD206","v":0},{"$f":"Feuil4!AE206","v":0},{"$f":"Feuil4!AF206","v":0},{"$f":"Feuil4!AG206","v":0},{"$f":"Feuil4!AH206","v":0},{"$f":"Feuil4!AI206","v":0},{"$f":"Feuil4!AJ206","v":0},{"$f":"Feuil4!AK206","v":0},{"$f":"Feuil4!AL206","v":0},{"$f":"Feuil4!AM206","v":0},{"$f":"Feuil4!AN206","v":"00:00:00"},{"$f":"Feuil4!AO206","v":0}]
[{"$f":"Feuil4!A207","v":0},{"$f":"Feuil4!B207","v":{"$error":"#VALUE!"}},{"$f":"Feuil4!C207","v":0},{"$f":"Feuil4!D207","v":0},{"$f":"Feuil4!E207","v":0},{"$f":"Feuil4!F207","v":0},{"$f":"Feuil4!G207","v":0},{"$f":"Feuil4!H207","v":0},{"$f":"Feuil4!I207","v":0},{"$f":"Feuil4!J207","v":0},{"$f":"Feuil4!K207","v":0},{"$f":"Feuil4!L207","v":0},{"$f":"Feuil4!M207","v":0},{"$f":"Feuil4!N207","v":0},{"$f":"Feuil4!O207","v":0},{"$f":"Feuil4!P207","v":0},{"$f":"Feuil4!Q207","v":0},{"$f":"Feuil4!R207","v":0},{"$f":"Feuil4!S207","v":0},{"$f":"Feuil4!T207","v":0},{"$f":"Feuil4!U207","v":0},{"$f":"Feuil4!V207","v":0},{"$f":"Feuil4!W207","v":0},{"$f":"Feuil4!X207","v":0},{"$f":"Feuil4!Y207","v":0},{"$f":"Feuil4!Z207","v":0},{"$f":"Feuil4!AA207","v":0},{"$f":"Feuil4!AB207","v":0},{"$f":"Feuil4!AC207","v":0},{"$f":"Feuil4!AD207","v":0},{"$f":"Feuil4!AE207","v":0},{"$f":"Feuil4!AF207","v":0},{"$f":"Feuil4!AG207","v":0},{"$f":"Feuil4!AH207","v":0},{"$f":"Feuil4!AI207","v":0},{"$f":"Feuil4!AJ207","v":0},{"$f":"Feuil4!AK207","v":0},{"$f":"Feuil4!AL207","v":0},{"$f":"Feuil4!AM207","v":0},{"$f":"Feuil4!AN207","v":"00:00:00"},{"$f":"Feuil4!AO207","v":0}]
[{"$f":"Feuil4!A208","v":0},{"$f":"Feuil4!B208","v":{"$error":"#VALUE!"}},{"$f":"Feuil4!C208","v":0},{"$f":"Feuil4!D208","v":0},{"$f":"Feuil4!E208","v":0},{"$f":"Feuil4!F208","v":0},{"$f":"Feuil4!G208","v":0},{"$f":"Feuil4!H208","v":0},{"$f":"Feuil4!I208","v":0},{"$f":"Feuil4!J208","v":0},{"$f":"Feuil4!K208","v":0},{"$f":"Feuil4!L208","v":0},{"$f":"Feuil4!M208","v":0},{"$f":"Feuil4!N208","v":0},{"$f":"Feuil4!O208","v":0},{"$f":"Feuil4!P208","v":0},{"$f":"Feuil4!Q208","v":0},{"$f":"Feuil4!R208","v":0},{"$f":"Feuil4!S208","v":0},{"$f":"Feuil4!T208","v":0},{"$f":"Feuil4!U208","v":0},{"$f":"Feuil4!V208","v":0},{"$f":"Feuil4!W208","v":0},{"$f":"Feuil4!X208","v":0},{"$f":"Feuil4!Y208","v":0},{"$f":"Feuil4!Z208","v":0},{"$f":"Feuil4!AA208","v":0},{"$f":"Feuil4!AB208","v":0},{"$f":"Feuil4!AC208","v":0},{"$f":"Feuil4!AD208","v":0},{"$f":"Feuil4!AE208","v":0},{"$f":"Feuil4!AF208","v":0},{"$f":"Feuil4!AG208","v":0},{"$f":"Feuil4!AH208","v":0},{"$f":"Feuil4!AI208","v":0},{"$f":"Feuil4!AJ208","v":0},{"$f":"Feuil4!AK208","v":0},{"$f":"Feuil4!AL208","v":0},{"$f":"Feuil4!AM208","v":0},{"$f":"Feuil4!AN208","v":"00:00:00"},{"$f":"Feuil4!AO208","v":0}]
[{"$f":"Feuil4!A209","v":0},{"$f":"Feuil4!B209","v":{"$error":"#VALUE!"}},{"$f":"Feuil4!C209","v":0},{"$f":"Feuil4!D209","v":0},{"$f":"Feuil4!E209","v":0},{"$f":"Feuil4!F209","v":0},{"$f":"Feuil4!G209","v":0},{"$f":"Feuil4!H209","v":0},{"$f":"Feuil4!I209","v":0},{"$f":"Feuil4!J209","v":0},{"$f":"Feuil4!K209","v":0},{"$f":"Feuil4!L209","v":0},{"$f":"Feuil4!M209","v":0},{"$f":"Feuil4!N209","v":0},{"$f":"Feuil4!O209","v":0},{"$f":"Feuil4!P209","v":0},{"$f":"Feuil4!Q209","v":0},{"$f":"Feuil4!R209","v":0},{"$f":"Feuil4!S209","v":0},{"$f":"Feuil4!T209","v":0},{"$f":"Feuil4!U209","v":0},{"$f":"Feuil4!V209","v":0},{"$f":"Feuil4!W209","v":0},{"$f":"Feuil4!X209","v":0},{"$f":"Feuil4!Y209","v":0},{"$f":"Feuil4!Z209","v":0},{"$f":"Feuil4!AA209","v":0},{"$f":"Feuil4!AB209","v":0},{"$f":"Feuil4!AC209","v":0},{"$f":"Feuil4!AD209","v":0},{"$f":"Feuil4!AE209","v":0},{"$f":"Feuil4!AF209","v":0},{"$f":"Feuil4!AG209","v":0},{"$f":"Feuil4!AH209","v":0},{"$f":"Feuil4!AI209","v":0},{"$f":"Feuil4!AJ209","v":0},{"$f":"Feuil4!AK209","v":0},{"$f":"Feuil4!AL209","v":0},{"$f":"Feuil4!AM209","v":0},{"$f":"Feuil4!AN209","v":"00:00:00"},{"$f":"Feuil4!AO209","v":0}]
[{"$f":"Feuil4!A210","v":0},{"$f":"Feuil4!B210","v":{"$error":"#VALUE!"}},{"$f":"Feuil4!C210","v":0},{"$f":"Feuil4!D210","v":0},{"$f":"Feuil4!E210","v":0},{"$f":"Feuil4!F210","v":0},{"$f":"Feuil4!G210","v":0},{"$f":"Feuil4!H210","v":0},{"$f":"Feuil4!I210","v":0},{"$f":"Feuil4!J210","v":0},{"$f":"Feuil4!K210","v":0},{"$f":"Feuil4!L210","v":0},{"$f":"Feuil4!M210","v":0},{"$f":"Feuil4!N210","v":0},{"$f":"Feuil4!O210","v":0},{"$f":"Feuil4!P210","v":0},{"$f":"Feuil4!Q210","v":0},{"$f":"Feuil4!R210","v":0},{"$f":"Feuil4!S210","v":0},{"$f":"Feuil4!T210","v":0},{"$f":"Feuil4!U210","v":0},{"$f":"Feuil4!V210","v":0},{"$f":"Feuil4!W210","v":0},{"$f":"Feuil4!X210","v":0},{"$f":"Feuil4!Y210","v":0},{"$f":"Feuil4!Z210","v":0},{"$f":"Feuil4!AA210","v":0},{"$f":"Feuil4!AB210","v":0},{"$f":"Feuil4!AC210","v":0},{"$f":"Feuil4!AD210","v":0},{"$f":"Feuil4!AE210","v":0},{"$f":"Feuil4!AF210","v":0},{"$f":"Feuil4!AG210","v":0},{"$f":"Feuil4!AH210","v":0},{"$f":"Feuil4!AI210","v":0},{"$f":"Feuil4!AJ210","v":0},{"$f":"Feuil4!AK210","v":0},{"$f":"Feuil4!AL210","v":0},{"$f":"Feuil4!AM210","v":0},{"$f":"Feuil4!AN210","v":"00:00:00"},{"$f":"Feuil4!AO210","v":0}]